BEGIN:VCALENDAR
VERSION:2.0
PRODID:-//Humallahden Venekerho - ECPv6.15.20//NONSGML v1.0//EN
CALSCALE:GREGORIAN
METHOD:PUBLISH
X-ORIGINAL-URL:https://hooveekoo.fi
X-WR-CALDESC:Tapahtumat Humallahden Venekerho
REFRESH-INTERVAL;VALUE=DURATION:PT1H
X-Robots-Tag:noindex
X-PUBLISHED-TTL:PT1H
BEGIN:VTIMEZONE
TZID:Europe/Helsinki
BEGIN:DAYLIGHT
TZOFFSETFROM:+0200
TZOFFSETTO:+0300
TZNAME:EEST
DTSTART:20210328T010000
END:DAYLIGHT
BEGIN:STANDARD
TZOFFSETFROM:+0300
TZOFFSETTO:+0200
TZNAME:EET
DTSTART:20211031T010000
END:STANDARD
BEGIN:DAYLIGHT
TZOFFSETFROM:+0200
TZOFFSETTO:+0300
TZNAME:EEST
DTSTART:20220327T010000
END:DAYLIGHT
BEGIN:STANDARD
TZOFFSETFROM:+0300
TZOFFSETTO:+0200
TZNAME:EET
DTSTART:20221030T010000
END:STANDARD
BEGIN:DAYLIGHT
TZOFFSETFROM:+0200
TZOFFSETTO:+0300
TZNAME:EEST
DTSTART:20230326T010000
END:DAYLIGHT
BEGIN:STANDARD
TZOFFSETFROM:+0300
TZOFFSETTO:+0200
TZNAME:EET
DTSTART:20231029T010000
END:STANDARD
END:VTIMEZONE
BEGIN:VEVENT
DTSTART;TZID=Europe/Helsinki:20220202T180000
DTEND;TZID=Europe/Helsinki:20220202T220000
DTSTAMP:20260420T205811
CREATED:20211208T084839Z
LAST-MODIFIED:20220202T111641Z
UID:104383-1643824800-1643839200@hooveekoo.fi
SUMMARY:PERUTTU! Käytännön VHF/DSC-kertausharjoitus (LÄHIKOULUTUS)
DESCRIPTION:Kohderyhmä: Tämä kertausharjoitus on tarkoitettu SRC:n (Short Range Certificate) tai vanhemman VHF-rajoitetun radioaseman hoitajan pätevyystodistuksen omaaville veneilijöille\, jotka haluavat päivittää ja kerrata osaamistaan sekä osallistua käytännön harjoitukseen. (Jos sinulla ei ole henkilökohtaista pätevyystodistusta ja tarvitset sellaista\, katso Rannikkolaivurin radiotutkintoon (SRC) tähtäävä valmennus.)\nEsitiedot: SRC (Short Range Certificate) tai vanhempi VHF-rajoitetun radioaseman hoitajan pätevyystodistus. Ennen harjoitusta olisi myös hyvä kerrata VHF-radion perustoiminnot ja radioaakkoset.\nTavoite:  VHF/DSC takaisin haltuun ja aktiivikäyttöön. Osaan soittaa kaverille veneeseen DSC:llä. Osaan tarvittaessa käyttää VHF/DSC-puhelinta hätätilanteessa.\nKurssin sisältö:\n 	Merenkulun kansainvälinen hätä- ja turvallisuusjärjestelmä GMDSS (Global Maritime Distress and Safety System)\n 	Radioliikennekäytännöt\n 	Käytännön harjoitus pienryhmissä SPV:n koulutusasemalla ja  kannettavilla meri-VHF-puhelimilla\n 	Harjoituksen purkukeskustelu\nAiheeseen liittyvää materiaalia:\n 	Rannikkolaivurin radioliikenneopas \n 	Mika Piironen\, Meri-VHF-radiopuhelin\, Suomen Navigoinnin Opettajat\, 2018.\n 	eGMDSS-sivusto (Hyödyllistä ilmaista luettavaa ja maksullinen VHF/DSC-simulaattori.  Teksteissä ja testeissä on huomattu kuitenkin olevan jonkin verran pieniä virheitä.)\n 	VHF/DSC-puhelin korvaa pyroteknisiä hätäilmoitusvälineitä huvivenekatsastuksessa\n 	Hätäliikenneohje fi\, eng\n 	Aiheettoman hätähälytyksen peruutustoimenpiteet fi\, eng\n 	Toimenpidekaavio hätätilanteessa fi\, eng\n 	Ohje VHF/DSC-puhelimen testaamisesta\nOta koulutukseen mukaan: Rannikkolaivurin radioliikenneopas ja muistiinpanovälineet. (Tähän harjoitukseen ei voi tuoda oman veneen VHF-puhelinta tai omaa kannettavaa VHF-puhelinta\, koska niiden lupaehdot eivät salli käyttöä maissa.)\nKouluttaja: Jukka Wallinheimo (HVK). Jukka on sähkötekniikan diplomi-insinööri\, radioamatööri ja veneilyn harrastaja. Jukka on SPV:n VHF/DSC-kouluttaja\, huvivenekatsastaja ja opettaa myös Veneen sähköt -koulutuksessa.\nLisätietoja: Jukka Wallinheimo\, jukka.wallinheimo (at) kolumbus.fi\nOsallistujamäärä: 5 – 12. (Listalla sijat >12 ovat jonossa mahdollisille peruutuspaikoille.)\nIlmoittautuminen: \nKurssi on peruttu koronapandemiatilanteen takia.\nTilaisuuteen osallistuminen edellyttää koronapassia. Huolehdimme riittävästä väljyydestä\, käsihygieniasta ja käytämme kasvomaskeja koulutuksessa. Ilmoittumalla sitoudut tähän.\nKurssin luonteesta johtuen se pidetään vain\, jos olosuhteet yleensäkin sallivat lähiopetuksen  Katso tarkemmin Paven koronaohjeet.\nJos muutat mielesi osallistumisesta\, ilmoita mahdollisimman pian emaililla Jukalle\, koska kurssille saatetaan jonottaa.\nIlmoittautuneet:\nJonotuslista:\n \n 
URL:https://hooveekoo.fi/event/kaytannon-vhf-dsc-kertausharjoitus-lahikoulutus-2/
LOCATION:Humallahden Venekerho\, Rajasaarenpenger 6\, Helsinki\, Finland
CATEGORIES:koulutukset
ATTACH;FMTTYPE=image/png:https://hooveekoo.fi/wp-content/uploads/taynna-DaNM37.tmp_.png
END:VEVENT
BEGIN:VEVENT
DTSTART;TZID=Europe/Helsinki:20220203T180000
DTEND;TZID=Europe/Helsinki:20220203T220000
DTSTAMP:20260420T205811
CREATED:20211208T084840Z
LAST-MODIFIED:20220203T111635Z
UID:104385-1643911200-1643925600@hooveekoo.fi
SUMMARY:PERUTTU! VHF-radiolaitteiston tekniikkaa ja tarkistaminen mittaamalla (LÄHIKOULUTUS)
DESCRIPTION:Kohderyhmä: Koulutus on suunnattu veneilijöille\, jotka haluavat hieman syvemmin ymmärtää radiojärjestelmän siirtojohtojen ja antennien toimintaa\, sekä oppia tarkistamaan laitteiston kunto.\nEsitiedot: SRC (Short Range Certificate) tai vanhempi VHF-rajoitetun radioaseman hoitajan pätevyystodistus. (Jos sinulla ei ole henkilökohtaista pätevyystodistusta ja tarvitset sellaista\, katso Rannikkolaivurin radiotutkintoon (SRC) tähtäävä valmennus.)\nTavoite: Kurssin tavoitteena on oppia tarkistamaan meri-VHF-puhelinlaitteisto visuaalisesti ja mittaamalla\, sekä korjaamaan puutteita. Kurssilla tutustutaan myös mittauksessa tarvittaviin erilaisiin välineisiin käytännössä.\nKurssin sisältö:\n 	Hyvä asennustapa ja vuosittaiset huoltotoimenpiteet\n 	Radioaaltojen eteneminen\n 	Radiolaitteen siirtojohdot ja antennit\n 	Heijastuminen ja seisovan aallon suhde (SWR)\n 	Visuaalinen tarkistus\n 	SWR-mittaus\n 	Mittausharjoituksia SWR-mittarilla ja antennianalysaattorilla.\nAiheeseen liittyvää materiaalia:\n 	Rannikkolaivurin radioliikenneopas \n 	Hätäliikenneohje fi\, eng\n 	Aiheettoman hätähälytyksen peruutustoimenpiteet fi\, eng\n 	Toimenpidekaavio hätätilanteessa fi\, eng\n 	Ohje VHF/DSC-puhelimen testaamisesta\nOta koulutukseen mukaan: Muistiinpanovälineet. Voit myös tuoda VHF-antennin mittausharjoitukseen.\nKouluttaja: Jukka Wallinheimo (HVK). Jukka on sähkötekniikan diplomi-insinööri\, radioamatööri ja veneilyn harrastaja. Jukka on SPV:n VHF/DSC-kouluttaja\, huvivenekatsastaja ja opettaa myös Veneen sähköt -koulutuksessa.\nLisätietoja: Jukka Wallinheimo\, jukka.wallinheimo (at) kolumbus.fi\nOsallistujamäärä: 5 – 12. (Listalla sijat >12 ovat jonossa mahdollisille peruutuspaikoille.)\nIlmoittautuminen: \nKurssi on peruttu koronapandemian takia.\nTilaisuuteen osallistuminen edellyttää koronapassia. Huolehdimme riittävästä väljyydestä\, käsihygieniasta ja käytämme kasvomaskeja koulutuksessa. Ilmoittumalla sitoudut tähän.\nKurssin luonteesta johtuen se pidetään vain\, jos olosuhteet yleensäkin sallivat lähiopetuksen  Katso tarkemmin Paven koronaohjeet.\nJos muutat mielesi osallistumisesta\, ilmoita mahdollisimman pian emaililla Jukalle\, koska kurssille saatetaan jonottaa.\nIlmoittautuneet:\nJonotuslista:\n 
URL:https://hooveekoo.fi/event/vhf-radiolaitteiston-tekniikkaa-ja-tarkistaminen-mittaamalla-lahikoulutus-2/
LOCATION:Humallahden Venekerho\, Rajasaarenpenger 6\, Helsinki\, Finland
CATEGORIES:koulutukset
ATTACH;FMTTYPE=image/png:https://hooveekoo.fi/wp-content/uploads/taynna-DaNM37.tmp_.png
END:VEVENT
BEGIN:VEVENT
DTSTART;TZID=Europe/Helsinki:20220209T180000
DTEND;TZID=Europe/Helsinki:20220209T203000
DTSTAMP:20260420T205811
CREATED:20211208T084909Z
LAST-MODIFIED:20220209T115019Z
UID:104387-1644429600-1644438600@hooveekoo.fi
SUMMARY:Maritime safety and places to visit with your boat in Helsinki region (WEBINAR)
DESCRIPTION:The event is targeted to sailors and boaters in the Helsinki region who are new members in Pave member clubs\,  but also to those who do not belong to any yacht club or boating club yet\, or who are considering starting a new hobby. The webinar is free of charge and open to everyone\, but\, you need to register in advance.\nWe will focus on safety at sea and present some interesting marinas and natural harbors within 30 miles from Helsinki to visit.\nAgenda:\n 	Pleasure boating and sailing in Finland\n 	Seamanship and what is required by the law\n 	Finnish Sailing and Boating Federation (SPV) & clubs\n 	Pleasure craft inspection (katsastus) and how to prepare for it\n 	Trossi service\n 	Examples of different types of destinations within 30 NM from Helsinki\n 	commercial marinas\n 	museums and restaurants with access by own boat\n 	harbours in municipal outdoor areas\n 	natural harbours in true wilderness with everybody’s rights (and limitations)\n 	Where to find more information\n 	Q&A\nLanguage: This event is in English.\nInstructors: Elena Saltikoff (KoPu) and Jukka Wallinheimo (HVK). Elena has been learning to sail for 12 years\, spends around 50 days a year at sea and has fallen to water only twice. Jukka Wallinheimo has been boating since he was a toddler. He is a member of the boating safety committee in the Finnish Sailing and Boating Federation and pleasure craft inspector. Jukka also educates boaters in marine electrical systems and radio communication.\nAdditional information: Elena Saltikoff\, elena.saltikoff (at) gmail.com\nNumber of participants: 5 – 50\nRegistration: Registration has been closed and Teams link has been emailed to all participants.\nList of participants:\nQueue:\nPajalahti Boating School (Pave) pages in English by google translator: click here\n 
URL:https://hooveekoo.fi/event/maritime-safety-and-places-to-visit-with-your-boat-in-helsinki-region-webinar/
LOCATION:Etäkoulutus\, -\, -\, Finland
CATEGORIES:koulutukset
ATTACH;FMTTYPE=image/jpeg:https://hooveekoo.fi/wp-content/uploads/IMG_4853-scaled-ZSUZZU.tmp_.jpg
END:VEVENT
BEGIN:VEVENT
DTSTART;TZID=Europe/Helsinki:20220226T100000
DTEND;TZID=Europe/Helsinki:20220226T170000
DTSTAMP:20260420T205811
CREATED:20211208T084912Z
LAST-MODIFIED:20220226T121910Z
UID:104389-1645869600-1645894800@hooveekoo.fi
SUMMARY:Matkaveneilyn valmennuskurssi (ETÄKOULUTUS)
DESCRIPTION:Marinerit ry toteuttaa perinteisen matkaveneilyn valmennuskurssinsa vuonna 2022 yhteistyössä Paven kanssa. Kurssi kuuluu Paven koulutusohjelmaan\, mutta kurssin sisällön tuottaa matkamoottoriveneilijöiden yhdistys Marinerit ry.\nTavoite: Kurssin tavoitteena on antaa valmiuksia toteuttaa normaalia lomaveneilyä merkittävästi pitempi ja merkittävää sitoutumista vaativa venematka.  Opetuksessa esimerkkimatkana käytetään matkaa moottoriveneellä Suomesta Itämeren eteläosiin. Kurssista on hyötyä myös yleisessä ja vähempienkin venematkojen suunnittelussa ja toteutuksessa.\nSisältö: Kurssilla käsitellään niitä asioita\, joita varten ei ole olemassa veneilyn yleisosaamista käsitteleviä kursseja kuten esimerkiksi navigaatio- tai veneenkuljettajakurssit. Matkalle lähtevän tulee luonnollisesti myös omata kokemusta ja taitoja veneen käyttämisessä.\nKohderyhmä: Kurssi on tarkoitettu koko miehistölle sukupuolesta riippumatta – ei ainoastaan veneen päällikölle. Myös juniorit ovat tervetulleita mukaan. Kurssilla käsitellään matkalle varustautumisen sekä veneen tekniikan ja käytön lisäksi mm. veneessä elämistä\, psyykkisiä tekijöitä\, muonitus- ja terveysnäkökohtia sekä vieraassa veneily-ympäristössä toimimista. Kurssi soveltuu purje- ja moottoriveneilijälle.\nValmistautuminen etäkoulutukseen: Koulutus toteutetaan Teams-palvelun kautta. Kouluttaja lähettää linkin sähköpostilla osallistujille. Asenna tietokoneellesi Teams-applikaatio tai käytä sitä webbiselaimella lähetetyllä linkillä. Kurssilla esitetään paljon kuvia. Näistä saat enemmän irti\, jos voit katsoa niitä suurelta ruudulta.\nKouluttaja: Klaus Salkola (m/y Ohta). Klaus on tunnettu marineri ja matkaveneilijä\, vene- ja laivatekniikan asiantuntija ja insinöörikomentaja evp.\nOsallistujamäärä: 5 – 43 (Listalla sijat >43 ovat jonossa mahdollisille peruutuspaikoille.)\nLisätietoja: Klaus Salkola\, klaus (at) salkola.eu\nIlmoittautuminen:\nKurssi on täynnä 13.12 klo 15:45. Ilmoittautuminen on suljettu. Ohjeet ja Teams-linkki on lähetetty osallistujille.\nKurssi on avoin kaikille kiinnostuneille\, mutta vaatii sitovan ilmoittautumisen. Osallistua voi siis myös Paven jäsenseuraan kuulumaton ilmoittautumalla listalle Marinereiden kutsumana. Ilmoittelethan hyvissä ajoin Klasulle sähköpostilla\, jos muutat mielesi ja haluat peruttaa ilmoittautumisesi\, koska tällöin voimme tarjota paikkaa sitä mahdollisesti jonottavalle.\nIlmoittautuneet:\nJonotuslista:\nOsallistuitko kurssille – anna kiitos palautetta!
URL:https://hooveekoo.fi/event/matkaveneilyn-valmennuskurssi-etakoulutus/
LOCATION:Etäkoulutus\, -\, -\, Finland
CATEGORIES:koulutukset
ATTACH;FMTTYPE=image/png:https://hooveekoo.fi/wp-content/uploads/taynna-DaNM37.tmp_.png
END:VEVENT
END:VCALENDAR