BEGIN:VCALENDAR
VERSION:2.0
PRODID:-//Humallahden Venekerho - ECPv6.15.20//NONSGML v1.0//EN
CALSCALE:GREGORIAN
METHOD:PUBLISH
X-ORIGINAL-URL:https://hooveekoo.fi
X-WR-CALDESC:Tapahtumat Humallahden Venekerho
REFRESH-INTERVAL;VALUE=DURATION:PT1H
X-Robots-Tag:noindex
X-PUBLISHED-TTL:PT1H
BEGIN:VTIMEZONE
TZID:Europe/Helsinki
BEGIN:DAYLIGHT
TZOFFSETFROM:+0200
TZOFFSETTO:+0300
TZNAME:EEST
DTSTART:20210328T010000
END:DAYLIGHT
BEGIN:STANDARD
TZOFFSETFROM:+0300
TZOFFSETTO:+0200
TZNAME:EET
DTSTART:20211031T010000
END:STANDARD
BEGIN:DAYLIGHT
TZOFFSETFROM:+0200
TZOFFSETTO:+0300
TZNAME:EEST
DTSTART:20220327T010000
END:DAYLIGHT
BEGIN:STANDARD
TZOFFSETFROM:+0300
TZOFFSETTO:+0200
TZNAME:EET
DTSTART:20221030T010000
END:STANDARD
BEGIN:DAYLIGHT
TZOFFSETFROM:+0200
TZOFFSETTO:+0300
TZNAME:EEST
DTSTART:20230326T010000
END:DAYLIGHT
BEGIN:STANDARD
TZOFFSETFROM:+0300
TZOFFSETTO:+0200
TZNAME:EET
DTSTART:20231029T010000
END:STANDARD
END:VTIMEZONE
BEGIN:VEVENT
DTSTART;TZID=Europe/Helsinki:20220912T180000
DTEND;TZID=Europe/Helsinki:20220912T200000
DTSTAMP:20260420T121034
CREATED:20220224T133349Z
LAST-MODIFIED:20220912T084916Z
UID:105831-1663005600-1663012800@hooveekoo.fi
SUMMARY:Hallituksen kokous
DESCRIPTION:
URL:https://hooveekoo.fi/event/hallituksen-kokous-58/
CATEGORIES:hallituksen kokoukset
END:VEVENT
BEGIN:VEVENT
DTSTART;TZID=Europe/Helsinki:20220917T180000
DTEND;TZID=Europe/Helsinki:20220917T210000
DTSTAMP:20260420T121034
CREATED:20220811T183127Z
LAST-MODIFIED:20220917T103252Z
UID:111112-1663437600-1663448400@hooveekoo.fi
SUMMARY:Nyyttärit Hästö
DESCRIPTION:
URL:https://hooveekoo.fi/event/nyyttarit-hasto/
END:VEVENT
BEGIN:VEVENT
DTSTART;TZID=Europe/Helsinki:20220928T183000
DTEND;TZID=Europe/Helsinki:20220928T200000
DTSTAMP:20260420T121034
CREATED:20220906T074805Z
LAST-MODIFIED:20220928T090203Z
UID:111559-1664389800-1664395200@hooveekoo.fi
SUMMARY:Oletko kiinnostunut kansainvälisen huviveeneenkuljettajankirjan hankkimisesta? (LÄHI- JA ETÄKOULUTUS)
DESCRIPTION:Tilaisuudessa kerrotaan veneilijöille SPV:n koulutusväylästä ja koulutuspolusta kansainvälisen huviveneenkuljettajankirjan (ICC) saamiseksi.\nSisältö:\n 	SPV:n koulutusväylä\n 	Veneilijäkurssin ja venepäällikkökurssin sisällöt\n 	Osaamisvaatimukset ICC:n saamiseksi\n 	Tietoa siitä\, miten voin edetä ICC:n saamiseksi\n 	Kysymyksiä ja vastauksia\nKouluttaja: Jori Kosonen\, veneilykouluttaja ja katsastaja (SPV\, HVK)\, vuokraveneen- ja huvuveneenkuljettajakirja (Traficom).\nLisätietoja: Jori Kosonen\, kosojori@gmail.com\nTilaisuus on ilmainen ja se järjestetään lähitilaisuutena HVK:lla sekä etänä Teamssilla. Kouluttaja lähettää Teams-linkin ilmoittautuneille.\nIlmoittautuminen: Ilmoittautuminen on päättynyt.\nIlmoittautuneet: /50\, joista lähikolutuksena  ja etäkoulutuksena .\nJonotuslista:\nOsallistuitko tilaisuuteen\, annahan palautetta kouluttajalle:\n 
URL:https://hooveekoo.fi/event/oletko-kiinnostunut-kansainvalisen-huviveeneenkuljettajankirjan-hankkimisesta-lahi-ja-etakoulutus/
LOCATION:Humallahden Venekerho\, Rajasaarenpenger 6\, Helsinki\, Suomi
CATEGORIES:koulutukset
ATTACH;FMTTYPE=image/png:https://hooveekoo.fi/wp-content/uploads/Screen-Shot-11-22-21-at-11.44-PM-Z0EZmc.tmp_.png
END:VEVENT
BEGIN:VEVENT
DTSTART;TZID=Europe/Helsinki:20220929T180000
DTEND;TZID=Europe/Helsinki:20220929T210000
DTSTAMP:20260420T121034
CREATED:20220906T074806Z
LAST-MODIFIED:20220929T090144Z
UID:111560-1664474400-1664485200@hooveekoo.fi
SUMMARY:Patjaston uusiminen veneeseen (LÄHIKOULUTUS)
DESCRIPTION:Kohderyhmä:  Kohderyhmänä ovat kaikki veneilijät\, joita kiinnostaa veneen patjojen uusiminen joko itse tai tilaustyönä.\nTavoite:\n 	Oppia eri patjamateriaalien plussista ja miinuksista\n 	Oppia venepatjoihin liittyviä erikoispiirteitä verhoilusta materiaalien valintaan\nKurssin sisältö: \n 	Kurssilla käydään läpi erilaiset veneen patjoihin sopivat materiaalit sekä patjojen verhoiluun liittyviä kommervenkkejä.\nKouluttaja: Jouko Välikoski Mauronet Oy. Jokke on tehnyt veneisiin tuhansia patjoja ja kehittänyt muun muassa veneisiin erinomaisesti sopivan ilmakiertopatjan.\nLisätietoja: Riikka Puntila-Dodd (LPS)\, rpuntila at gmail.com\nOsallistujamäärä: 5 – 30. (Listalla sijat >30 ovat jonossa mahdollisille peruutuspaikoille.)\nIlmoittautuminen:\nJos muutat mielesi osallistumisesta\, ilmoita mahdollisimman pian emaililla Riikalle\, koska kurssille saatetaan jonottaa.\nIlmoittautuneet: /30\nJonotuslista:\n 
URL:https://hooveekoo.fi/event/patjaston-uusiminen-veneeseen-lahikoulutus-2/
LOCATION:Humallahden Venekerho\, Rajasaarenpenger 6\, Helsinki\, Suomi
CATEGORIES:koulutukset
ATTACH;FMTTYPE=image/jpeg:https://hooveekoo.fi/wp-content/uploads/IMG_1465-scaled-XFXDde.tmp_.jpg
END:VEVENT
END:VCALENDAR