BEGIN:VCALENDAR
VERSION:2.0
PRODID:-//Humallahden Venekerho - ECPv6.15.20//NONSGML v1.0//EN
CALSCALE:GREGORIAN
METHOD:PUBLISH
X-ORIGINAL-URL:https://hooveekoo.fi
X-WR-CALDESC:Tapahtumat Humallahden Venekerho
REFRESH-INTERVAL;VALUE=DURATION:PT1H
X-Robots-Tag:noindex
X-PUBLISHED-TTL:PT1H
BEGIN:VTIMEZONE
TZID:Europe/Helsinki
BEGIN:DAYLIGHT
TZOFFSETFROM:+0200
TZOFFSETTO:+0300
TZNAME:EEST
DTSTART:20210328T010000
END:DAYLIGHT
BEGIN:STANDARD
TZOFFSETFROM:+0300
TZOFFSETTO:+0200
TZNAME:EET
DTSTART:20211031T010000
END:STANDARD
BEGIN:DAYLIGHT
TZOFFSETFROM:+0200
TZOFFSETTO:+0300
TZNAME:EEST
DTSTART:20220327T010000
END:DAYLIGHT
BEGIN:STANDARD
TZOFFSETFROM:+0300
TZOFFSETTO:+0200
TZNAME:EET
DTSTART:20221030T010000
END:STANDARD
BEGIN:DAYLIGHT
TZOFFSETFROM:+0200
TZOFFSETTO:+0300
TZNAME:EEST
DTSTART:20230326T010000
END:DAYLIGHT
BEGIN:STANDARD
TZOFFSETFROM:+0300
TZOFFSETTO:+0200
TZNAME:EET
DTSTART:20231029T010000
END:STANDARD
END:VTIMEZONE
BEGIN:VEVENT
DTSTART;TZID=Europe/Helsinki:20221002T070000
DTEND;TZID=Europe/Helsinki:20221002T110000
DTSTAMP:20260420T104223
CREATED:20220815T185013Z
LAST-MODIFIED:20221001T111831Z
UID:111152-1664694000-1664708400@hooveekoo.fi
SUMMARY:Veneiden I yhteisnosto
DESCRIPTION:
URL:https://hooveekoo.fi/event/veneiden-i-yhteisnosto-5/
END:VEVENT
BEGIN:VEVENT
DTSTART;TZID=Europe/Helsinki:20221008T150000
DTEND;TZID=Europe/Helsinki:20221008T170000
DTSTAMP:20260420T104223
CREATED:20220811T183127Z
LAST-MODIFIED:20221008T113600Z
UID:111113-1665241200-1665248400@hooveekoo.fi
SUMMARY:PERUUTETTU Lohisoppa Hästö
DESCRIPTION:
URL:https://hooveekoo.fi/event/lohisoppa-hasto-2/
END:VEVENT
BEGIN:VEVENT
DTSTART;TZID=Europe/Helsinki:20221010T180000
DTEND;TZID=Europe/Helsinki:20221010T200000
DTSTAMP:20260420T104223
CREATED:20220224T133350Z
LAST-MODIFIED:20221010T103142Z
UID:105832-1665424800-1665432000@hooveekoo.fi
SUMMARY:Hallituksen kokous
DESCRIPTION:
URL:https://hooveekoo.fi/event/hallituksen-kokous-59/
CATEGORIES:hallituksen kokoukset
END:VEVENT
BEGIN:VEVENT
DTSTART;TZID=Europe/Helsinki:20221019T180000
DTEND;TZID=Europe/Helsinki:20221019T210000
DTSTAMP:20260420T104223
CREATED:20220907T074700Z
LAST-MODIFIED:20221019T093351Z
UID:111578-1666202400-1666213200@hooveekoo.fi
SUMMARY:VHF-radiolaitteiston tekniikkaa ja tarkistaminen mittaamalla (LÄHIKOULUTUS)
DESCRIPTION:Kohderyhmä: Koulutus on suunnattu veneilijöille\, jotka haluavat hieman syvällisemmin ymmärtää radiojärjestelmän siirtojohtojen ja antennien toimintaa\, sekä oppia tarkistamaan laitteiston kunto.\nEsitiedot: SRC (Short Range Certificate) tai vanhempi VHF-rajoitetun radioaseman hoitajan pätevyystodistus. (Jos sinulla ei ole henkilökohtaista pätevyystodistusta ja tarvitset sellaista\, katso Rannikkolaivurin radiotutkintoon (SRC) tähtäävä valmennus.)\nTavoite: Kurssin tavoitteena on oppia tarkistamaan meri-VHF-puhelinlaitteisto visuaalisesti ja mittaamalla\, sekä korjaamaan puutteita. Kurssilla tutustutaan myös mittauksessa tarvittaviin erilaisiin välineisiin käytännössä.\nKurssin sisältö:\n 	Radioaallot ja -taajuudet\, radioaaltojen eteneminen\n 	Hyvä asennustapa ja säännölliset huoltotoimenpiteet\n 	Radiolaitteen siirtojohdot ja antennit\n 	Heijastuminen ja seisovan aallon suhde (SWR)\n 	Visuaalinen tarkistus\n 	SWR-mittaus\n 	Mittausharjoituksia SWR-mittarilla\, antennianalysaattorilla ja vektorianalysaattorilla (VNA).\nAiheeseen liittyvää materiaalia:\n 	Rannikkolaivurin radioliikenneopas \n 	Hätäliikenneohje fi\, eng\n 	Aiheettoman hätähälytyksen peruutustoimenpiteet fi\, eng\n 	Toimenpidekaavio hätätilanteessa fi\, eng\n 	Ohje VHF/DSC-puhelimen testaamisesta\nOta koulutukseen mukaan: Muistiinpanovälineet. Voit myös tuoda VHF-antennin mittausharjoitukseen.\nKouluttaja: Jukka Wallinheimo (HVK). Jukka on sähkötekniikan diplomi-insinööri\, radioamatööri ja veneilyn harrastaja. Jukka on SPV:n VHF/DSC-kouluttaja ja huvivenekatsastaja.\nLisätietoja: Jukka Wallinheimo\, jukka.wallinheimo (at) kolumbus.fi\nOsallistujamäärä: 5 – 15 (Listalla sijat >15 ovat jonossa mahdollisille peruutuspaikoille.)\nIlmoittautuminen: Ilmoittautuminen on päättynyt. Tämä koulutus tullaan järjestämään myös talvella 2023\, ja siihen ilmoittautuminen alkaa 8.12.2022.\nJos muutat mielesi osallistumisesta\, ilmoita mahdollisimman pian emaililla Jukalle\, koska kurssille jonotetaan.\nIlmoittautuneet: /15.\nJonotuslista:\nOsallistuitko koulutukseen? Annahan kiitos palautetta koulutuksen kehittämiseen:
URL:https://hooveekoo.fi/event/vhf-radiolaitteiston-tekniikkaa-ja-tarkistaminen-mittaamalla-lahikoulutus-3/
LOCATION:Humallahden Venekerho\, Rajasaarenpenger 6\, Helsinki\, Suomi
CATEGORIES:koulutukset
ATTACH;FMTTYPE=image/jpeg:https://hooveekoo.fi/wp-content/uploads/190102646_10158857611053612_4966779889914281311_n-2-VnCARn.tmp_.jpg
END:VEVENT
BEGIN:VEVENT
DTSTART;TZID=Europe/Helsinki:20221030T120000
DTEND;TZID=Europe/Helsinki:20221030T130000
DTSTAMP:20260420T104223
CREATED:20220811T183325Z
LAST-MODIFIED:20221028T130249Z
UID:111114-1667131200-1667134800@hooveekoo.fi
SUMMARY:Veneiden 2 nosto klo 7.00Lipunlasku klo 12-13
DESCRIPTION:
URL:https://hooveekoo.fi/event/lipunlasku-5/
END:VEVENT
END:VCALENDAR