BEGIN:VCALENDAR
VERSION:2.0
PRODID:-//Humallahden Venekerho - ECPv6.15.20//NONSGML v1.0//EN
CALSCALE:GREGORIAN
METHOD:PUBLISH
X-ORIGINAL-URL:https://hooveekoo.fi
X-WR-CALDESC:Tapahtumat Humallahden Venekerho
REFRESH-INTERVAL;VALUE=DURATION:PT1H
X-Robots-Tag:noindex
X-PUBLISHED-TTL:PT1H
BEGIN:VTIMEZONE
TZID:Europe/Helsinki
BEGIN:DAYLIGHT
TZOFFSETFROM:+0200
TZOFFSETTO:+0300
TZNAME:EEST
DTSTART:20220327T010000
END:DAYLIGHT
BEGIN:STANDARD
TZOFFSETFROM:+0300
TZOFFSETTO:+0200
TZNAME:EET
DTSTART:20221030T010000
END:STANDARD
BEGIN:DAYLIGHT
TZOFFSETFROM:+0200
TZOFFSETTO:+0300
TZNAME:EEST
DTSTART:20230326T010000
END:DAYLIGHT
BEGIN:STANDARD
TZOFFSETFROM:+0300
TZOFFSETTO:+0200
TZNAME:EET
DTSTART:20231029T010000
END:STANDARD
BEGIN:DAYLIGHT
TZOFFSETFROM:+0200
TZOFFSETTO:+0300
TZNAME:EEST
DTSTART:20240331T010000
END:DAYLIGHT
BEGIN:STANDARD
TZOFFSETFROM:+0300
TZOFFSETTO:+0200
TZNAME:EET
DTSTART:20241027T010000
END:STANDARD
END:VTIMEZONE
BEGIN:VEVENT
DTSTART;TZID=Europe/Helsinki:20230202T180000
DTEND;TZID=Europe/Helsinki:20230202T210000
DTSTAMP:20260420T050429
CREATED:20221208T110505Z
LAST-MODIFIED:20230202T130411Z
UID:115924-1675360800-1675371600@hooveekoo.fi
SUMMARY:Rannikkolaivurin radiotutkinnon (SRC) tutkintotilaisuus (LÄHITILAISUUS)
DESCRIPTION:Meri-VHF-puhelimen käyttöön huviveneessä vaaditaan aluskohtainen radiolupa sekä henkilökohtainen pätevyystodistus – vähintään rannikkolaivurin radiotodistus eli SRC (Short Range Certificate).\nKohderyhmä: SRC-tenttitilaisuus järjestetään  HVK:lla Töölössä ja on suunnattu Paven SRC-valmennukseen osallistuneille sekä itseopiskelijoille.\nEsitiedot: Rannikkolaivurin radioliikenneopas  (virallinen tutkintoaineisto). Opas on syytä käydä ajatuksella läpi ennen tutkintoa.\nTilaisuuden sisältö:\n 	miniluento keskeisistä asioista\n 	lyhyt keskustelu kysymyksineen\n 	kirjallinen koe (vastausaika enintään 1 tunti 15 minuuttia)\nTutkintoon mukaan:\n 	kuvallinen henkilötodistus\, josta ilmenee henkilötunnus (ajokortti kelpaa)\n 	1 kpl passikuva (ei saa olla vuotta vanhempi)\n 	omat kirjoitusvälineet (kuulakärkikynä ja lyijykynä)\n 	tutkinnossa saa käyttää ainoastaan tutkinnon vastaanottajan tutkintotilaisuudessa antamaa oheismateriaalia\, joka koostuu oppaan liitteistä 1\, 2 ja 4. Lisäksi oheismateriaaliin kuuluu karttakuvat hätäradioverkosta ja turvallisuusradioverkosta kanavineen\n 	alle 18 vuotiaalta osallistujalta huoltajan suostumuslomake valmiiksi täytettynä ja päivättynä.\nTraficomin maksut (laskutetaan jälkikäteen):\n 	tutkintomaksu 45\,40 € / osallistumiskerta\n 	todistusmaksu 43\,75 €.\nTutkinnon vastaanottaja: Ari Caselius\, Traficom\nLisätietoja: Jukka Wallinheimo\, jukka.wallinheimo (at) kolumbus.fi\nOsallistujamäärä: 10-30. Listalla sijat >30 ovat  jonotuspaikkoja. Minimiosallistujamäärän on täytyttävä\, jotta tilaisuus järjestetään.\nIlmoittautuminen: Ilmoittautuminen on päättynyt. Ilmoita Jukalle mikäli muutat mieltäsi osallistumisesta. Tarkista myös Paven pandemiaohjeet.\nIlmoittautuneet: /30.\nJonotuslista:\n 
URL:https://hooveekoo.fi/event/rannikkolaivurin-radiotutkinnon-src-tutkintotilaisuus-lahitilaisuus-2/
LOCATION:Humallahden Venekerho\, Rajasaarenpenger 6\, Helsinki\, Suomi
CATEGORIES:koulutukset
ATTACH;FMTTYPE=image/jpeg:https://hooveekoo.fi/wp-content/uploads/Meri_VHF_1000-1.jpg
END:VEVENT
BEGIN:VEVENT
DTSTART;TZID=Europe/Helsinki:20230207T190000
DTEND;TZID=Europe/Helsinki:20230207T203000
DTSTAMP:20260420T050429
CREATED:20221208T110819Z
LAST-MODIFIED:20230207T133513Z
UID:115925-1675796400-1675801800@hooveekoo.fi
SUMMARY:Lujitemuoviveneen maalaus telalla (ETÄKOULUTUS)
DESCRIPTION:Kohderyhmä:  Veneenomistajat jotka ovat kiinnostuneita maalauksesta ja siihen liittyvistä käytännön asioista\nSisältö:\nVeneen ulkopinta on jatkuvasti alttiina ulkoisille kuluttaville tekijöille ja huolellisestikin säilytetty vene kaipaa jossain vaiheessa maalipinnan uusimista.\nKurssilla käydään läpi työvaiheet ja käytännön kokemukset joita on kertynyt purjeveneen kylkien maalauksesta telalla.\nJos olet suunnittelemassa oman veneen maalamista\, kaikkea ei tarvitse opetella kantapään kautta.\nKurssilla käsitellään mm. seuraavia asioita:\n– maalauksen vaatimat olosuhteet\n– työvälineet\n– pohjatyöt ja valmistelut\n– varsinainen maalaustyö\n– vapaata keskustelua aiheesta\nKouluttaja: Jere Kuusinen on itseoppinut venemaalari ja aktiivipurjehtija.\nOsallistujamäärä: 5 – 50\nValmistautuminen etäkoulutukseen: Koulutus toteutetaan Teams-palvelun kautta. Kouluttaja lähettää linkin sähköpostilla osallistujille. Asenna tietokoneellesi Teams-applikaatio tai käytä sitä webbiselaimella lähetetyllä linkillä.\nLisätietoja: Janne Helenius\, jannehele@gmail.com\nIlmoittautuminen:\nIlmoittautuneet: /50.\nJonotuslista:
URL:https://hooveekoo.fi/event/lujitemuoviveneen-maalaus-telalla-etakoulutus/
LOCATION:Etäkoulutus\, -\, -\, Suomi
CATEGORIES:koulutukset
ATTACH;FMTTYPE=image/jpeg:https://hooveekoo.fi/wp-content/uploads/maalaus-G7hgFG.tmp_.jpg
END:VEVENT
BEGIN:VEVENT
DTSTART;TZID=Europe/Helsinki:20230208T180000
DTEND;TZID=Europe/Helsinki:20230208T210000
DTSTAMP:20260420T050429
CREATED:20221208T110819Z
LAST-MODIFIED:20230208T134737Z
UID:115927-1675879200-1675890000@hooveekoo.fi
SUMMARY:Valokuvausta vesillä (ETÄKOULUTUS)
DESCRIPTION:Kohderyhmä:  Kohderyhmänä ovat veneilijät ja muut vesillä liikkuvat\, joita kiinnostaa oppia normaalia paremmin kuvaamaan veneestä ja veden äärellä. Kurssi keskittyy yleisiin asioihin eikä ole sidottu tiettyyn kameratyyppiin. Myös kännykällä kuvaava saa kurssilta virikkeitä parempiin otoksiin vesillä.\nEsitiedot: Ei erityisiä esitietovaatimuksia. Normaali kokemus kameran tai matkapuhelinkameran käytöstä tavanomaisessa kuvauksessa riittää. Oman kuvausvälineen perustuntemus on eduksi.\nTavoite:\n 	Tukea veneilijöitä kehittymään paremmiksi kuvaajiksi merellisessä ympäristössä.\n 	Antaa perustiedot kuvaamisesta yleensä ja erityisesti kameran käytöstä vene- ja vesiympäristössä.\n 	Opastaa merellisten kuvausaiheen esilletuomisessa kuvauksessa.\n 	Antaa virikkeitä kuvauskohteista ja tavoista sekä menetelmistä halutun kuvan luomisessa.\n 	Innostaa veneilijöitä käyttämään valokuvausta keinona veneilyn tallettamiseen.\nKurssin sisältö: \n 	Vene kuvausympäristönä.\n 	Kameran hallinta veneessä.\n 	Kuvauskaluston hoidon erityispiirteitä.\n 	Valotuksen ja terävyyden muodostuminen sekä keinot niihin vaikuttamiseen.\n 	Kuvauskaluston valinnasta.\n 	Meriympäristön haasteet kuvaukselle.\n 	Sommittelu\, estetiikka ja kuvan sanoman esille tuominen.\n 	Liikkuvan veneen kuvaaminen.\n 	Maiseman kuvaaminen liikkuvasta veneestä.\n 	Kuvaaminen veneen sisällä.\n 	Kuvaus matkakertomusta varten.\n 	Kuvien jälkikäsittelyn yleisiä perusperiaatteita sekä merikuvissa usein esiin tulevia mahdollisuuksia ja tarpeita.\nEnnen kurssia: Ennen kurssia viimeistään 25.1.2023  lähetä kouluttajalle 1-2 kpl ottamaasi merellistä valokuvaa\, joiden olisit toivonut onnistuneen paremmin. Näitä katsotaan kurssilla\, ja esitetään ajatuksia siitä\, miten kuvan olisi voinut ottaa toisin. Keskitytään sekä kuvien tekniseen onnistumiseen (terävyys\, valoisuus\, väritasapaino yms.) että kuvan sanoman esilletuomiseen (kerro mitä olet halunnut kuvalla näyttää tai tuoda esiin\, mihin tarkoitukseen kuvasit jne.). Kuvat esitetään kurssilla anonyymisti ilman\, että kuvaajan nimi tulee yleisesti ilmi. Kuvat lähetetään jpg-muodossa kouluttajan sähköpistiin mielellään 1 – 3 MB:n kokoisina kuvatiedostoina. Kuvien on oltava kouluttajalla 2 viikkoa ennen kurssia\, jotta hän ehtii käydä ne läpi.\nValmistautuminen etäkoulutukseen: Koulutus toteutetaan Teams-palvelun kautta. Kouluttaja lähettää linkin sähköpostilla osallistujille. Asenna tietokoneellesi Teams-applikaatio tai käytä sitä webbiselaimella lähetetyllä linkillä. Kurssilla esitetään paljon kuvia. Näistä saat enemmän irti\, jos voit katsoa niitä suurelta ruudulta. Poista käytöstä mahdolliset sinisuodatukset ja vastaavat\, jotta näkisit värit paremmin oikein.\nKouluttaja: Klaus Salkola AFIAP. Klasu on veneilijä vuodesta 1968 ja valokuvaaja vuodesta 1962.\nLisätietoja: Klaus Salkola\, klaus (at) salkola.eu\nOsallistujamäärä: 5 – 20. (Listalla sijat >20 ovat jonossa mahdollisille peruutuspaikoille.)\nIlmoittautuminen: Kurssi on peruttu\, koska ilmoittautuneita oli alle 5.\nIlmoittautuneet: /20.\nJonotuslista:
URL:https://hooveekoo.fi/event/valokuvausta-vesilla-etakoulutus-2/
LOCATION:Etäkoulutus\, -\, -\, Suomi
CATEGORIES:koulutukset
ATTACH;FMTTYPE=image/png:https://hooveekoo.fi/wp-content/uploads/peruttu-eVuYAU.tmp_.png
END:VEVENT
BEGIN:VEVENT
DTSTART;TZID=Europe/Helsinki:20230209T170000
DTEND;TZID=Europe/Helsinki:20230209T190000
DTSTAMP:20260420T050429
CREATED:20221208T110820Z
LAST-MODIFIED:20230209T134837Z
UID:115929-1675962000-1675969200@hooveekoo.fi
SUMMARY:Vierailu meriliikennekeskukseen (LÄHIKOULUTUS)
DESCRIPTION:Tutustumme vierailulla Suomenlahden meriliikennekeskukseen. Meriliikennekeskuksessa valvotaan Suomenlahden laivaliikennettä ja pyritään estämään alusten haverit. Osallistujien maximimäärä on 25 henkilöä. Tilaisuudessa meitä opastaa Meriliikennekeskuksen päällikkö Samu Koski.\nKohderyhmä:  Kohderyhmänä ovat kaikki veneilijät\, joita kiinnostaa miten Suomenlahdella ja Suomen satamissa alusliikennettä valvotaan.\nTavoite:\n 	Tavoitteena on selventää kuinka siviilimerivalvonta toimii.\nKurssin sisältö: \n 	Siviilimerivalvonnan tehtävät\, toimintatavat ja toiminta-alueet\nKouluttaja: Meriliikennekeskuksen päällikkö\, Samu Koski\nLisätietoja: Jyrki Pulkkanen (LK)\, pulkkanen.jyrki(at)gmail.com\nOsallistujamäärä: 5 – 25. (Listalla sijat >25 ovat jonossa mahdollisille peruutuspaikoille.)\nIlmoittautuminen:\nJos muutat mielesi osallistumisesta\, ilmoita mahdollisimman pian emaililla  Jyrkille\, koska kurssille saatetaan jonottaa. Tarkista myös Paven pandemiaohjeistus.\nIlmoittautuneet: /25\nJonotuslista:
URL:https://hooveekoo.fi/event/vierailu-meriliikennekeskukseen-lahikoulutus/
CATEGORIES:koulutukset
ATTACH;FMTTYPE=image/png:https://hooveekoo.fi/wp-content/uploads/taynna-DaNM37.tmp_.png
END:VEVENT
BEGIN:VEVENT
DTSTART;TZID=Europe/Helsinki:20230211T130000
DTEND;TZID=Europe/Helsinki:20230211T170000
DTSTAMP:20260420T050429
CREATED:20221208T110823Z
LAST-MODIFIED:20230211T135012Z
UID:115931-1676120400-1676134800@hooveekoo.fi
SUMMARY:Käytännön VHF/DSC-kertausharjoitus (LÄHIKOULUTUS)
DESCRIPTION:Kohderyhmä: Tämä kertausharjoitus on tarkoitettu SRC:n (Short Range Certificate) tai vanhemman VHF-rajoitetun radioaseman hoitajan pätevyystodistuksen omaaville veneilijöille\, jotka haluavat päivittää ja kerrata osaamistaan sekä osallistua käytännön harjoitukseen. (Jos sinulla ei ole henkilökohtaista pätevyystodistusta ja tarvitset sellaista\, katso Rannikkolaivurin radiotutkintoon (SRC) tähtäävä valmennus.)\nEsitiedot: SRC (Short Range Certificate) tai vanhempi VHF-rajoitetun radioaseman hoitajan pätevyystodistus. Ennen harjoitusta olisi myös hyvä kerrata VHF-radion perustoiminnot ja radioaakkoset.\nTavoite:  VHF/DSC takaisin haltuun ja aktiivikäyttöön. Osaan soittaa kaverille veneeseen DSC:llä. Osaan tarvittaessa käyttää VHF/DSC-puhelinta hätätilanteessa.\nKurssin sisältö:\n 	Merenkulun kansainvälinen hätä- ja turvallisuusjärjestelmä GMDSS (Global Maritime Distress and Safety System)\n 	Radioliikennekäytännöt\n 	Käytännön harjoitus pienryhmissä SPV:n koulutusasemalla ja  kannettavilla meri-VHF-puhelimilla\n 	Harjoituksen purkukeskustelu\nAiheeseen liittyvää materiaalia:\n 	Rannikkolaivurin radioliikenneopas \n 	Mika Piironen\, Meri-VHF-radiopuhelin\, Suomen Navigoinnin Opettajat\, 2018.\n 	eGMDSS-sivusto (Hyödyllistä ilmaista luettavaa ja maksullinen VHF/DSC-simulaattori.  Teksteissä ja testeissä on huomattu kuitenkin olevan jonkin verran pieniä virheitä.)\n 	VHF/DSC-puhelin korvaa pyroteknisiä hätäilmoitusvälineitä huvivenekatsastuksessa\n 	Hätäliikenneohje fi\, eng\n 	Aiheettoman hätähälytyksen peruutustoimenpiteet fi\, eng\n 	Toimenpidekaavio hätätilanteessa fi\, eng\n 	Ohje VHF/DSC-puhelimen testaamisesta\nOta koulutukseen mukaan: Rannikkolaivurin radioliikenneopas ja muistiinpanovälineet. (Tähän harjoitukseen ei voi tuoda oman veneen VHF-puhelinta tai omaa kannettavaa VHF-puhelinta\, koska niiden lupaehdot eivät salli käyttöä maissa.)\nKouluttaja: Jukka Wallinheimo (HVK). Jukka on sähkötekniikan diplomi-insinööri\, radioamatööri ja veneilyn harrastaja. Jukka on SPV:n VHF/DSC-kouluttaja\, huvivenekatsastaja ja opettaa myös Veneen sähköt -koulutuksessa.\nLisätietoja: Jukka Wallinheimo\, jukka.wallinheimo (at) kolumbus.fi\nOsallistujamäärä: 5 – 12. (Listalla sijat >12 ovat jonossa mahdollisille peruutuspaikoille.)\nIlmoittautuminen: Kurssi on täynnä\, mutta jonotukseen voi vielä ilmoittautua.\nTarkista myös Paven pandemiaohjeet.\nJos muutat mielesi osallistumisesta\, ilmoita mahdollisimman pian emaililla Jukalle\, koska kurssille jonotetaan.\nIlmoittautuneet: /12.\nJonotuslista:\n \n 
URL:https://hooveekoo.fi/event/kaytannon-vhf-dsc-kertausharjoitus-lahikoulutus/
LOCATION:Humallahden Venekerho\, Rajasaarenpenger 6\, Helsinki\, Suomi
CATEGORIES:koulutukset
ATTACH;FMTTYPE=image/png:https://hooveekoo.fi/wp-content/uploads/taynna-DaNM37.tmp_.png
END:VEVENT
BEGIN:VEVENT
DTSTART;TZID=Europe/Helsinki:20230212T100000
DTEND;TZID=Europe/Helsinki:20230212T160000
DTSTAMP:20260420T050429
CREATED:20230120T123135Z
LAST-MODIFIED:20230212T134658Z
UID:117717-1676196000-1676217600@hooveekoo.fi
SUMMARY:Espoon Meripelastajat: Hätärakettien ammuntaharjoitus
DESCRIPTION:Espoon vapaaehtoiset meripelastajat järjestävät hätämerkinantoharjoituksen Espoon Haukilahdessa (Mellstenintie 6) sunnuntaina 12.2.2023 klo 10.00–16.00.  Harjoitus on tarkoitettu Suomen Meripelastusseuran jäsenille. Jäseneksi voi ilmoittautua ennen harjoitusta. Tilaisuudessa veneilijät voivat harjoitella turvallisesti hätämerkinantovälineiden käyttöä.\nLisätiedot ja ilmoittautuminen Espoon Meripelastajien sivuilla – linkki alla.\nhttps://meripelastus.fi/espoo/hataraketti/\n 
URL:https://hooveekoo.fi/event/espoon-meripelastajat-hatarakettien-ammuntaharjoitus/
LOCATION:SMPS – Espoon Meripelastajat ry\, Mellstenintie 6 B\, Espoo\, Suomi
CATEGORIES:koulutukset
ATTACH;FMTTYPE=image/jpeg:https://hooveekoo.fi/wp-content/uploads/Hatarakettiammunta_1000-5XxPwA.tmp_.jpg
END:VEVENT
BEGIN:VEVENT
DTSTART;TZID=Europe/Helsinki:20230212T130000
DTEND;TZID=Europe/Helsinki:20230212T170000
DTSTAMP:20260420T050429
CREATED:20221208T110823Z
LAST-MODIFIED:20230212T134659Z
UID:115932-1676206800-1676221200@hooveekoo.fi
SUMMARY:VHF-radiolaitteiston tekniikkaa ja tarkistaminen mittaamalla (LÄHIKOULUTUS)
DESCRIPTION:Kohderyhmä: Koulutus on suunnattu veneilijöille\, jotka haluavat hieman syvällisemmin ymmärtää radiojärjestelmän siirtojohtojen ja antennien toimintaa\, sekä oppia tarkistamaan laitteiston kunto.\nEsitiedot: SRC (Short Range Certificate) tai vanhempi VHF-rajoitetun radioaseman hoitajan pätevyystodistus. (Jos sinulla ei ole henkilökohtaista pätevyystodistusta ja tarvitset sellaista\, katso Rannikkolaivurin radiotutkintoon (SRC) tähtäävä valmennus.)\nTavoite: Kurssin tavoitteena on oppia tarkistamaan meri-VHF-puhelinlaitteisto visuaalisesti ja mittaamalla\, sekä korjaamaan puutteita. Kurssilla tutustutaan myös mittauksessa tarvittaviin erilaisiin välineisiin käytännössä.\nKurssin sisältö:\n 	Radioaallot ja -taajuudet\, radioaaltojen eteneminen\n 	Hyvä asennustapa ja säännölliset huoltotoimenpiteet\n 	Radiolaitteen siirtojohdot ja antennit\n 	Heijastuminen ja seisovan aallon suhde (SWR)\n 	Visuaalinen tarkistus\n 	SWR-mittaus\n 	Mittausharjoituksia SWR-mittarilla\, antennianalysaattorilla ja vektorianalysaattorilla (VNA).\nAiheeseen liittyvää materiaalia:\n 	Rannikkolaivurin radioliikenneopas \n 	Hätäliikenneohje fi\, eng\n 	Aiheettoman hätähälytyksen peruutustoimenpiteet fi\, eng\n 	Toimenpidekaavio hätätilanteessa fi\, eng\n 	Ohje VHF/DSC-puhelimen testaamisesta\nOta koulutukseen mukaan: Muistiinpanovälineet. Voit myös tuoda VHF-antennin ja siirtojohtoja UHF-liittimillä mittausharjoitukseen.\nKouluttaja: Jukka Wallinheimo (HVK). Jukka on sähkötekniikan diplomi-insinööri\, radioamatööri ja veneilyn harrastaja. Jukka on SPV:n VHF/DSC-kouluttaja ja huvivenekatsastaja.\nLisätietoja: Jukka Wallinheimo\, jukka.wallinheimo (at) kolumbus.fi\nOsallistujamäärä: 5 – 15 (Listalla sijat >15 ovat jonossa mahdollisille peruutuspaikoille.)\nIlmoittautuminen:  Jos muutat mielesi osallistumisesta\, ilmoita mahdollisimman pian emaililla Jukalle\, koska kurssille saatetaan jonottaa. Tarkista myös Paven pandemiaohjeistus.\nIlmoittautuneet: /15.\nJonotuslista:\n 
URL:https://hooveekoo.fi/event/vhf-radiolaitteiston-tekniikkaa-ja-tarkistaminen-mittaamalla-lahikoulutus/
LOCATION:Humallahden Venekerho\, Rajasaarenpenger 6\, Helsinki\, Suomi
CATEGORIES:koulutukset
ATTACH;FMTTYPE=image/jpeg:https://hooveekoo.fi/wp-content/uploads/190102646_10158857611053612_4966779889914281311_n-2-VnCARn.tmp_.jpg
END:VEVENT
BEGIN:VEVENT
DTSTART;TZID=Europe/Helsinki:20230213T180000
DTEND;TZID=Europe/Helsinki:20230213T200000
DTSTAMP:20260420T050429
CREATED:20230209T163544Z
LAST-MODIFIED:20230209T163544Z
UID:117908-1676311200-1676318400@hooveekoo.fi
SUMMARY:Hallituksen kokous
DESCRIPTION:
URL:https://hooveekoo.fi/event/hallituksen-kokous/
LOCATION:Humallahden Venekerho\, Rajasaarenpenger 6\, Helsinki\, Suomi
END:VEVENT
BEGIN:VEVENT
DTSTART;TZID=Europe/Helsinki:20230214T180000
DTEND;TZID=Europe/Helsinki:20230214T200000
DTSTAMP:20260420T050429
CREATED:20221208T111004Z
LAST-MODIFIED:20230214T135012Z
UID:115933-1676397600-1676404800@hooveekoo.fi
SUMMARY:Purjeiden trimmausta retkiveneilijöille (LÄHIKOULUTUS)
DESCRIPTION:Oikeat purjevalinnat ja purjeiden säätäminen olosuhteiden mukaan muodostavat purjehduksen tärkeän peruselementin.  Tuulen ja aallokon muuttuessa on tärkeää tuntea eri purjeiden ja niiden säätöjen vaikutus veneen hallintaan ja vauhtiin.\nTuulen noustessa voimaa voi aluksi vähentää muutenkin kuin purjeita reivaamalla ja tuulen laantuessa matkavauhdin voi löytyä vielä muualtakin kuin koneen virta-avaimen takaa. Myötä- ja sivutuulella sekä vastaisella pätevät eri lainalaisuudet ja myös eri rikityypit asettavat omat mahdollisuutensa ja rajoitteensa\nIllan aikana käydään läpi peruspurjehduksessa tarvittavia purjeiden säätöön ja valintaan liittyviä asioita mm.\n 	Purjeiden säätököydet ja mitä niillä tehdään (skuutti\, levanki\, outhaul\, falli\, hekki\, cunningham)\n 	Virtauslankojen ja purjeiden lukeminen\n 	Skuuttipisteet\n 	Reivaaminen\nKouluttaja: Julius Haartti\nLisätietoja: Lars Andtfolk PSS\,  pave(at)lars.fastmail.fm\nIlmoittautuminen: Kurssille mahtuu 40 osallistujaa.  Jos muutat mielesi osallistumisesta\, ilmoita mahdollisimman pian emaililla Larsille\, koska kurssille saatetaan jonottaa. Tarkista myös Paven pandemiaohjeistus.\nIlmoittautuneet: /40\nJonotuslista:
URL:https://hooveekoo.fi/event/purjeiden-trimmausta-retkiveneilijoille-lahikoulutus-2/
LOCATION:HSK\, Vattuniemen puistotie 1\, Helsinki\, 00210\, Suomi
CATEGORIES:koulutukset
ATTACH;FMTTYPE=image/png:https://hooveekoo.fi/wp-content/uploads/taynna-DaNM37.tmp_.png
END:VEVENT
BEGIN:VEVENT
DTSTART;TZID=Europe/Helsinki:20230228T180000
DTEND;TZID=Europe/Helsinki:20230228T200000
DTSTAMP:20260420T050429
CREATED:20221208T111006Z
LAST-MODIFIED:20230228T141839Z
UID:115935-1677607200-1677614400@hooveekoo.fi
SUMMARY:Matkakertomus: Karibian kierros kahdestaan (LÄHIKOULUTUS)
DESCRIPTION:2018 – 2019 Martti ja Marjo Poteri toteuttivat oman Karibian kierroksensa. Tule kuulemaan\, kuinka valtameripurjehdus onnistuu tavallisilta perhepurjehtijoilta.\nKouluttaja: Martti Poteri / PSS\nOsallistujamäärä: 5 – 15\nLisätietoja: Lars Andtfolk PSS\,  pave(at)lars.fastmail.fm\nIlmoittautuminen: Tilaisuuteen mahtuu 15 osallistujaa.  Jos muutat mielesi osallistumisesta\, ilmoita mahdollisimman pian emaililla Larsille\, koska kurssille saatetaan jonottaa. Tarkista myös Paven pandemiaohjeistus.\nIlmoittautuneet: /15.\nJonotuslista:
URL:https://hooveekoo.fi/event/matkakertomus-karibian-kierros-kahdestaan-lahikoulutus/
LOCATION:Pursiseura Sindbad\, Vattuniemenranta 5\, Helsinki\, Suomi
CATEGORIES:koulutukset
ATTACH;FMTTYPE=image/png:https://hooveekoo.fi/wp-content/uploads/taynna-DaNM37.tmp_.png
END:VEVENT
END:VCALENDAR