BEGIN:VCALENDAR
VERSION:2.0
PRODID:-//Humallahden Venekerho - ECPv6.15.20//NONSGML v1.0//EN
CALSCALE:GREGORIAN
METHOD:PUBLISH
X-WR-CALNAME:Humallahden Venekerho
X-ORIGINAL-URL:https://hooveekoo.fi
X-WR-CALDESC:Tapahtumat Humallahden Venekerho
REFRESH-INTERVAL;VALUE=DURATION:PT1H
X-Robots-Tag:noindex
X-PUBLISHED-TTL:PT1H
BEGIN:VTIMEZONE
TZID:Europe/Helsinki
BEGIN:DAYLIGHT
TZOFFSETFROM:+0200
TZOFFSETTO:+0300
TZNAME:EEST
DTSTART:20220327T010000
END:DAYLIGHT
BEGIN:STANDARD
TZOFFSETFROM:+0300
TZOFFSETTO:+0200
TZNAME:EET
DTSTART:20221030T010000
END:STANDARD
BEGIN:DAYLIGHT
TZOFFSETFROM:+0200
TZOFFSETTO:+0300
TZNAME:EEST
DTSTART:20230326T010000
END:DAYLIGHT
BEGIN:STANDARD
TZOFFSETFROM:+0300
TZOFFSETTO:+0200
TZNAME:EET
DTSTART:20231029T010000
END:STANDARD
BEGIN:DAYLIGHT
TZOFFSETFROM:+0200
TZOFFSETTO:+0300
TZNAME:EEST
DTSTART:20240331T010000
END:DAYLIGHT
BEGIN:STANDARD
TZOFFSETFROM:+0300
TZOFFSETTO:+0200
TZNAME:EET
DTSTART:20241027T010000
END:STANDARD
END:VTIMEZONE
BEGIN:VEVENT
DTSTART;TZID=Europe/Helsinki:20230404T190000
DTEND;TZID=Europe/Helsinki:20230404T203000
DTSTAMP:20260420T023651
CREATED:20221208T111240Z
LAST-MODIFIED:20230404T170237Z
UID:115947-1680634800-1680640200@hooveekoo.fi
SUMMARY:Mobiililaajakaistayhteys veneeseen (ETÄKOULUTUS)
DESCRIPTION:Kohderyhmä: Veneilijät\, joita kiinnostaa nettiyhteyden laatu\, esim. etätöiden tai miehistön vaatimusten vuoksi.\nSisältö:\nVeneilessä ei tietoverkkoyhteys ole yleensä tärkein asia. Voi tulla kuitenkin tilanteita joissa toimiva yhteys tarvitaan esimerkiksi etätöitä varten.\nMobiiliverkkojen kattavuus saaristo-olosuhteissa vaihtelee paljon ja tällä kurssilla käydään läpi asioita jotka vaikuttavat yhteyden laatuun sekä erilaisia vaihtoehtoja laadun parantamiseen.\n– operaattoreiden verkkojen kattavuus eri teknologioilla (2G-5G)\, satelliittiyhteyksiä ei käsitellä\n– laaja-kaista yhteyden tekniset perusteet\, mitkä asiat vaikuttavat nopeuksiin\n– useamman operaattorin käyttö\n– Välineiden valinta (puhelin/reititin) ja lisävarusteet\nKouluttaja: Janne Helenius\, KoPu. Kouluttaja työskentelee 5G verkkojen tuotekehityksen parissa ja käyttää aikaa myös verkkojen toiminnan tarkkailuun saaristossa.\nOsallistujamäärä: 5-50\nValmistautuminen etäkoulutukseen: Koulutus toteutetaan Teams-palvelun kautta. Kouluttaja lähettää linkin sähköpostilla osallistujille. Asenna tietokoneellesi Teams-applikaatio tai käytä sitä webbiselaimella lähetetyllä linkillä.\nLisätietoja: Janne Helenius\, jannehele@gmail.com\nIlmoittautuminen:\nIlmoittautuneet: /50.\nJonotuslista:
URL:https://hooveekoo.fi/event/mobiililaajakaistayhteys-veneeseen-etakoulutus/
LOCATION:Etäkoulutus\, -\, -\, Suomi
CATEGORIES:koulutukset
ATTACH;FMTTYPE=image/png:https://hooveekoo.fi/wp-content/uploads/netti-4Lli3M.tmp_.png
END:VEVENT
BEGIN:VEVENT
DTSTART;TZID=Europe/Helsinki:20230405T180000
DTEND;TZID=Europe/Helsinki:20230405T200000
DTSTAMP:20260420T023651
CREATED:20230403T092415Z
LAST-MODIFIED:20230403T092512Z
UID:119294-1680717600-1680724800@hooveekoo.fi
SUMMARY:Hallituksen kokous
DESCRIPTION:
URL:https://hooveekoo.fi/event/hallituksen-kokous-10/
LOCATION:Humallahden Venekerho\, Rajasaarenpenger 6\, Helsinki\, Finland
CATEGORIES:hallituksen kokoukset
END:VEVENT
BEGIN:VEVENT
DTSTART;TZID=Europe/Helsinki:20230405T180000
DTEND;TZID=Europe/Helsinki:20230405T210000
DTSTAMP:20260420T023651
CREATED:20221208T111241Z
LAST-MODIFIED:20230405T170510Z
UID:115949-1680717600-1680728400@hooveekoo.fi
SUMMARY:Veneily vaativissa olosuhteissa (LÄHI- ja ETÄKOULUTUS)
DESCRIPTION:Käytännön kurssi haastavissa olosuhteissa tapahtuvalle purjehtimiselle\, joka tarkoitettu niin veneen päällikölle kuin miehistöllekin
URL:https://hooveekoo.fi/event/veneily-vaativissa-olosuhteissa-lahi-ja-etakoulutus/
LOCATION:HSK\, Vattuniemen puistotie 1\, Helsinki\, 00210\, Suomi
CATEGORIES:koulutukset
ATTACH;FMTTYPE=image/jpeg:https://hooveekoo.fi/wp-content/uploads/vaativat-3iy4jF.tmp_.jpg
END:VEVENT
BEGIN:VEVENT
DTSTART;TZID=Europe/Helsinki:20230417T180000
DTEND;TZID=Europe/Helsinki:20230417T200000
DTSTAMP:20260420T023651
CREATED:20230302T180305Z
LAST-MODIFIED:20230416T204005Z
UID:118265-1681754400-1681761600@hooveekoo.fi
SUMMARY:Hallituksen kokous
DESCRIPTION:
URL:https://hooveekoo.fi/event/hallituksen-kokous-3/
CATEGORIES:hallituksen kokoukset
END:VEVENT
BEGIN:VEVENT
DTSTART;TZID=Europe/Helsinki:20230420T180000
DTEND;TZID=Europe/Helsinki:20230420T210000
DTSTAMP:20260420T023651
CREATED:20221208T111242Z
LAST-MODIFIED:20230419T182008Z
UID:115951-1682013600-1682024400@hooveekoo.fi
SUMMARY:Meridieselmoottorin huolto ja kevättarkistus (LÄHIKOULUTUS)
DESCRIPTION:Käydään läpi meridieselin yleisiä huoltotoimia ja erityisesti keväällä tarkistettavat seikat.
URL:https://hooveekoo.fi/event/meridieselmoottorin-huolto-ja-kevattarkistus-lahikoulutus/
LOCATION:HSK\, Vattuniemen puistotie 1\, Helsinki\, 00210\, Suomi
CATEGORIES:koulutukset
ATTACH;FMTTYPE=image/png:https://hooveekoo.fi/wp-content/uploads/taynna-DaNM37.tmp_.png
END:VEVENT
BEGIN:VEVENT
DTSTART;TZID=Europe/Helsinki:20230422T090000
DTEND;TZID=Europe/Helsinki:20230423T160000
DTSTAMP:20260420T023651
CREATED:20230323T160504Z
LAST-MODIFIED:20230422T181714Z
UID:119203-1682154000-1682265600@hooveekoo.fi
SUMMARY:Veneilijän tutkakurssi (PERUTTU)
DESCRIPTION:Tutka on hyvä olla olemassa\, kun sumu laskeutuu. Vielä parempi on\, jos sitä osaa käyttää. Simulaattoriympäristössä on turvallista harjoitella tutkan käyttöä jopa 20 solmun nopeudella ajettaessa.\nKurssin tavoitteena on opettaa osallistujille tutkankäytön perusteet navigoinnin ja paikanmäärityksen yhteydessä sekä keinona estää yhteentörmäyksiä. Osallistujat oppivat noudattamaan heikentyneen näkyväisyyden vallitessa voimassa olevia meriteiden sääntöjä. Oppimistavoite saavutetaan harjoittelemalla tutkankäyttöä simulaattorissa erilaisissa sääolosuhteissa.\nKoulutuksen tuottaa Aboa Mare.\nKaksipäiväisen koulutuksen hinta on 250 € sisältäen ALV:n. Kurssihintaan ei sisälly ruokailuja. Kahviautomaatti ja mikro löytyvät. Jos ei halua käyttää liikaa aikaa ruokailuun lähtemällä muualle syömään\, voi tilata take-away-ruokaa tai ottaa mukaan omat eväänsä. Majoittua voi esimerkiksi laivahostel s/s Boressa Aboa Maren asiakashintaan 45 € / hlö / vrk. Katso majoituksen lisätiedot täältä.\nAboa Mare vahvistaa ilmoittautuneille kurssin kaksi viikkoa ennen kurssin alkua. Mikäli kurssille ei saavuteta vähimmäismäärää osalistuja\, pidättää Aboa Mare oikeuden perua kurssi viimeistään kaksi viikkoa ennen kurssin alkua.\nAboa Mare ei laskuta osallistumisen peruuttamisesta\, jos peruutus tapahtuu vähintään 14 vrk ennen kurssin alkua. Peruutuksista 7-14 vrk ennen kurssin alkua veloitetaan 50 % kurssimaksusta. Tämän jälkeen tehdyistä peruutuksista veloitetaan kurssimaksu kokonaisuudessaan. Kurssilaskut lähetetään kurssin alkamisen jälkeen.\nMaksimiosallistujamäärä: 12\nIlmoittautumiset: Kurssi on peruttu osallistujien puutteen takia.\nLisätietoja: Kirsi Kautto (kirsi (at) syduetto.fi )
URL:https://hooveekoo.fi/event/veneilijan-tutkakurssi/
LOCATION:Aboa Mare\, Juhana Herttuan puistokatu 21\, Turku\, 20100\, Suomi
CATEGORIES:koulutukset
ATTACH;FMTTYPE=image/png:https://hooveekoo.fi/wp-content/uploads/peruttu-eVuYAU.tmp_.png
END:VEVENT
BEGIN:VEVENT
DTSTART;TZID=Europe/Helsinki:20230422T120000
DTEND;TZID=Europe/Helsinki:20230422T140000
DTSTAMP:20260420T023651
CREATED:20230320T205011Z
LAST-MODIFIED:20230421T223510Z
UID:119182-1682164800-1682172000@hooveekoo.fi
SUMMARY:Veneiden I yhteislasku\, Sammutinhuolto klo 11.00-13.00
DESCRIPTION:
URL:https://hooveekoo.fi/event/veneiden-i-yhteislasku-sammutinhuolto-klo-11-00-13-00/
CATEGORIES:satama
END:VEVENT
BEGIN:VEVENT
DTSTART;TZID=Europe/Helsinki:20230425T190000
DTEND;TZID=Europe/Helsinki:20230425T210000
DTSTAMP:20260420T023651
CREATED:20230305T213508Z
LAST-MODIFIED:20230424T234644Z
UID:118308-1682449200-1682456400@hooveekoo.fi
SUMMARY:Yhdistyksen sääntömääräinen kevätkokous
DESCRIPTION:
URL:https://hooveekoo.fi/event/yhdistyksen-saantomaarainen-kevatkokous/
END:VEVENT
END:VCALENDAR