BEGIN:VCALENDAR
VERSION:2.0
PRODID:-//Humallahden Venekerho - ECPv6.15.20//NONSGML v1.0//EN
CALSCALE:GREGORIAN
METHOD:PUBLISH
X-ORIGINAL-URL:https://hooveekoo.fi
X-WR-CALDESC:Tapahtumat Humallahden Venekerho
REFRESH-INTERVAL;VALUE=DURATION:PT1H
X-Robots-Tag:noindex
X-PUBLISHED-TTL:PT1H
BEGIN:VTIMEZONE
TZID:Europe/Helsinki
BEGIN:DAYLIGHT
TZOFFSETFROM:+0200
TZOFFSETTO:+0300
TZNAME:EEST
DTSTART:20220327T010000
END:DAYLIGHT
BEGIN:STANDARD
TZOFFSETFROM:+0300
TZOFFSETTO:+0200
TZNAME:EET
DTSTART:20221030T010000
END:STANDARD
BEGIN:DAYLIGHT
TZOFFSETFROM:+0200
TZOFFSETTO:+0300
TZNAME:EEST
DTSTART:20230326T010000
END:DAYLIGHT
BEGIN:STANDARD
TZOFFSETFROM:+0300
TZOFFSETTO:+0200
TZNAME:EET
DTSTART:20231029T010000
END:STANDARD
BEGIN:DAYLIGHT
TZOFFSETFROM:+0200
TZOFFSETTO:+0300
TZNAME:EEST
DTSTART:20240331T010000
END:DAYLIGHT
BEGIN:STANDARD
TZOFFSETFROM:+0300
TZOFFSETTO:+0200
TZNAME:EET
DTSTART:20241027T010000
END:STANDARD
END:VTIMEZONE
BEGIN:VEVENT
DTSTART;TZID=Europe/Helsinki:20231113T180000
DTEND;TZID=Europe/Helsinki:20231113T200000
DTSTAMP:20260419T172920
CREATED:20230302T180505Z
LAST-MODIFIED:20231113T164715Z
UID:118271-1699898400-1699905600@hooveekoo.fi
SUMMARY:Hallituksen kokous
DESCRIPTION:
URL:https://hooveekoo.fi/event/hallituksen-kokous-9/
CATEGORIES:hallituksen kokoukset
END:VEVENT
BEGIN:VEVENT
DTSTART;TZID=Europe/Helsinki:20231128T190000
DTEND;TZID=Europe/Helsinki:20231128T210000
DTSTAMP:20260419T172920
CREATED:20230302T213138Z
LAST-MODIFIED:20231127T194006Z
UID:118278-1701198000-1701205200@hooveekoo.fi
SUMMARY:Yhdistyksen sääntömääräinen syyskokous
DESCRIPTION:Hyvä jäsen\, \nTervetuloa HVK:n syyskokoukseen 28.11.2023 klo 19 kerhotalolle! Kokouskutsu ja -materiaalit löytyvät jäsensivustolta osiosta ajankohtaiset dokumentit. \n  \n  \n  \n 
URL:https://hooveekoo.fi/event/yhdistyksen-saantomaarainen-syyskokous/
LOCATION:HVK:n kerhorakennus\, Rajasaarenpenger 6\, Helsinki (Taka-Töölö)\, Suomi
CATEGORIES:kerhotila_varattu
END:VEVENT
END:VCALENDAR