BEGIN:VCALENDAR
VERSION:2.0
PRODID:-//Humallahden Venekerho - ECPv6.15.20//NONSGML v1.0//EN
CALSCALE:GREGORIAN
METHOD:PUBLISH
X-ORIGINAL-URL:https://hooveekoo.fi
X-WR-CALDESC:Tapahtumat Humallahden Venekerho
REFRESH-INTERVAL;VALUE=DURATION:PT1H
X-Robots-Tag:noindex
X-PUBLISHED-TTL:PT1H
BEGIN:VTIMEZONE
TZID:Europe/Helsinki
BEGIN:DAYLIGHT
TZOFFSETFROM:+0200
TZOFFSETTO:+0300
TZNAME:EEST
DTSTART:20220327T010000
END:DAYLIGHT
BEGIN:STANDARD
TZOFFSETFROM:+0300
TZOFFSETTO:+0200
TZNAME:EET
DTSTART:20221030T010000
END:STANDARD
BEGIN:DAYLIGHT
TZOFFSETFROM:+0200
TZOFFSETTO:+0300
TZNAME:EEST
DTSTART:20230326T010000
END:DAYLIGHT
BEGIN:STANDARD
TZOFFSETFROM:+0300
TZOFFSETTO:+0200
TZNAME:EET
DTSTART:20231029T010000
END:STANDARD
BEGIN:DAYLIGHT
TZOFFSETFROM:+0200
TZOFFSETTO:+0300
TZNAME:EEST
DTSTART:20240331T010000
END:DAYLIGHT
BEGIN:STANDARD
TZOFFSETFROM:+0300
TZOFFSETTO:+0200
TZNAME:EET
DTSTART:20241027T010000
END:STANDARD
END:VTIMEZONE
BEGIN:VEVENT
DTSTART;VALUE=DATE:20231208
DTEND;VALUE=DATE:20231209
DTSTAMP:20260419T160651
CREATED:20231114T085637Z
LAST-MODIFIED:20231203T093221Z
UID:124244-1701993600-1702079999@hooveekoo.fi
SUMMARY:Paven talven ja kevään 2024 kursseille ilmoittautminen alkaa
DESCRIPTION:Paven talven ja kevään kurssit julkaistaan ja ilmoittautuminen alkaa 8.12.2023.\n \nPajalahden veneilykoulu (Pave) on yhdeksän Helsingin länsipuolisen veneilyseuran vapaaehtoisvoimin toimiva koulutusyhteisö\, jossa HVK on mukana. Paven kursseille voivat osallistua näiden seurojen jäsenet\, ja kurssit ovat pääosin maksuttomia. Koulutukset ovat jäsenetu. Paveen kuuluvissa seuroissa on yhteensä noin 4500 veneilijää. \nKurssit täytetään ilmoittautumisjärjestyksessä. Osallistujien maksimimäärä riippuu kurssipaikasta ja kurssin luonteesta. Suosituimmat kurssit täyttyvät perinteisesti hetkessä\, joten toimi nopeasti. \nKurssiluettelo ja ilmoittautuminen Paven sivustolla. \n  \n Aikaa jäljellä vuoden 2024 koulutusohjelman julkaisuun ja ilmoittautumisen avaamiseen
URL:https://hooveekoo.fi/event/paven-talven-ja-kevaan-2024-kursseille-ilmoittautminen-alkaa/
CATEGORIES:koulutukset
ATTACH;FMTTYPE=image/jpeg:https://hooveekoo.fi/wp-content/uploads/ari-caselius-scaled.jpg
END:VEVENT
BEGIN:VEVENT
DTSTART;TZID=Europe/Helsinki:20231212T180000
DTEND;TZID=Europe/Helsinki:20231212T200000
DTSTAMP:20260419T160651
CREATED:20231129T194629Z
LAST-MODIFIED:20231211T210512Z
UID:124353-1702404000-1702411200@hooveekoo.fi
SUMMARY:Kisakertomus: Fastnet Race kahdestaan (LÄHIKOULUTUS) TÄYNNÄ
DESCRIPTION:Sanna Moliis ja Julius Haartti osallistuivat elokuussa 2023 Rolex Fastnet Raceen ensimmäisenä suomalaisen DH-miehistönä.\nRolex Fastnet Race on yksi maailman kuuluisimmista avomerikilpailuista. Tänä vuonna se purjehdittiin jo 50. kerran ja peräti 450 venettä oli lähtölinjalla Cowesissa. Kisa on tunnettu vaativista olosuhteista eikä tämäkään vuosi tuottanut pettymystä siinä suhteessä. IRC luokissa veneitä lähti 358 ja vain 201 purjehti maaliin asti. Heti lähdön jälkeen iski vastaan ensimmäinen myrskyrintama eikä se jäänyt viimeiseksi. Viiden päivän\, 15 tunnin\, 25 minuutin  ja yli 700 mpk:n jälkeen Irie ylitti maalilinjan Cherbourgissa.\nSanna ja Julius aloittivat valmistautumisen kilpailuun jo vuotta aikaisemmin. He purjehtivat veneen kesäkuussa Cherbourgiin\, missä valmistautuminen jatkui. Kisan jälkeen oli vuorossa siirtopurjehdus takaisin Suomeen. Aikamoinen projekti kahdelle purjehtijalle.\nKouluttajat: Sanna Moliis\, Julius Haartti\nLisätietoja: Lars Andtfolk PSS\,  pave(at)lars.fastmail.fm\nIlmoittautuminen: Tilaisuuteen mahtuu 40 osallistujaa.  Jos muutat mielesi osallistumisesta\, ilmoita mahdollisimman pian emaililla Larsille\, koska tilaisuuteen saatetaan jonottaa.\nIlmoittautuneet: /40\nJonotuslista:
URL:https://hooveekoo.fi/event/kisakertomus-fastnet-race-kahdestaan-lahikoulutus/
LOCATION:HSK\, Iso-Pässi -sali\, Vattuniemen puistotie 1\, Helsinki\, Suomi
CATEGORIES:koulutukset
ATTACH;FMTTYPE=image/png:https://hooveekoo.fi/wp-content/uploads/taynna-DaNM37.tmp_.png
END:VEVENT
BEGIN:VEVENT
DTSTART;TZID=Europe/Helsinki:20231213T180000
DTEND;TZID=Europe/Helsinki:20231213T210000
DTSTAMP:20260419T160652
CREATED:20230302T180505Z
LAST-MODIFIED:20231213T175009Z
UID:118272-1702490400-1702501200@hooveekoo.fi
SUMMARY:Hallituksen vaihtokokous
DESCRIPTION:
URL:https://hooveekoo.fi/event/hallituksen-vaihtokokous/
CATEGORIES:hallituksen kokoukset
END:VEVENT
END:VCALENDAR