BEGIN:VCALENDAR
VERSION:2.0
PRODID:-//Humallahden Venekerho - ECPv6.15.20//NONSGML v1.0//EN
CALSCALE:GREGORIAN
METHOD:PUBLISH
X-WR-CALNAME:Humallahden Venekerho
X-ORIGINAL-URL:https://hooveekoo.fi
X-WR-CALDESC:Tapahtumat Humallahden Venekerho
REFRESH-INTERVAL;VALUE=DURATION:PT1H
X-Robots-Tag:noindex
X-PUBLISHED-TTL:PT1H
BEGIN:VTIMEZONE
TZID:Europe/Helsinki
BEGIN:DAYLIGHT
TZOFFSETFROM:+0200
TZOFFSETTO:+0300
TZNAME:EEST
DTSTART:20230326T010000
END:DAYLIGHT
BEGIN:STANDARD
TZOFFSETFROM:+0300
TZOFFSETTO:+0200
TZNAME:EET
DTSTART:20231029T010000
END:STANDARD
BEGIN:DAYLIGHT
TZOFFSETFROM:+0200
TZOFFSETTO:+0300
TZNAME:EEST
DTSTART:20240331T010000
END:DAYLIGHT
BEGIN:STANDARD
TZOFFSETFROM:+0300
TZOFFSETTO:+0200
TZNAME:EET
DTSTART:20241027T010000
END:STANDARD
BEGIN:DAYLIGHT
TZOFFSETFROM:+0200
TZOFFSETTO:+0300
TZNAME:EEST
DTSTART:20250330T010000
END:DAYLIGHT
BEGIN:STANDARD
TZOFFSETFROM:+0300
TZOFFSETTO:+0200
TZNAME:EET
DTSTART:20251026T010000
END:STANDARD
END:VTIMEZONE
BEGIN:VEVENT
DTSTART;TZID=Europe/Helsinki:20240402T180000
DTEND;TZID=Europe/Helsinki:20240402T190000
DTSTAMP:20260421T111657
CREATED:20231208T205700Z
LAST-MODIFIED:20240402T022502Z
UID:124548-1712080800-1712084400@hooveekoo.fi
SUMMARY:Oletko kiinnostunut kansainvälisen huviveeneenkuljettajankirjan hankkimisesta? (LÄHI- JA ETÄKOULUTUS)
DESCRIPTION:Tilaisuudessa kerrotaan veneilijöille SPV:n koulutusväylästä ja koulutuspolusta kansainvälisen huviveneenkuljettajankirjan (ICC) saamiseksi.\nSisältö:\n 	SPV:n koulutusväylä\n 	Veneilijäkurssin ja venepäällikkökurssin sisällöt\n 	Osaamisvaatimukset ICC:n saamiseksi\n 	Tietoa siitä\, miten voin edetä ICC:n saamiseksi\n 	Kysymyksiä ja vastauksia\nKouluttajat ja asiantuntijat:\n 	Jori Kosonen\, veneilykouluttaja ja katsastaja (SPV\, HVK)\, vuokraveneen- ja huvuveneenkuljettajakirja (Traficom).\n 	Klaus Salkola (HVK)\n 	Janne Ignatius (HVK)\n 	Jyrki Pulkkanen (LK)\n 	Kiia Mäkelä (LK)\nLisätietoja: Jori Kosonen\, Jori@turvallistaveneilya.fi\nTilaisuus on ilmainen ja se järjestetään lähitilaisuutena HVK:lla sekä etänä Teamssilla. Kouluttaja lähettää Teams-linkin ilmoittautuneille.\nIlmoittautuminen:\nIlmoittautuneet: /50\, joista lähikolutuksena  ja etäkoulutuksena .\nJonotuslista:\n 
URL:https://hooveekoo.fi/event/oletko-kiinnostunut-kansainvalisen-huviveeneenkuljettajankirjan-hankkimisesta-lahi-ja-etakoulutus-2/
LOCATION:Humallahden Venekerho\, Rajasaarenpenger 6\, Helsinki\, Suomi
CATEGORIES:koulutukset
ATTACH;FMTTYPE=image/png:https://hooveekoo.fi/wp-content/uploads/Screen-Shot-11-22-21-at-11.44-PM-Z0EZmc.tmp_.png
END:VEVENT
BEGIN:VEVENT
DTSTART;TZID=Europe/Helsinki:20240408T170000
DTEND;TZID=Europe/Helsinki:20240408T200000
DTSTAMP:20260421T111657
CREATED:20240131T231005Z
LAST-MODIFIED:20240408T030121Z
UID:125166-1712595600-1712606400@hooveekoo.fi
SUMMARY:PERUTTU -Vierailu Suomenlinnan puuveneveistämölle
DESCRIPTION:Kurssipaikka:\nVIERAILU PERUTTU – Veneveistämö Janne Pettersson Oy\nSuomenlinna 14 B 14\, 00190 Suomenlinna\nKurssin sisältö:\nValitettavasti vierailu joudutaan perumaan telakkamestarin loukkantumisen vuoksi.\nPikaista paranemista Janne Petterssonille!\nTervetuloa vierailulle Veneveistämö Janne Pettersson Oy:n perinteisen puuveneveistämön telakalle Suomenlinnaan. Puuveneiden asiantuntija Janne Pettersson kertoo toiminnastaan ja voit esittää venemestarille kysymyksiä.\nVeistämöllä pystytään tekemään perusteellisia korjauksia ja uudistamisia kaikkiin veneisiin. Puuveneet ja erityisesti klassikot ovat ehkä keskeisintä osaamisaluetta. Janne Petterssonilla on myös laadukkaiden uusien puuveneiden rakentamisen tieto ja taito.\nVeistämö toimii kiinteässä yhteistyössä telakkayhtiö Varvilahti Oy:n kanssa\, joka hoitaa veneiden nostot\, siirrot  ja telakoinnin ja korjaa myös moottorit.\nKouluttaja: Janne Pettersson\nKurssimaksu: –\nOsallistujamäärä: 5-30 (Listalla sijat >30 ovat jonossa mahdollisille peruutuspaikoille.)\nLisätietoja: Jyrki Pulkkanen\, Lauttasaaren Kipparit/PaVe\, 0405741204\, pulkkanen.jyrki ( at ) gmail.com\nIlmoittautuminen:  Kurssi toteutuu\, mikäli osallistujia on vähintään 5 henkilöä. Jos muutat mielesi osallistumisesta\, ilmoita mahdollisimman pian viestillä tai emaililla Jyrkille\, koska tapahtumaan saatetaan jonottaa. Tulethan tapahtumaan terveenä.\nIlmoittautuneet: /30.\nJonotuslista:
URL:https://hooveekoo.fi/event/vierailu-suomenlinnan-puuveneveistamolle-lahitilaisuus/
LOCATION:Suomenlinna\, Suomenlinna 14 B 14\, 00190 Suomenlinna\, Helsinki\, Suomi
CATEGORIES:koulutukset
ATTACH;FMTTYPE=image/jpeg:https://hooveekoo.fi/wp-content/uploads/20190409_180136-1vb1Vd.tmp_.jpg
END:VEVENT
BEGIN:VEVENT
DTSTART;TZID=Europe/Helsinki:20240408T180000
DTEND;TZID=Europe/Helsinki:20240408T200000
DTSTAMP:20260421T111657
CREATED:20240116T210257Z
LAST-MODIFIED:20240408T024619Z
UID:124909-1712599200-1712606400@hooveekoo.fi
SUMMARY:Hallituksen kokous
DESCRIPTION:
URL:https://hooveekoo.fi/event/hallituksen-kokous-14/
END:VEVENT
BEGIN:VEVENT
DTSTART;TZID=Europe/Helsinki:20240410T180000
DTEND;TZID=Europe/Helsinki:20240410T210000
DTSTAMP:20260421T111657
CREATED:20231208T205803Z
LAST-MODIFIED:20240410T030432Z
UID:124549-1712772000-1712782800@hooveekoo.fi
SUMMARY:Meridieselmoottorin huolto ja kevättarkistus (LÄHIKOULUTUS)
DESCRIPTION:Käydään läpi meridieselin yleisiä huoltotoimia ja erityisesti keväällä tarkistettavat seikat.
URL:https://hooveekoo.fi/event/meridieselmoottorin-huolto-ja-kevattarkistus-lahikoulutus-2/
LOCATION:HSK\, Iso-Pässi -sali\, Vattuniemen puistotie 1\, Helsinki\, Suomi
CATEGORIES:koulutukset
ATTACH;FMTTYPE=image/png:https://hooveekoo.fi/wp-content/uploads/moottori-cpSd6o.tmp_.png
END:VEVENT
BEGIN:VEVENT
DTSTART;TZID=Europe/Helsinki:20240411T180000
DTEND;TZID=Europe/Helsinki:20240411T200000
DTSTAMP:20260421T111657
CREATED:20231208T205803Z
LAST-MODIFIED:20231208T205803Z
UID:124551-1712858400-1712865600@hooveekoo.fi
SUMMARY:PaVen turvallisuusilta (ETÄTILAISUUS)
DESCRIPTION:Tilaisuuden sisältö:\nMiten parannamme veneilyturvallisuutta ja ehkäisemme ennalta mahdolliset onnettomuudet? Mitä voimme oppia tapahtuneista onnettomuuksista? Entä läheltä piti -tilanteet\, eihän niistä kehtaa kertoa? Vai kehtaako? Onko vika aina laitteistoissa\, vai onko kyse inhimillisistä tekijöistä?\nPaven ensimmäisessä turvallisuusillassa pohditaan vesillä tapahtuvien onnettomuuksien ja vaaratilanteiden ehkäisyä. Kannustamme veneilijöitä kokemusten jakamiseen ja niistä oppimiseen. Haemme myös vastausta kysymykseen\, mitä voimme yhdessä tehdä turvallisuuden kehittämiseksi.\nTilaisuus toteutetaan Teamsillä. Osallistujat voivat lähettää etukäteen kysymyksiä teemaan liittyen. Pyydämme myös ehdotuksia tilaisuudessa käsiteltäviksi onnettomuus- tai läheltä piti -tilanteiksi. Voit jättää kysymykset ja case-ehdotuksesi ilmoittautumislomakkeella (ks. tämän sivun alaosa).\nOhjelma:\nMitä sattuneista vesiliikenne onnettomuuksista tai läheltä piti -tilanteista voidaan oppia.\nRisto Haimila\, Johtava tutkija\, merionnettomuudet\, Onnettomuustutkintakeskus\nEnnaltaehkäisy on turvallisuuden kehittämisen ykkönen.\nMarko Stenberg\, Turvallisuus- ja valmiuspäällikkö\, Suomen Meripelastusseura\nJaetaan kokemuksia – mitä tapahtui\, mitä tästä opimme?\nCase 1 ja Case 2 avataan ja analysoidaan.\nValmistautuminen etätilaisuuteen:\nTilaisuus toteutetaan Teams-palvelun kautta. Järjestäjä lähettää linkin sähköpostilla osallistujille. Asenna tietokoneellesi Teams-applikaatio tai käytä sitä nettiselaimella lähetetyllä linkillä.\nOsallistujamäärä: 5 – 50 (Listalla sijat >50 ovat jonossa mahdollisille peruutuspaikoille.)\nLisätietoja:\nMerja Vuori\, SMK\,  merjasinikkavuori ( at ) gmail.com ja Kirsi Kautto\, SMK\, kirsi ( at ) syduetto.fi\nEnnakkotehtävä:\nKirjoita alla oleviin laatikoihin kysymyksiä turvallisuusiltaan ja/tai lyhyt kuvaus kokemastasi onnettomuus- tai läheltä piti -tilanteesta (pakolliset kentät).\nIlmoittautuminen: \nTäytä kaikki kentät\, myös kysymyskentät\, ennen kuin painat ilmoittaudu-nappia. Jos haluat peruuttaa osallistumisesi\, ilmoita mahdollisimman pian sähköpostilla Merjalle tai Kirsille\, jotta jonossa olevalla on mahdollisuus päästä mukaan.\nIlmoittautuneet: /50.\nJonotuslista:
URL:https://hooveekoo.fi/event/paven-turvallisuusilta-etatilaisuus/
LOCATION:Etäkoulutus\, -\, -\, Suomi
CATEGORIES:koulutukset
ATTACH;FMTTYPE=image/jpeg:https://hooveekoo.fi/wp-content/uploads/kohtaaminen-L2GgJi.tmp_.jpg
END:VEVENT
BEGIN:VEVENT
DTSTART;TZID=Europe/Helsinki:20240424T190000
DTEND;TZID=Europe/Helsinki:20240424T210000
DTSTAMP:20260421T111657
CREATED:20240224T234815Z
LAST-MODIFIED:20240424T031854Z
UID:125353-1713985200-1713992400@hooveekoo.fi
SUMMARY:Sääntömääräinen kevätkokous
DESCRIPTION:Yhdistyksen kevätkokous 24.4 klo 19
URL:https://hooveekoo.fi/event/saantomaarainen-kevatkokous/
END:VEVENT
BEGIN:VEVENT
DTSTART;TZID=Europe/Helsinki:20240427T000000
DTEND;TZID=Europe/Helsinki:20240504T000000
DTSTAMP:20260421T111657
CREATED:20240223T013651Z
LAST-MODIFIED:20240503T033123Z
UID:125337-1714176000-1714780800@hooveekoo.fi
SUMMARY:Vanhentuneiden hätäsoihtujen ja -rakettien  keräys
DESCRIPTION:Keräyksessä mukana olevat kerhot järjestävät vanhentuneiden rakettien ja soihtujen keräyksen vappuviikolla. Veneseurat tiedottavat kukin keräyskäytännöstä jäsenilleen erikseen. Poliisit kerää soihdut ja raketit kerhoilta talteen.\nHuomioi myös mahdollisuus hävittää vanhentuneet raketit Meripelastusseuran hätämerkinantoharjoituksessa la. 9.3.2024 (kts PAVE Tapahtuma)\nTähän tapahtumaan ei ilmoitatuduta erikseen\, seuraa veneseurasi tiedotusta käytännöistä. \nHVK: Veneiden ensimmäisen yhteislaskun yhteydessä järjestetään vanhentuneiden hätärakettien ja soihtujen keräys. Raketit ja soihdut voi tuoda telakka-alueen jätepisteen peltikaappiin lauantaina 27.4. klo 13:00 alkaen ja sitä seuraavana päivänä klo 15-16 välisenä aikana. Telakkamestari Henrik Westerholm on paikalla ottamassa niitä vastaan.
URL:https://hooveekoo.fi/event/vanhentuneiden-hatasoihtujen-ja-rakettien-kerays/
CATEGORIES:koulutukset
ATTACH;FMTTYPE=image/webp:https://hooveekoo.fi/wp-content/uploads/ikaros-rocket-parachute-hand-flare-500x500-500x500-1-UebDaO.tmp_.webp
END:VEVENT
BEGIN:VEVENT
DTSTART;TZID=Europe/Helsinki:20240427T130000
DTEND;TZID=Europe/Helsinki:20240427T160000
DTSTAMP:20260421T111657
CREATED:20240219T233408Z
LAST-MODIFIED:20240427T031719Z
UID:125317-1714222800-1714233600@hooveekoo.fi
SUMMARY:Veneiden yhteislaskupäivä
DESCRIPTION:Paikalla myös Presto Sammutinhuolto oy klo 12-14
URL:https://hooveekoo.fi/event/veneiden-yhteislaskupaiva/
END:VEVENT
END:VCALENDAR