BEGIN:VCALENDAR
VERSION:2.0
PRODID:-//Humallahden Venekerho - ECPv6.15.20//NONSGML v1.0//EN
CALSCALE:GREGORIAN
METHOD:PUBLISH
X-WR-CALNAME:Humallahden Venekerho
X-ORIGINAL-URL:https://hooveekoo.fi
X-WR-CALDESC:Tapahtumat Humallahden Venekerho
REFRESH-INTERVAL;VALUE=DURATION:PT1H
X-Robots-Tag:noindex
X-PUBLISHED-TTL:PT1H
BEGIN:VTIMEZONE
TZID:Europe/Helsinki
BEGIN:DAYLIGHT
TZOFFSETFROM:+0200
TZOFFSETTO:+0300
TZNAME:EEST
DTSTART:20230326T010000
END:DAYLIGHT
BEGIN:STANDARD
TZOFFSETFROM:+0300
TZOFFSETTO:+0200
TZNAME:EET
DTSTART:20231029T010000
END:STANDARD
BEGIN:DAYLIGHT
TZOFFSETFROM:+0200
TZOFFSETTO:+0300
TZNAME:EEST
DTSTART:20240331T010000
END:DAYLIGHT
BEGIN:STANDARD
TZOFFSETFROM:+0300
TZOFFSETTO:+0200
TZNAME:EET
DTSTART:20241027T010000
END:STANDARD
BEGIN:DAYLIGHT
TZOFFSETFROM:+0200
TZOFFSETTO:+0300
TZNAME:EEST
DTSTART:20250330T010000
END:DAYLIGHT
BEGIN:STANDARD
TZOFFSETFROM:+0300
TZOFFSETTO:+0200
TZNAME:EET
DTSTART:20251026T010000
END:STANDARD
END:VTIMEZONE
BEGIN:VEVENT
DTSTART;TZID=Europe/Helsinki:20241102T100000
DTEND;TZID=Europe/Helsinki:20241102T100000
DTSTAMP:20260420T164441
CREATED:20240821T130144Z
LAST-MODIFIED:20241101T163330Z
UID:126866-1730541600-1730541600@hooveekoo.fi
SUMMARY:Veneiden II nostopäivä klo 10 -
DESCRIPTION:
URL:https://hooveekoo.fi/event/veneiden-ii-nostopaiva-klo-10/
END:VEVENT
BEGIN:VEVENT
DTSTART;TZID=Europe/Helsinki:20241106T180000
DTEND;TZID=Europe/Helsinki:20241106T200000
DTSTAMP:20260420T164441
CREATED:20241030T163157Z
LAST-MODIFIED:20241106T171647Z
UID:127331-1730916000-1730923200@hooveekoo.fi
SUMMARY:Hallituksen kokous Teams
DESCRIPTION:
URL:https://hooveekoo.fi/event/hallituksen-kokous-teams/
END:VEVENT
BEGIN:VEVENT
DTSTART;TZID=Europe/Helsinki:20241123T090000
DTEND;TZID=Europe/Helsinki:20241124T170000
DTSTAMP:20260420T164441
CREATED:20240804T072644Z
LAST-MODIFIED:20240816T221359Z
UID:126702-1732352400-1732467600@hooveekoo.fi
SUMMARY:Veneen sähköt (TÄYNNÄ)
DESCRIPTION:Veneen sähköt 11/24 \n\nLisätiedot ja ilmoittautuminen: https://www.venekoulutukset.fi/event/veneen-sahkot/ \n 
URL:https://hooveekoo.fi/event/veneen-sahkot-198e/
LOCATION:Humallahden Venekerho\, Rajasaarenpenger 6\, Helsinki\, Finland
CATEGORIES:kerhotila_varattu,koulutukset
ORGANIZER;CN="Venetaito":MAILTO:info@venekoulutukset.fi
END:VEVENT
BEGIN:VEVENT
DTSTART;TZID=Europe/Helsinki:20241127T190000
DTEND;TZID=Europe/Helsinki:20241127T203000
DTSTAMP:20260420T164441
CREATED:20240814T124630Z
LAST-MODIFIED:20241126T184623Z
UID:126813-1732734000-1732739400@hooveekoo.fi
SUMMARY:Sääntömääräinen syyskokous
DESCRIPTION:Hyvä jäsen\, \nTervetuloa Humallahden venekerhon sääntömääräiseen syyskokoukseen keskiviikkona 27.11 klo 19 HVK:n kerhotalolle. \nKokouksessa pääset valitsemaan jäseniä yhdistyksemme hallitukseen. Kokouksessa päätetään myös tulevan kauden toimintasuunnitelmasta ja budjetista sekä määrätään jäsenmaksut ja palveluista perittävät maksut. \nKokouskutsu ja -materiaali löytyvät HVK:n jäsensivuilta ajankohtaisista dokumenteista. \nKahvitarjoilu. \nLämpimästi tervetuloa!
URL:https://hooveekoo.fi/event/saantomaarainen-syyskokous/
END:VEVENT
END:VCALENDAR