BEGIN:VCALENDAR
VERSION:2.0
PRODID:-//Humallahden Venekerho - ECPv6.15.20//NONSGML v1.0//EN
CALSCALE:GREGORIAN
METHOD:PUBLISH
X-ORIGINAL-URL:https://hooveekoo.fi
X-WR-CALDESC:Tapahtumat Humallahden Venekerho
REFRESH-INTERVAL;VALUE=DURATION:PT1H
X-Robots-Tag:noindex
X-PUBLISHED-TTL:PT1H
BEGIN:VTIMEZONE
TZID:Europe/Helsinki
BEGIN:DAYLIGHT
TZOFFSETFROM:+0200
TZOFFSETTO:+0300
TZNAME:EEST
DTSTART:20240331T010000
END:DAYLIGHT
BEGIN:STANDARD
TZOFFSETFROM:+0300
TZOFFSETTO:+0200
TZNAME:EET
DTSTART:20241027T010000
END:STANDARD
BEGIN:DAYLIGHT
TZOFFSETFROM:+0200
TZOFFSETTO:+0300
TZNAME:EEST
DTSTART:20250330T010000
END:DAYLIGHT
BEGIN:STANDARD
TZOFFSETFROM:+0300
TZOFFSETTO:+0200
TZNAME:EET
DTSTART:20251026T010000
END:STANDARD
BEGIN:DAYLIGHT
TZOFFSETFROM:+0200
TZOFFSETTO:+0300
TZNAME:EEST
DTSTART:20260329T010000
END:DAYLIGHT
BEGIN:STANDARD
TZOFFSETFROM:+0300
TZOFFSETTO:+0200
TZNAME:EET
DTSTART:20261025T010000
END:STANDARD
END:VTIMEZONE
BEGIN:VEVENT
DTSTART;TZID=Europe/Helsinki:20250301T130000
DTEND;TZID=Europe/Helsinki:20250301T170000
DTSTAMP:20260420T113706
CREATED:20241210T065738Z
LAST-MODIFIED:20250301T081716Z
UID:127664-1740834000-1740848400@hooveekoo.fi
SUMMARY:Käytännön VHF/DSC-kertausharjoitus (LÄHIKOULUTUS)
DESCRIPTION:Kohderyhmä: Tämä kertausharjoitus on tarkoitettu SRC:n (Short Range Certificate) tai vanhemman VHF-rajoitetun radioaseman hoitajan pätevyystodistuksen omaaville veneilijöille\, jotka haluavat päivittää ja kerrata osaamistaan sekä osallistua käytännön harjoitukseen. (Jos sinulla ei ole henkilökohtaista pätevyystodistusta ja tarvitset sellaista\, katso esim. meri-VHF-verkkokurssi.)\nEsitiedot: SRC (Short Range Certificate) tai vanhempi VHF-rajoitetun radioaseman hoitajan pätevyystodistus. Ennen harjoitusta olisi myös hyvä kerrata VHF-radion perustoiminnot ja radioaakkoset.\nTavoite:  VHF/DSC takaisin haltuun ja aktiivikäyttöön. Osaan soittaa kaverille veneeseen DSC:llä. Osaan tarvittaessa käyttää VHF/DSC-puhelinta hätätilanteessa.\nKurssin sisältö:\n 	Merenkulun kansainvälinen hätä- ja turvallisuusjärjestelmä GMDSS (Global Maritime Distress and Safety System)\n 	Radioliikennekäytännöt\n 	Käytännön harjoitus pienryhmissä SPV:n koulutusasemalla ja  kannettavilla meri-VHF-puhelimilla\n 	Harjoituksen purkukeskustelu\nAiheeseen liittyvää materiaalia:\n 	Rannikkolaivurin radioliikenneopas \n 	VHF-kanavataulukko 2023\n 	Mika Piironen\, Meri-VHF-radiopuhelin\, Suomen Navigoinnin Opettajat\, 2018.\n 	Venetaito: Meri-VHF-kertausverkkokurssi\n 	eGMDSS-sivusto (Hyödyllistä ilmaista luettavaa ja maksullinen VHF/DSC-simulaattori.  Teksteissä ja testeissä on huomattu kuitenkin olevan jonkin verran pieniä virheitä.)\n 	VHF/DSC-puhelin korvaa pyroteknisiä hätäilmoitusvälineitä huvivenekatsastuksessa\n 	Hätäliikenneohje fi\, eng\n 	Aiheettoman hätähälytyksen peruutustoimenpiteet fi\, eng\n 	Toimenpidekaavio hätätilanteessa fi\, eng\n 	Ohje VHF/DSC-puhelimen testaamisesta\nOta koulutukseen mukaan: Rannikkolaivurin radioliikenneopas ja muistiinpanovälineet. (Tähän harjoitukseen ei voi tuoda oman veneen VHF-puhelinta tai omaa kannettavaa VHF-puhelinta\, koska niiden lupaehdot eivät salli käyttöä maissa.)\nKouluttaja: Jukka Wallinheimo (HVK). Jukka on sähkötekniikan diplomi-insinööri\, radioamatööri ja veneilyn harrastaja. Jukka on SPV:n VHF/DSC-kouluttaja ja huvivenekatsastaja.\nLisätietoja: Jukka Wallinheimo\, jukka.wallinheimo (at) kolumbus.fi\nOsallistujamäärä: 6 – 12. (Listalla sijat >12 ovat jonossa mahdollisille peruutuspaikoille.)\nIlmoittautuminen: Ilmoittaudu täyttämällä lomake. Saat seuraavaksi vahvistuksen sähköpostiisi.\nIlmoittautuneet: /12.\nJonotuslista:
URL:https://hooveekoo.fi/event/kaytannon-vhf-dsc-kertausharjoitus-lahikoulutus-4-2/
LOCATION:Humallahden Venekerho\, Rajasaarenpenger 6\, Helsinki\, Suomi
CATEGORIES:kerhotila_varattu,koulutukset
ATTACH;FMTTYPE=image/png:https://hooveekoo.fi/wp-content/uploads/taynna-DaNM37.tmp_.png
END:VEVENT
BEGIN:VEVENT
DTSTART;TZID=Europe/Helsinki:20250302T130000
DTEND;TZID=Europe/Helsinki:20250302T170000
DTSTAMP:20260420T113706
CREATED:20241210T065740Z
LAST-MODIFIED:20250302T081652Z
UID:127668-1740920400-1740934800@hooveekoo.fi
SUMMARY:VHF-radiolaitteiston tekniikkaa ja tarkistaminen mittaamalla (LÄHIKOULUTUS)
DESCRIPTION:Kohderyhmä: Koulutus on suunnattu veneilijöille\, jotka haluavat hieman syvällisemmin ymmärtää radiojärjestelmän siirtojohtojen ja antennien toimintaa\, sekä oppia tarkistamaan laitteiston kunto.\nEsitiedot: SRC (Short Range Certificate) tai vanhempi VHF-rajoitetun radioaseman hoitajan pätevyystodistus. (Jos sinulla ei ole henkilökohtaista pätevyystodistusta ja tarvitset sellaista\, katso esim. meri-VHF-verkkokurssi.)\nTavoite: Kurssin tavoitteena on oppia tarkistamaan meri-VHF-puhelinlaitteisto visuaalisesti ja mittaamalla\, sekä korjaamaan puutteita. Kurssilla tutustutaan myös mittauksessa tarvittaviin erilaisiin välineisiin käytännössä.\nKurssin sisältö:\n 	Radioaallot ja -taajuudet\, radioaaltojen eteneminen\n 	Hyvä asennustapa ja säännölliset huoltotoimenpiteet\n 	Radiolaitteen siirtojohdot ja antennit\n 	Heijastuminen ja seisovan aallon suhde (SWR)\n 	Visuaalinen tarkistus\n 	SWR-mittaus\n 	Mittausharjoituksia SWR-mittarilla\, antennianalysaattorilla ja vektorianalysaattorilla (VNA).\nAiheeseen liittyvää materiaalia:\n 	Rannikkolaivurin radioliikenneopas \n 	Hätäliikenneohje fi\, eng\n 	Aiheettoman hätähälytyksen peruutustoimenpiteet fi\, eng\n 	Toimenpidekaavio hätätilanteessa fi\, eng\n 	Ohje VHF/DSC-puhelimen testaamisesta\nOta koulutukseen mukaan: Muistiinpanovälineet. Voit myös tuoda VHF-antennin ja siirtojohtoja UHF-liittimillä mittausharjoitukseen. Jos sinulla on oma VHF-alueen SWR-mittari tai VNA\, voit sen halutessasi ottaa mukaan.\nKouluttaja: Jukka Wallinheimo (HVK). Jukka on sähkötekniikan diplomi-insinööri\, radioamatööri ja veneilyn harrastaja. Jukka on SPV:n VHF/DSC-kouluttaja ja huvivenekatsastaja.\nLisätietoja: Jukka Wallinheimo\, jukka.wallinheimo (at) kolumbus.fi\nOsallistujamäärä: 5 – 15 (Listalla sijat >15 ovat jonossa mahdollisille peruutuspaikoille.)\nIlmoittautuminen: Ilmoittaudu täyttämällä lomake. Saat seuraavaksi vahvistuksen sähköpostiisi.\nIlmoittautuneet: /15.\nJonotuslista:
URL:https://hooveekoo.fi/event/vhf-radiolaitteiston-tekniikkaa-ja-tarkistaminen-mittaamalla-lahikoulutus-5/
LOCATION:Humallahden Venekerho\, Rajasaarenpenger 6\, Helsinki\, Suomi
CATEGORIES:kerhotila_varattu,koulutukset
ATTACH;FMTTYPE=image/jpeg:https://hooveekoo.fi/wp-content/uploads/190102646_10158857611053612_4966779889914281311_n-2-VnCARn.tmp_.jpg
END:VEVENT
BEGIN:VEVENT
DTSTART;TZID=Europe/Helsinki:20250304T170000
DTEND;TZID=Europe/Helsinki:20250304T190000
DTSTAMP:20260420T113706
CREATED:20250220T081645Z
LAST-MODIFIED:20250304T083311Z
UID:128492-1741107600-1741114800@hooveekoo.fi
SUMMARY:Vierailu WB-sailsin purjeneulomoon Lauttasaaressa (LÄHIKOULUTUS)
DESCRIPTION:Kurssipaikka:\nWB-Sails Oy\nVeneentekijäntie 2\n00210 Helsinki\nKurssin sisältö:\nTervetuloa vierailulle kotimaiseen kansainvälisen huipputason purjeompelimoon\, WB-sails:iin!\nWB-sailsilla on uusien purjeiden valmistuksen lisäksi myös purjeiden huoltopalveluja\, sekä nykyään myös  LYS-veneiden purjeiden mittauspalvelu FinRating sääntöä varten.\nKouluttaja: Anssi Lydén\nKurssimaksu: –\nOsallistujamäärä: 5-20 (Listalla sijat >20 ovat jonossa mahdollisille peruutuspaikoille.)\nLisätietoja: Jyrki Pulkkanen\, Lauttasaaren Kipparit/PaVe\, 0405741204\, pulkkanen.jyrki ( at ) gmail.com\nIlmoittautuminen:  Kurssi toteutuu\, mikäli osallistujia on vähintään 5 henkilöä. Jos muutat mielesi osallistumisesta\, ilmoita mahdollisimman pian viestillä tai emaililla Jyrkille\, koska tapahtumaan saatetaan jonottaa. Tulethan tapahtumaan terveenä.\nIlmoittautuneet: /20.\nJonotuslista:
URL:https://hooveekoo.fi/event/vierailu-wb-sailsin-purjeneulomoon-lauttasaaressa-lahikoulutus/
LOCATION:Lauttasaari\, Veneentekijäntie 2 00210 Helsinki\, Helsinki\, Suomi
CATEGORIES:koulutukset
ATTACH;FMTTYPE=image/jpeg:https://hooveekoo.fi/wp-content/uploads/purje_169-1-AA9oI0.tmp_.jpg
END:VEVENT
BEGIN:VEVENT
DTSTART;TZID=Europe/Helsinki:20250308T100000
DTEND;TZID=Europe/Helsinki:20250309T170000
DTSTAMP:20260420T113706
CREATED:20241210T065740Z
LAST-MODIFIED:20250309T084645Z
UID:127670-1741428000-1741539600@hooveekoo.fi
SUMMARY:Venepäällikkökurssi (PERUTTU!)
DESCRIPTION:Mistä on kyse?\nTutkinnon suorittamisella osoitetaan kansainvälisen huviveneen kuljettajan pätevyyskirjan saamiseksi tarvittavien vaatimusten täyttäminen.\nKurssi on tarkoitettu kokeneille veneilijöille\, joilla on vähintään kaksi vuotta tai enemmänkin veneilykokemusta sekä haluavat kasvattaa veneilytaitojaan. Osallistujalla tulee olla aiempaa veneilykokemusta useammalta vuodelta sekä kokemusta venepäällikkönä. Venepäällikkökurssin esitietovaatimuksena on Veneilijäkurssi (tai vaihtoehtoisesti suoritettu Navigaatioliiton Saaristolaivurin tutkinto).\nKurssiin sisältyvät seuraavat osiot:\n 	Navigointikurssi II (Vuorovedet ja Välimeri)\n 	Venepäällikkö ja venetekniikan täydennyskurssi sekä\n 	Käytännön veneilytaitokurssi ja päällikkönä toimiminen\n​Tutkinnon suorittaneella on tiedot\, taidot ja kyky sekä oikea turvallisuusasenne\n 	toimia vastuullisena ja matkamoottori- ja/tai -purjeveneen päällikkönä\n 	navigoida avomerellä ja muilla vesialueilla haastavissa olosuhteissa\n 	veneillä turvallisesti sisä- ja rannikkovesillä\, Itämerellä\, Välimerellä ja vuorovesialueilla\n 	huoltaa ja korjata sekä ylläpitää veneen merikelpoisuutta\nLisäksi\n 	Venepäällikkökurssi antaa valmiudet hankkia kansainvälisen huviveneenkuljettajakirjan (pätevyyden)\, jota tarvitset kaikissa Välimeren maissa ja mikäli haluat vuokrata veneen.\nKurssin sisältö:\nKurssin aiheet: ulkomaan veneily\, turvallisuus\, sää\, vuoroveden korkeus\, vuorovesivirrat\, sijainnin määrittely\, reittisuunnittelu\, päällikön vastuu – hyvä päällikkö\, veneen käsittelyyn vaikuttavat voimat ja niiden huomioiminen\, valmistautuminen matkalle\, lähdöt\, toiminta matkalla\, navigointi matkalla\, päällikkö ja rantautumiset\, päällikkö ja tulli- ja rajaviranomaiset\, asuminen veneessä\, veneen huolto\, hätätilanteet\, veneen varustelusta\, rekisteröinti ja katsastus.\nTarvittaessa päällikkötutkinnon käytännön osuus suoritetaan erikseen sovittavana ajankohtana. Tästä ajankohdasta ilmoitetaan kurssilaisille erikseen.\nOta mukaan kurssille tarvittavat välineet: tietokone ja verkkoyhteys sekä harppi\, astelevy\, kompassi\, viivoitin sekä pehmeä lyijykynä ja kumi. Lisäksi laskimesta voi olla hyötyä.\n​Ennen kurssia osallistujien on tutustuttava toimitettavaan koulutusaineistoon etukäteen. Kurssikoe järjestetään 9.3.2025.\nPäävastuullinen kouluttaja: Jori Kosonen (HVK)\nLisätietoja: Jori Kosonen\, jori@turvallistaveneilya.fi\nRuokailu: Koko päivän kurssilla sovitaan normaalisti aamupäivän aikana yhdessä\, miten lounasruokailu järjestetään. Oletusarvoisesti keräämällä kolehti ja tekemällä yhteistilaus – varaa käteistä mukaan. Halutessaan voi toki vaihtoehtoisesti ottaa mukaan omat eväät.\nKurssimaksu: Kurssin hinta on 335 € sisältäen materiaalit\, vaihtoehtoisesti henkilö voi itse hankkia materiaalit SPV:n verkkokaupasta Venepäällikkökurssin oppimispaketti – SPV.fi. Tällöin kurssin hinta on 235 €. Kouluttaja antaa ohjeet maksun suorittamisesta ilmoittautuneille.\nIlmoittautuminen: jori@turvallistaveneilya.fi
URL:https://hooveekoo.fi/event/venepaallikkokurssi-lahikoulutus-295e/
LOCATION:Humallahden Venekerho\, Rajasaarenpenger 6\, Helsinki\, Suomi
CATEGORIES:koulutukset
ATTACH;FMTTYPE=image/gif:https://hooveekoo.fi/wp-content/uploads/PERUTTU_5-RmxuUm.tmp_.gif
END:VEVENT
BEGIN:VEVENT
DTSTART;TZID=Europe/Helsinki:20250310T180000
DTEND;TZID=Europe/Helsinki:20250310T200000
DTSTAMP:20260420T113706
CREATED:20241231T202008Z
LAST-MODIFIED:20250309T220129Z
UID:127901-1741629600-1741636800@hooveekoo.fi
SUMMARY:Hallituksen kokous
DESCRIPTION:
URL:https://hooveekoo.fi/event/hallituksen-kokous-24/
END:VEVENT
BEGIN:VEVENT
DTSTART;TZID=Europe/Helsinki:20250311T180000
DTEND;TZID=Europe/Helsinki:20250311T200000
DTSTAMP:20260420T113706
CREATED:20231208T205618Z
LAST-MODIFIED:20250311T084932Z
UID:124537-1741716000-1741723200@hooveekoo.fi
SUMMARY:Veneily vaativissa olosuhteissa (LÄHI- ja ETÄKOULUTUS)
DESCRIPTION:Käytännön kurssi haastavissa olosuhteissa tapahtuvalle purjehtimiselle\, joka tarkoitettu niin veneen päällikölle kuin miehistöllekin
URL:https://hooveekoo.fi/event/veneily-vaativissa-olosuhteissa-lahi-ja-etakoulutus-2/
LOCATION:HSK\, Iso-Pässi -sali\, Vattuniemen puistotie 1\, Helsinki\, Suomi
CATEGORIES:koulutukset
ATTACH;FMTTYPE=image/jpeg:https://hooveekoo.fi/wp-content/uploads/vaativat-3iy4jF.tmp_.jpg
END:VEVENT
BEGIN:VEVENT
DTSTART;TZID=Europe/Helsinki:20250318T180000
DTEND;TZID=Europe/Helsinki:20250318T210000
DTSTAMP:20260420T113706
CREATED:20231208T205658Z
LAST-MODIFIED:20250318T091628Z
UID:124542-1742320800-1742331600@hooveekoo.fi
SUMMARY:Merenkulun elektroniset laitteet (ETÄKOULUTUS)
DESCRIPTION:Koulutus on yleistietoa antava esitys veneisiin saatavana olevasta elektroniikasta\, sen toimintaperiaatteista\, mahdollisuuksista ja rajoituksista. Esitys on pyritty tekemään laitemerkkiriippumattomaksi\, mutta esimerkkikuvat ovat luonnollisesti laadittu todellisten laitteiden avulla.\nKurssi pohjustaa elektroninen navigointi -kurssia\, mutta soveltuu kuunneltavaksi myös sellaisenaan.\nKohderyhmä: Veneenomistajat ja veneiden käyttäjät.\nTavoite: Kurssin tavoitteena on perehdyttää veneiden elektronisten merenkulkulaitteiden teknisiin ja toiminnallisiin ominaisuuksiin sekä tutustuttaa alan terminologiaan. Kurssi antaa teknisiä valmiuksia käyttää vene-elektroniikkaa.\nKurssin sisältö:\n 	Veneessä käytettävät elektroniset merenkulkulaitteet.\n 	Laitteiden toimintaperiaatteet\, ominaisuudet ja kyvyt.\n 	Laitteiden tyypit variaatioineen.\n 	Laitteiden asentamiseen liittyviä seikkoja.\n 	Eri dataverkojen rakenne ja datalausekkeet.\nKouluttaja: Klaus Salkola (OV\, HVK). Klasu on free-lance veneilytoimittaja ja kuvaaja (Kippari -lehti)\, vene- ja laivatekniikan asiantuntija ja insinöörikomentaja evp. Klasu on aloittanut veneilyn 60-luvulla\, ja hän on itse vastannut veneidensä kunnossapidosta samoin kuin rakentanut veneensä pääosin itse. Veneilykokemusta on kertynyt 50 vuoden ajalta runsaasti yli 100 000 mpk:n edestä.\nOsallistujamäärä: 5 – 50 (Listalla sijat >50 ovat jonossa mahdollisille peruutuspaikoille.)\nValmistautuminen etäkoulutukseen: Koulutus toteutetaan Teams-palvelun kautta. Kouluttaja lähettää linkin sähköpostilla osallistujille. Asenna tietokoneellesi Teams-applikaatio tai käytä sitä webbiselaimella lähetetyllä linkillä.\nLisätietoja: klaus (at) salkola.eu\nIlmoittautuminen:  Jos muutat mielesi osallistumisesta\, ilmoita mahdollisimman pian emaililla Klasulle\, koska kurssile saatetaan jonottaa.\nIlmoittautuneet: /50.\nJonotuslista:\n 
URL:https://hooveekoo.fi/event/merenkulun-elektroniset-laitteet-etakoulutus/
LOCATION:Etäkoulutus\, -\, -\, Suomi
CATEGORIES:koulutukset
ATTACH;FMTTYPE=image/jpeg:https://hooveekoo.fi/wp-content/uploads/elektroniset-merenkulkulaitteet-e1728577164352-ebQ1es.tmp_.jpg
END:VEVENT
BEGIN:VEVENT
DTSTART;TZID=Europe/Helsinki:20250322T090000
DTEND;TZID=Europe/Helsinki:20250323T170000
DTSTAMP:20260420T113706
CREATED:20241106T140713Z
LAST-MODIFIED:20250306T071152Z
UID:127373-1742634000-1742749200@hooveekoo.fi
SUMMARY:Veneen sähköt (TÄYNNÄ)
DESCRIPTION:Veneen sähköt 3/25 \n\nLisätiedot ja ilmoittautumiset: https://www.venekoulutukset.fi/event/veneen-sahkot-3-25/
URL:https://hooveekoo.fi/event/veneen-sahkot-lahikoulutus-198e/
LOCATION:Humallahden Venekerho\, Rajasaarenpenger 6\, Helsinki\, Suomi
CATEGORIES:kerhotila_varattu,koulutukset
ORGANIZER;CN="Venetaito":MAILTO:info@venekoulutukset.fi
END:VEVENT
BEGIN:VEVENT
DTSTART;TZID=Europe/Helsinki:20250325T180000
DTEND;TZID=Europe/Helsinki:20250325T210000
DTSTAMP:20260420T113706
CREATED:20241210T065748Z
LAST-MODIFIED:20250325T091636Z
UID:127675-1742925600-1742936400@hooveekoo.fi
SUMMARY:Elektroninen navigointi (ETÄKOULUTUS)
DESCRIPTION:Koulutus on yleistietoa antava esitys siitä\, miten elektroniikkaa voidaan ja tulee käyttää navigoinnissa. Kurssi on jatkumo kurssille elektroniset merenkulkulaitteet mutta soveltuu kuunneltavaksi myös sellaisenaan.\nKohderyhmä: Veneenomistajat ja veneiden käyttäjät.\nTavoite: Kurssin tavoitteena on perehdyttää veneiden elektronisten merenkulkulaitteiden käyttöön navigoinnin välineinä. Sekä osoittaa\, mitä edellyttäisi veneen navigointi pelkästään sähköisten laitteiden avulla.\nKurssin sisältö:\n 	Elektronisten laitteiden käytön yleiset periaatteet ja taktiikka.\n 	Käytännön esimerkkejä siitä\, miten laitteista saadaan paras hyöty veneen navigoinnissa ja muussa käytössä joko pää- tai varmistavina merenkulkulaitteina.\n 	Laitteiden asetukset ja ohjelmistopäivitys.\n 	Tekninen huolto.\n 	Kyberturvallisuus ja muut uhat.\n 	Laitteiden sijoituksen ja ergonomian huomioiminen asennuksessa.\n 	Sähkön syötön varmistuksen välttämättömyys ja toteutustapoja.\nTämä ei ole tutkakurssi käytännön harjoitteluineen\, mutta antaa pohjatietoa myös tutkan tehokkaan käytön opetteluun.\nKouluttaja: Klaus Salkola (OV\, HVK). Klasu on free-lance veneilytoimittaja ja kuvaaja (Kippari -lehti)\, vene- ja laivatekniikan asiantuntija ja insinöörikomentaja evp. Klasu on aloittanut veneilyn 60-luvulla\, ja hän on itse vastannut veneidensä kunnossapidosta samoin kuin rakentanut veneensä pääosin itse. Veneilykokemusta on kertynyt 50 vuoden ajalta runsaasti yli 100 000 mpk:n edestä.\nOsallistujamäärä: 5 – 50 (Listalla sijat >50 ovat jonossa mahdollisille peruutuspaikoille.)\nValmistautuminen etäkoulutukseen: Koulutus toteutetaan Teams-palvelun kautta. Kouluttaja lähettää linkin sähköpostilla osallistujille. Asenna tietokoneellesi Teams-applikaatio tai käytä sitä webbiselaimella lähetetyllä linkillä.\nLisätietoja: klaus (at) salkola.eu\nIlmoittautuminen:  Jos muutat mielesi osallistumisesta\, ilmoita mahdollisimman pian emaililla Klasulle\, koska kurssile saatetaan jonottaa.\nIlmoittautuneet: /50.\nJonotuslista:\n 
URL:https://hooveekoo.fi/event/elektroninen-navigointi-etakoulutus-2025/
LOCATION:Etäkoulutus\, -\, -\, Suomi
CATEGORIES:koulutukset
ATTACH;FMTTYPE=image/png:https://hooveekoo.fi/wp-content/uploads/elektroninen-navigointi-e1728577135212-ra2m9G.tmp_.png
END:VEVENT
BEGIN:VEVENT
DTSTART;TZID=Europe/Helsinki:20250327T180000
DTEND;TZID=Europe/Helsinki:20250327T200000
DTSTAMP:20260420T113706
CREATED:20250226T082002Z
LAST-MODIFIED:20250327T091653Z
UID:128539-1743098400-1743105600@hooveekoo.fi
SUMMARY:Varo kiviä – merikartasta puuttuvia kivihavaintoja Saaristomerellä (ETÄLUENTO)
DESCRIPTION:Matti Törmä Turun Partio-Sisseistä käy läpi kiviä ja luotoja Saaristomereltä\, jotka puuttuvat merikartasta. Tervetuloa linjoille päivittämään tulevaa veneilykautta varten tiedot salakavalista karikoista.\nTapahtuma on maksuton.\nLinkki ilmoittautumiseen
URL:https://hooveekoo.fi/event/varo-kivia-merikartasta-puuttuvia-kivihavaintoja-saaristomerella-etaluento/
CATEGORIES:koulutukset
ATTACH;FMTTYPE=image/jpeg:https://hooveekoo.fi/wp-content/uploads/kivi-1-8VLrhW.tmp_.jpg
END:VEVENT
BEGIN:VEVENT
DTSTART;TZID=Europe/Helsinki:20250329T090000
DTEND;TZID=Europe/Helsinki:20250330T180000
DTSTAMP:20260420T113706
CREATED:20241210T065748Z
LAST-MODIFIED:20250330T091619Z
UID:127677-1743238800-1743357600@hooveekoo.fi
SUMMARY:Veneilijän EA kurssi (LÄHIKOULUTUS\, 200€)
DESCRIPTION:EA-kurssin palautelomake:\n \nKurssin Alkuperäinen kuvaus: Ensiavun peruskurssi (entinen EA1)\, joka on räätälöity veneilijöiden tarpeisiin\nVeneilypainotteisen ensiavun peruskurssin sisältö ylätasolla:\n-Auttaminen onnettomuustilanteessa maalla ja merellä\n-Tajuttoman kohtaaminen ja ensiapu\n-Elvytys\, sisältäen aikuisen ja hukuksissa olleen elvytyksen (PPED)\n-Runsaasti verenvuodot ja sokki\, sisältäen myös kiristyssiteen käytön\n-Sairaskohtaukset (matala verensokeri\, aivoverenkierron häiriöt\, rintakipu\, pyörtyminen\, allergiset reaktiot\, kouristuskohtaukset\, hengitysvaikeudet ja lämpösairastumiset)\n-Vammojen hoito; haavat\, palovammat\, päävämmat\, silmävammat\, nenäverenvuoto\, hammasvammat\, pikkutapaturmat\, sähkötapaturmat\, nivelvammat ja murtumat.\n-ohjeistuksia veneen ensiapuvarustukseen\nKouluttajat: Meri Haahtela ja Tommi Kilpeläinen\, molemmat toimivat myös meripelastuksessa sekä kouluttajina että vapaaehtoisina meripelastajina.\n \nosallistujamäärä: 10 -20 henkeä\npaikkana: hoskin isopässi\nilmottaudutaan sähköpostitse: finmera@gmail.com\nsubject /otsikko -kenttään: Ilmottautuminen veneilijän EA kurssille\nIlmoita viestissä nimesi ja mistä seurasta olet.\nilmottautuminen vahvistetaan aina sähköpostilla.
URL:https://hooveekoo.fi/event/veneilijan-ea-kurssi-200-e/
LOCATION:HSK\, Iso-Pässi -sali\, Vattuniemen puistotie 1\, Helsinki\, Suomi
CATEGORIES:koulutukset
ATTACH;FMTTYPE=image/jpeg:https://hooveekoo.fi/wp-content/uploads/first-aid-training-6592367_1280-HFoSOd.tmp_.jpg
END:VEVENT
END:VCALENDAR