BEGIN:VCALENDAR
VERSION:2.0
PRODID:-//Humallahden Venekerho - ECPv6.15.20//NONSGML v1.0//EN
CALSCALE:GREGORIAN
METHOD:PUBLISH
X-ORIGINAL-URL:https://hooveekoo.fi
X-WR-CALDESC:Tapahtumat Humallahden Venekerho
REFRESH-INTERVAL;VALUE=DURATION:PT1H
X-Robots-Tag:noindex
X-PUBLISHED-TTL:PT1H
BEGIN:VTIMEZONE
TZID:Europe/Helsinki
BEGIN:DAYLIGHT
TZOFFSETFROM:+0200
TZOFFSETTO:+0300
TZNAME:EEST
DTSTART:20240331T010000
END:DAYLIGHT
BEGIN:STANDARD
TZOFFSETFROM:+0300
TZOFFSETTO:+0200
TZNAME:EET
DTSTART:20241027T010000
END:STANDARD
BEGIN:DAYLIGHT
TZOFFSETFROM:+0200
TZOFFSETTO:+0300
TZNAME:EEST
DTSTART:20250330T010000
END:DAYLIGHT
BEGIN:STANDARD
TZOFFSETFROM:+0300
TZOFFSETTO:+0200
TZNAME:EET
DTSTART:20251026T010000
END:STANDARD
BEGIN:DAYLIGHT
TZOFFSETFROM:+0200
TZOFFSETTO:+0300
TZNAME:EEST
DTSTART:20260329T010000
END:DAYLIGHT
BEGIN:STANDARD
TZOFFSETFROM:+0300
TZOFFSETTO:+0200
TZNAME:EET
DTSTART:20261025T010000
END:STANDARD
END:VTIMEZONE
BEGIN:VEVENT
DTSTART;TZID=Europe/Helsinki:20251203T180000
DTEND;TZID=Europe/Helsinki:20251203T203000
DTSTAMP:20260421T123424
CREATED:20251128T191655Z
LAST-MODIFIED:20251202T193210Z
UID:130967-1764784800-1764793800@hooveekoo.fi
SUMMARY:Majakkailta (elokuva ym)
DESCRIPTION:Kurssin kuvaus:\nMajakkaseura esittää syksyllä valmistuneen elokuvan: Ahvenanmaa – Merivaltakunta.\n– ja kertomuksia muista majakoista.\nTilasuudessa on myös mahdollista ostaa ensi vuoden majakkakalenteri.\nMajakkaseura\nHoskin Iso-Pässi sali on Hoskin kerhotalossa\, Vattuniemen puistotie 1 (Blue Peterin vieressä\, sen etupuolelta portista kulku oikealle)\nIlmoittaudu:\nIlmoittautuneet: /35.\nJonotuslista:
URL:https://hooveekoo.fi/event/majakkailta-elokuva-ym/
LOCATION:Helsingfors Segelklubb\, Iso Pässi sali\, Vattuniemen puistotie 1\, Helsinki\, 00210\, Suomi
CATEGORIES:koulutukset
ATTACH;FMTTYPE=image/png:https://hooveekoo.fi/wp-content/uploads/Nayttokuva-2025-11-28-kello-16.39.14-e1764340902941-O7Q7EP-1.png
END:VEVENT
BEGIN:VEVENT
DTSTART;TZID=Europe/Helsinki:20251208T180000
DTEND;TZID=Europe/Helsinki:20251208T190000
DTSTAMP:20260421T123424
CREATED:20241231T202221Z
LAST-MODIFIED:20251208T034627Z
UID:127909-1765216800-1765220400@hooveekoo.fi
SUMMARY:Hallituksen kokous
DESCRIPTION:
URL:https://hooveekoo.fi/event/hallituksen-kokous-32/
END:VEVENT
END:VCALENDAR