BEGIN:VCALENDAR
VERSION:2.0
PRODID:-//Humallahden Venekerho - ECPv6.15.20//NONSGML v1.0//EN
CALSCALE:GREGORIAN
METHOD:PUBLISH
X-ORIGINAL-URL:https://hooveekoo.fi
X-WR-CALDESC:Tapahtumat Humallahden Venekerho
REFRESH-INTERVAL;VALUE=DURATION:PT1H
X-Robots-Tag:noindex
X-PUBLISHED-TTL:PT1H
BEGIN:VTIMEZONE
TZID:Europe/Helsinki
BEGIN:DAYLIGHT
TZOFFSETFROM:+0200
TZOFFSETTO:+0300
TZNAME:EEST
DTSTART:20220327T010000
END:DAYLIGHT
BEGIN:STANDARD
TZOFFSETFROM:+0300
TZOFFSETTO:+0200
TZNAME:EET
DTSTART:20221030T010000
END:STANDARD
BEGIN:DAYLIGHT
TZOFFSETFROM:+0200
TZOFFSETTO:+0300
TZNAME:EEST
DTSTART:20230326T010000
END:DAYLIGHT
BEGIN:STANDARD
TZOFFSETFROM:+0300
TZOFFSETTO:+0200
TZNAME:EET
DTSTART:20231029T010000
END:STANDARD
BEGIN:DAYLIGHT
TZOFFSETFROM:+0200
TZOFFSETTO:+0300
TZNAME:EEST
DTSTART:20240331T010000
END:DAYLIGHT
BEGIN:STANDARD
TZOFFSETFROM:+0300
TZOFFSETTO:+0200
TZNAME:EET
DTSTART:20241027T010000
END:STANDARD
END:VTIMEZONE
BEGIN:VEVENT
DTSTART;TZID=Europe/Helsinki:20230501T120000
DTEND;TZID=Europe/Helsinki:20230501T130000
DTSTAMP:20260420T024542
CREATED:20230406T230509Z
LAST-MODIFIED:20230430T234713Z
UID:119336-1682942400-1682946000@hooveekoo.fi
SUMMARY:Lipunnosto
DESCRIPTION:
URL:https://hooveekoo.fi/event/lipunnosto/
END:VEVENT
BEGIN:VEVENT
DTSTART;TZID=Europe/Helsinki:20230503T180000
DTEND;TZID=Europe/Helsinki:20230503T200000
DTSTAMP:20260420T024542
CREATED:20230417T180510Z
LAST-MODIFIED:20230502T185022Z
UID:120189-1683136800-1683144000@hooveekoo.fi
SUMMARY:Alkusammutuskurssi (LÄHIKOULUTUS)
DESCRIPTION:Melkein jokaisessa veneessä on sammutin\, mutta harva on oikeasti sitä koskaan kokeillut. Kaikki paikalle tulijat ovat tervetulleita katsomaan tai osallistumaan.\nKoulutuksen sisältö: Käytönnönläheinen harjoittelu ja infotilaisuus\, jossa mahdollisuus turvallisesti kokeilla jauhesammuttimella sammuttamista. Lisäksi harjoitellaan sammutuspeitteellä kattila- tai rasvapalon sammuttamista. Paikalla Lauttasaaren VPK:n paloauto ja demonstroimme myös palokunnan toimintaa pienimuotoisella sammutusnäytöksellä.\nLisätietoja: Timo Kivioja\, timo.kivioja (at) smkfmk.fi\nIlmoittautuminen: Ei ilmoittautumista\, saavut vain paikalle ajoissa.
URL:https://hooveekoo.fi/event/alkusammutuskurssi/
LOCATION:Pajalahti SMK\, Meripuistotie 1a\, Helsinki\, Suomi
CATEGORIES:koulutukset
ATTACH;FMTTYPE=image/png:https://hooveekoo.fi/wp-content/uploads/mobbi_kuva-XInZyE.tmp_.png
END:VEVENT
BEGIN:VEVENT
DTSTART;TZID=Europe/Helsinki:20230504T170000
DTEND;TZID=Europe/Helsinki:20230504T190000
DTSTAMP:20260420T024542
CREATED:20230406T180309Z
LAST-MODIFIED:20230503T192001Z
UID:119322-1683219600-1683226800@hooveekoo.fi
SUMMARY:Toimisto- ja Katsastusilta
DESCRIPTION:
URL:https://hooveekoo.fi/event/toimisto-ja-katsastusilta/
CATEGORIES:toimistoillat
END:VEVENT
BEGIN:VEVENT
DTSTART;TZID=Europe/Helsinki:20230508T180000
DTEND;TZID=Europe/Helsinki:20230508T200000
DTSTAMP:20260420T024542
CREATED:20230302T180305Z
LAST-MODIFIED:20230507T213222Z
UID:118266-1683568800-1683576000@hooveekoo.fi
SUMMARY:Hallituksen kokous
DESCRIPTION:
URL:https://hooveekoo.fi/event/hallituksen-kokous-4/
CATEGORIES:hallituksen kokoukset
END:VEVENT
BEGIN:VEVENT
DTSTART;TZID=Europe/Helsinki:20230509T180000
DTEND;TZID=Europe/Helsinki:20230509T210000
DTSTAMP:20260420T024542
CREATED:20221208T111504Z
LAST-MODIFIED:20230508T192011Z
UID:115953-1683655200-1683666000@hooveekoo.fi
SUMMARY:Iltapurjehdus Joanna Saturnalla (LÄHITILAISUUS)
DESCRIPTION:Sinulla ja miehistölläsi on loistava mahdollisuus tulla tutustumaan iltapurjehduksen myötä yli satavuotiaaseen kahvelikuunari Joanna Saturnaan\, joka ostettiin Suomeen v.2000. Aluksen kippari Mikko Karvonen esittelee aluksi laivaansa kertoen sen historiasta ja kunnostuksesta. Esittely jälkeen teemme parin tunnin purjehduksen lähivesille. Vierailijat pääsevät itse nostamaan purjeita sekä osallistumaan käytännön toimiin purjehduksen aikana.\nJoanna Saturna on hyväksytty Museoviraston ylläpitämään perinnepurjelaivarekisteriin ja on Suomen vanhin charter-toimintaa harjoittava purjealus. Alus jatkaa perinteitä kunnioittavaa meritaivalta kouluttamalla nuoria sekä tarjoamalla elämyksiä Itämerellä charter-liikenteen myötä.\nHinta: 30 e maksetaan käteisellä paikan päällä (sisältää kahvitarjoilun ja leivonnaisen)\n \nPaikka: Pursiseura Sindbad\, Vattuniemenranta 5\, A-laituri\nLisätietoja: Lars Andtfolk PSS\,  pave(at)lars.fastmail.fm\nIlmoittautuminen: Mukaan mahtuu 50 osallistujaa.  Jos muutat mielesi osallistumisesta\, ilmoita mahdollisimman pian emaililla Larsille\, koska kurssille saatetaan jonottaa. Tarkista myös Paven pandemiaohjeistus.\nIlmoittautuneet: /50.\nJonotuslista:\n 
URL:https://hooveekoo.fi/event/iltapurjehdus-joanna-saturnalla-lahitilaisuus/
LOCATION:Pursiseura Sindbad\, Vattuniemenranta 5\, Helsinki\, Suomi
CATEGORIES:koulutukset
ATTACH;FMTTYPE=image/jpeg:https://hooveekoo.fi/wp-content/uploads/20201010_141002-caEDt2.tmp_.jpg
END:VEVENT
BEGIN:VEVENT
DTSTART;TZID=Europe/Helsinki:20230511T170000
DTEND;TZID=Europe/Helsinki:20230511T190000
DTSTAMP:20260420T024542
CREATED:20230406T180309Z
LAST-MODIFIED:20230510T195008Z
UID:119323-1683824400-1683831600@hooveekoo.fi
SUMMARY:Toimisto- ja Katsastusilta
DESCRIPTION:
URL:https://hooveekoo.fi/event/toimisto-ja-katsastusilta-2/
CATEGORIES:toimistoillat
END:VEVENT
BEGIN:VEVENT
DTSTART;TZID=Europe/Helsinki:20230513T090000
DTEND;TZID=Europe/Helsinki:20230513T160000
DTSTAMP:20260420T024542
CREATED:20221208T111506Z
LAST-MODIFIED:20230512T194626Z
UID:115955-1683968400-1683993600@hooveekoo.fi
SUMMARY:Tavaratori (LÄHITILAISUUS)
DESCRIPTION:Tervetuloa mukaan pursiseura Sindbadin tavaratorille! Käytettyjen venevarusteiden kirpputorille voit tulla myymään tai ostamaan ilman ennakkoilmaoittautumisia ja myyntipaikat ovat maksuttomia. Järjestäjä ei vastaa myyntipöydistä\, joten oma myyntipöytä\, teline tms. on tarpeen.\nPaikalla myös sammutintarkastus (Presto) klo 14-16.\nLisätietoja Kari Kokkonen\, karikalevi.kokkonen@gmail.com\, 040-5346629\, www.pursiseurasindbad.fi\nEi ennakkoilmoittautumista
URL:https://hooveekoo.fi/event/tavaratori-lahitilaisuus/
LOCATION:Pursiseura Sindbad\, Vattuniemenranta 5\, Helsinki\, Suomi
CATEGORIES:koulutukset
ATTACH;FMTTYPE=image/jpeg:https://hooveekoo.fi/wp-content/uploads/Tavaratori_1000-SJkhtX.tmp_.jpg
END:VEVENT
BEGIN:VEVENT
DTSTART;TZID=Europe/Helsinki:20230516T170000
DTEND;TZID=Europe/Helsinki:20230516T190000
DTSTAMP:20260420T024542
CREATED:20230406T180310Z
LAST-MODIFIED:20230515T200601Z
UID:119324-1684256400-1684263600@hooveekoo.fi
SUMMARY:Toimisto- ja Katsastusilta
DESCRIPTION:
URL:https://hooveekoo.fi/event/toimisto-ja-katsastusilta-3/
CATEGORIES:toimistoillat
END:VEVENT
BEGIN:VEVENT
DTSTART;TZID=Europe/Helsinki:20230520T110000
DTEND;TZID=Europe/Helsinki:20230520T140000
DTSTAMP:20260420T024542
CREATED:20230502T211552Z
LAST-MODIFIED:20230502T221757Z
UID:121218-1684580400-1684591200@hooveekoo.fi
SUMMARY:Hästön eskaaderi
DESCRIPTION:Hyvä jäsen\, tervetuloa mukaan tutustumaan kerhon retkisaari Hästöön. Eskaaderi on tarkoitettu niille\, jotka eivät ole syystä tai toisesta vielä käyneet saaressa. Toki kokeneemmat saavat myös osallistua. Reitti kulkee ns. puutarhaväylää pitkin. Perillä päästään harjoittelemaan rantautumista.Kokoonnumme HVK:n kerhotalolla 20.5 klo 11:00\, jonka jälkeen lähdemme yhdessä matkaan kohti Hästötä. Paluu Hästöstä tapahtuu omatoimisesti oman aikataulun mukaan. \nEskaaderin johtajana toimii Amos Soivio ( amos_soivio (at) yahoo.com )\, joka antaa lisätietoja ja ottaa myös ilmoittautumiset eskaaderille vastaan.
URL:https://hooveekoo.fi/event/haston-eskaaderi/
LOCATION:Humallahden Venekerho\, Rajasaarenpenger 6\, Helsinki\, Finland
CATEGORIES:eskaaderi,hästö,koulutukset
ATTACH;FMTTYPE=image/jpeg:https://hooveekoo.fi/wp-content/uploads/4.jpg
END:VEVENT
BEGIN:VEVENT
DTSTART;TZID=Europe/Helsinki:20230520T130000
DTEND;TZID=Europe/Helsinki:20230520T150000
DTSTAMP:20260420T024542
CREATED:20230320T205012Z
LAST-MODIFIED:20230519T230509Z
UID:119183-1684587600-1684594800@hooveekoo.fi
SUMMARY:Veneiden II yhteislasku\, Sammutinhuolto klo 12.00-14.00
DESCRIPTION:
URL:https://hooveekoo.fi/event/veneiden-ii-yhteislasku-sammutinhuolto-klo-12-00-14-00/
CATEGORIES:satama
END:VEVENT
BEGIN:VEVENT
DTSTART;TZID=Europe/Helsinki:20230523T193000
DTEND;TZID=Europe/Helsinki:20230523T210000
DTSTAMP:20260420T024542
CREATED:20230509T073948Z
LAST-MODIFIED:20230509T084912Z
UID:121371-1684870200-1684875600@hooveekoo.fi
SUMMARY:Ylimääräinen jäsenkokous
DESCRIPTION:Kutsu ja esityslista ovat ajankohtaiset dokumentit -osiossa.
URL:https://hooveekoo.fi/event/ylimaarainen-jasenkokous/
LOCATION:HVK:n kerhorakennus\, Rajasaarenpenger 6\, Helsinki (Taka-Töölö)\, Suomi
CATEGORIES:jäsenkokous,kerhotila_varattu
ATTACH;FMTTYPE=image/jpeg:https://hooveekoo.fi/wp-content/uploads/20170820_083638_D750_DSC_4638K.jpg
END:VEVENT
BEGIN:VEVENT
DTSTART;TZID=Europe/Helsinki:20230525T170000
DTEND;TZID=Europe/Helsinki:20230525T190000
DTSTAMP:20260420T024542
CREATED:20230406T180310Z
LAST-MODIFIED:20230524T203508Z
UID:119326-1685034000-1685041200@hooveekoo.fi
SUMMARY:Toimisto- ja katsastusilta
DESCRIPTION:
URL:https://hooveekoo.fi/event/toimisto-ja-katsastusilta-5/
CATEGORIES:toimistoillat
END:VEVENT
BEGIN:VEVENT
DTSTART;TZID=Europe/Helsinki:20230525T180000
DTEND;TZID=Europe/Helsinki:20230525T200000
DTSTAMP:20260420T024542
CREATED:20230419T142808Z
LAST-MODIFIED:20230509T084849Z
UID:120223-1685037600-1685044800@hooveekoo.fi
SUMMARY:Tallinnan eskaaderin suunnittelupalaveri
DESCRIPTION:Tervetuloa mukaan suunnittelupalaveriin kaikki Tallinnan eskaaderista 8-11.6 kiinnostuneet. Mukaan kannattaa tulla kiinnostuneiden\, mutta myös osallistumisestaan epävarmojenkin. Hyvin valmistautumalla\, oikealla asenteella ja oikeassa säässä ylityksen voi tehdä turvallisesti lähes kaiken tyyppisillä veneillä. \nIllan aikana käydään läpi seuraavia asioita: \n1. Eskaaderiohjelmasta sopiminen \n\nVaihtoehdot ylitykselle sään ja toivomuksien mukaan (suoraan tai Hästön kautta).\nOhjelma perillä\, tyypillisesti on ollut yhteinen illallinen sekä vierailu tai kulttuuriohjelmaa.\nOsallistumismaksu ja mitä siihen sisältyy.\n\n2. Eskaaderiajo \n\nEskaaderiajossa mennään ryhmässä ja hitaamman vauhdin mukaan. Matkaa taitetaan usein 7-8 solmun vauhdilla.\nLiukuvilla veneillä matkaavilla on mahdollisuus ajaa suoraan omassa tahdissaan tai muodostaa omia ryhmiä.\nVHF:n käyttö (ei pakollinen varuste).\n\n3. Matkaan valmistautuminen \n\nReittisuunnitelma.\nSääennuste / missä kelissä mennään\, missä ei?\nVeneen valmistelu matkaan.\nMiehistön valmistautuminen matkaan.\n\nTilaisuuden vetää eskaaderin johtaja Henrik Westerholm ( henckaw (at) gmail.com )\, joka antaa lisätietoja ja ottaa myös ilmoittautumiset eskaaderille vastaan.
URL:https://hooveekoo.fi/event/tallinnan-eskaaderin-suunnittelupalaveri/
LOCATION:Humallahden Venekerho\, Rajasaarenpenger 6\, Helsinki\, Finland
CATEGORIES:eskaaderi,kerhotila_varattu,koulutukset
ATTACH;FMTTYPE=image/jpeg:https://hooveekoo.fi/wp-content/uploads/IMG_9133.jpg
END:VEVENT
BEGIN:VEVENT
DTSTART;TZID=Europe/Helsinki:20230601T170000
DTEND;TZID=Europe/Helsinki:20230601T190000
DTSTAMP:20260420T024542
CREATED:20230406T180504Z
LAST-MODIFIED:20230531T211739Z
UID:119327-1685638800-1685646000@hooveekoo.fi
SUMMARY:Toimisto- ja katsastusilta
DESCRIPTION:
URL:https://hooveekoo.fi/event/toimisto-ja-katsastusilta-6/
CATEGORIES:toimistoillat
END:VEVENT
BEGIN:VEVENT
DTSTART;TZID=Europe/Helsinki:20230608T160000
DTEND;TZID=Europe/Helsinki:20230611T220000
DTSTAMP:20260420T024542
CREATED:20230419T142832Z
LAST-MODIFIED:20230419T151414Z
UID:120233-1686240000-1686520800@hooveekoo.fi
SUMMARY:Tallinnan eskaaderi
DESCRIPTION:Tervetuloa mukaan perinteiselle HVK:n eskaaderilla Tallinnaan. On aivan erityinen tunnelma ajaa omalla veneellään yhdessä eskaaderissa yöllä tai aikaisin aamulla Tallinnaan. Perillä järjestetään yhteistä ohjelmaa. \n \nLähtö tapahtuu sääolosuhteet huomioiden torstaina 8.6 illalla. Paluu sääolosuhteet huomioiden joko lauantaina 10.6 tai sunnuntaina 11.6. \nTarkemmin eskaaderista ja yhteisestä ohjelmasta Tallinnasta sovitaan osallistujien kanssa eskaaderin suunnittelupalaverissa 25.5 klo 18-20 HVK:lla. Suunnittelupalaveriin ovat tervetulleet kaikki eskaaderista kiinnostuneet. \nEskaaderin johtajana toimii Henrik Westerholm ( henckaw (at) gmail.com )\,  joka antaa lisätietoja ja ottaa myös ilmoittautumiset vastaan.
URL:https://hooveekoo.fi/event/tallinnan-eskaaderi/
CATEGORIES:eskaaderi
ATTACH;FMTTYPE=image/jpeg:https://hooveekoo.fi/wp-content/uploads/IMG_9116.jpg
END:VEVENT
BEGIN:VEVENT
DTSTART;TZID=Europe/Helsinki:20230608T170000
DTEND;TZID=Europe/Helsinki:20230608T190000
DTSTAMP:20260420T024542
CREATED:20230406T180505Z
LAST-MODIFIED:20230607T210940Z
UID:119328-1686243600-1686250800@hooveekoo.fi
SUMMARY:Toimisto- ja katsastusilta
DESCRIPTION:
URL:https://hooveekoo.fi/event/toimisto-ja-katsastusilta-7/
CATEGORIES:toimistoillat
END:VEVENT
BEGIN:VEVENT
DTSTART;TZID=Europe/Helsinki:20230612T180000
DTEND;TZID=Europe/Helsinki:20230612T200000
DTSTAMP:20260420T024542
CREATED:20230302T180305Z
LAST-MODIFIED:20230611T231933Z
UID:118267-1686592800-1686600000@hooveekoo.fi
SUMMARY:Hallituksen kokous
DESCRIPTION:
URL:https://hooveekoo.fi/event/hallituksen-kokous-5/
CATEGORIES:hallituksen kokoukset
END:VEVENT
BEGIN:VEVENT
DTSTART;TZID=Europe/Helsinki:20230615T170000
DTEND;TZID=Europe/Helsinki:20230615T190000
DTSTAMP:20260420T024542
CREATED:20230406T180505Z
LAST-MODIFIED:20230614T212011Z
UID:119329-1686848400-1686855600@hooveekoo.fi
SUMMARY:Toimisto- ja katsastusilta
DESCRIPTION:
URL:https://hooveekoo.fi/event/toimisto-ja-katsastusilta-8/
CATEGORIES:toimistoillat
END:VEVENT
BEGIN:VEVENT
DTSTART;TZID=Europe/Helsinki:20230620T170000
DTEND;TZID=Europe/Helsinki:20230620T190000
DTSTAMP:20260420T024542
CREATED:20230406T180506Z
LAST-MODIFIED:20230619T211628Z
UID:119330-1687280400-1687287600@hooveekoo.fi
SUMMARY:Toimisto- ja katsastusilta
DESCRIPTION:
URL:https://hooveekoo.fi/event/toimisto-ja-katsastusilta-9/
CATEGORIES:toimistoillat
END:VEVENT
BEGIN:VEVENT
DTSTART;TZID=Europe/Helsinki:20230629T170000
DTEND;TZID=Europe/Helsinki:20230629T190000
DTSTAMP:20260420T024542
CREATED:20230406T180506Z
LAST-MODIFIED:20230628T211712Z
UID:119331-1688058000-1688065200@hooveekoo.fi
SUMMARY:Viimeinen Toimisto- ja katsastusilta
DESCRIPTION:
URL:https://hooveekoo.fi/event/viimeinen-toimisto-ja-katsastusilta/
CATEGORIES:toimistoillat
END:VEVENT
BEGIN:VEVENT
DTSTART;VALUE=DATE:20230701
DTEND;VALUE=DATE:20230801
DTSTAMP:20260420T024542
CREATED:20230406T230509Z
LAST-MODIFIED:20230731T051824Z
UID:119337-1688169600-1690847999@hooveekoo.fi
SUMMARY:Toimisto kiinni
DESCRIPTION:
URL:https://hooveekoo.fi/event/toimisto-kiinni/
END:VEVENT
BEGIN:VEVENT
DTSTART;TZID=Europe/Helsinki:20230807T180000
DTEND;TZID=Europe/Helsinki:20230807T200000
DTSTAMP:20260420T024542
CREATED:20230302T180305Z
LAST-MODIFIED:20230807T021646Z
UID:118268-1691431200-1691438400@hooveekoo.fi
SUMMARY:Hallituksen kokous
DESCRIPTION:
URL:https://hooveekoo.fi/event/hallituksen-kokous-6/
CATEGORIES:hallituksen kokoukset
END:VEVENT
BEGIN:VEVENT
DTSTART;TZID=Europe/Helsinki:20230819T120000
DTEND;TZID=Europe/Helsinki:20230819T170000
DTSTAMP:20260420T024542
CREATED:20230807T184509Z
LAST-MODIFIED:20230817T092935Z
UID:123564-1692446400-1692464400@hooveekoo.fi
SUMMARY:Peruttu! Romunkeräystalkoot Hästössä
DESCRIPTION:Lauantaille 19.8. suunnitellut Hästöön romunkeräystalkoot on peruttu\, sillä superaktiivinen saaritoimikuntamme ehti hoitamaan hommat jo kuluneella viikolla.\n\n\nSyynä aikataulumuutokseen oli ennen kaikkea se\, että naapurivenekerholta saatiin lautta lainaksi romujen kuskaamisen jo alkuviikosta.\n\n\n\nTervetuloa siistittyyn saareen ja testailemaan uutta grilliä!
URL:https://hooveekoo.fi/event/romunkeraystalkoot-hastossa/
LOCATION:Hästö\, Suomi
CATEGORIES:hästö
ATTACH;FMTTYPE=image/jpeg:https://hooveekoo.fi/wp-content/uploads/tim-mossholder-qq-8dpdlBsY-unsplash-scaled.jpg
ORGANIZER;CN="Humallahden venekerho":MAILTO:toimisto@hooveekoo.fi
END:VEVENT
BEGIN:VEVENT
DTSTART;VALUE=DATE:20230826
DTEND;VALUE=DATE:20230827
DTSTAMP:20260420T024542
CREATED:20230815T114428Z
LAST-MODIFIED:20230815T114428Z
UID:123653-1693008000-1693094399@hooveekoo.fi
SUMMARY:Muinaistulien yö Hästössä
DESCRIPTION:Elokuun viimeisenä viikonloppuna huipentuu kesälomakausi upeaan loppuunsa. Pimenevä ilta\, meri ja tuli ovat elementit\, jotka luovat vertaansa vailla olevan tunnelmansa tuhansien veneilijöiden ja mökkeilijöiden kesäkauden päätösjuhlaan.
URL:https://hooveekoo.fi/event/muinaistulien-yo-hastossa/
LOCATION:Hästö\, Suomi
CATEGORIES:hästö
ATTACH;FMTTYPE=image/jpeg:https://hooveekoo.fi/wp-content/uploads/21125555_1448990785191884_8192240512265110497_o.jpg
END:VEVENT
BEGIN:VEVENT
DTSTART;TZID=Europe/Helsinki:20230902T180000
DTEND;TZID=Europe/Helsinki:20230902T230000
DTSTAMP:20260420T024542
CREATED:20230706T075522Z
LAST-MODIFIED:20230708T075417Z
UID:123319-1693677600-1693695600@hooveekoo.fi
SUMMARY:HVK:n 70-vuotisjuhla
DESCRIPTION:Humallahden venekerhon perustettiin vuonna 1953\, joten syyskuussa 2023 on aika nostaa maljat 70-vuotiaalle venekerhollemme Ravintola Mestaritallissa järjestettävässä juhlassa! Luvassa hyvää ruokaa\, juomaa\, musiikkia\, tanssia sekä huomionosoituksia aktiivisesti venekerhossa toimineille! \nIlmoittautumiset ja illalliskorttien maksut 13.8. mennessä. Ilmoittautumisen ja illalliskortin maksun yhteydessä pyydämme ilmoittamaan pääruokatoiveesi (liha-\, kala- vai kasvis) sekä mahdolliset allergiat. Ilmoittauminen on vahvistettu\, kun olet maksanut 60 euron/hlö illalliskortin (myös mahdollinen avecin).  llalliskortin pääset ostamaan HVK:n sivujen kaupasta. Venekerho maksaa osan illalliskustannuksista. Illalliskortti kattaa onnittelumaljan\, illallisen sekä yhden kaadon ruokajuomaa (valkoviini/punaviini tai olut). Muut juomat illan aikana ovat omakustanteisia baarista. \nOhjelma:\n17.45 Saapuminen Mestaritalliin\n18.00 Malja HVK:lle ja tervetuliaissanat\n18.15 Juhlapuhe\n18.30 Illallinen\n20.00 Huomionosoitukset\nLivemusiikkia pitkin iltaa ja tanssilattia käytössä. \nIllan menu – MenuChef\nRapuskagen\n******\nNaudan marmoriulkofilee\, perunagratiinia\, paahdettuja kasviksia ja pippurikastiketta\nTAI\nPaahdettua siikaa\, perunagratiinia\, paahdettuja kasviksia ja hummeri-jus’\nTAI\nRapaa kylmäsavustettua tofua\, perunagratiinia\, paahdettuja kasviksia ja pistou kastiketta\n******* \nLakkajuustoleivos\nKahvi /tee\nErikoisruokavaliot otetaan huomioon. \nIlmoittautuminen:\n\n\n\n\nHVK 70 vuotta\n\n\n\n\n\n\n\n\n    Jäsenen nimi\n        *\n    \n    \n    \n    \n\n\n    Jäsenen pääruokavalinta\n        *\n    \n    					\n					 Kala (paahdettua siikaa)\n					\n					 Kasvis (kylmäsavustettua tofua)\n					\n					 Liha (naudan marmori-ulkofilee)\n\n    \n    \n\n\n    Osallistuvan avecin nimi\n        \n    \n    \n    \n    \n\n\n    Avecin pääruokavalinta\n        \n    \n    					\n					 Kala (paahdettua siikaa)\n					\n					 Kasvis (kylmäsavustettua tofua)\n					\n					 Liha (naudan marmori-ulkofilee)\n\n    \n    \n\n\n    Puhelinnumero\n        *\n    \n    \n    \n    \n\n\n    Sähköpostiosoite\n        \n    \n    \n    \n    \n\n\n    Mahdolliset allergiat ja erityisruokavaliot:\n        \n    \n    \n    \n    \n\n\n    Roskapostisuojaus\n        \n    \n    \n    \n    \n\n\n	\n			\n			\n				If you are human\, leave this field blank.			\n			\n		\n		\n\nLähetä\n\n\n\n\n\n\n\n\n 
URL:https://hooveekoo.fi/event/hvkn-70-vuotisjuhla/
LOCATION:Ravintola Mestaritalli\, Merikannontie 6\, Helsinki\, 00260\, Suomi
ORGANIZER;CN="Humallahden venekerho":MAILTO:toimisto@hooveekoo.fi
END:VEVENT
BEGIN:VEVENT
DTSTART;TZID=Europe/Helsinki:20230911T180000
DTEND;TZID=Europe/Helsinki:20230911T200000
DTSTAMP:20260420T024542
CREATED:20230302T180305Z
LAST-MODIFIED:20230911T060509Z
UID:118269-1694455200-1694462400@hooveekoo.fi
SUMMARY:Hallituksen kokous
DESCRIPTION:
URL:https://hooveekoo.fi/event/hallituksen-kokous-7/
CATEGORIES:hallituksen kokoukset
END:VEVENT
BEGIN:VEVENT
DTSTART;TZID=Europe/Helsinki:20230930T120000
DTEND;TZID=Europe/Helsinki:20230930T160000
DTSTAMP:20260420T024542
CREATED:20230913T143435Z
LAST-MODIFIED:20230913T143435Z
UID:123831-1696075200-1696089600@hooveekoo.fi
SUMMARY:Veneiden 1. yhteisnosto
DESCRIPTION:
URL:https://hooveekoo.fi/event/veneiden-1-yhteisnosto/
LOCATION:Humallahden Venekerho\, Rajasaarenpenger 6\, Helsinki\, Suomi
CATEGORIES:satama
END:VEVENT
BEGIN:VEVENT
DTSTART;TZID=Europe/Helsinki:20231004T180000
DTEND;TZID=Europe/Helsinki:20231004T220000
DTSTAMP:20260420T024542
CREATED:20230921T083429Z
LAST-MODIFIED:20230921T084703Z
UID:123877-1696442400-1696456800@hooveekoo.fi
SUMMARY:Koulutus- ja venematkailutoimikunnan kokous
DESCRIPTION:HVK KVT:n kokoontuminen \nAgenda: Toimikunnan toimintakertomus 23 ja toimintasuunnitelma 24\, palaute koulutuksista\, koulutustarjontamme 24\, eskaaderit\, kilpailut. Paistetaan taas yhdessä pizzoja Oonilla. \nKutsutut toimikuntalaiset: Jukka Wallinheimo\, Janne Ignatius\, Klaus Salkola\, Henrik Westerholm\, Jori Kosonen\, Maunu Suttinen\, Amos Soivio. \n \nJos olet kiinnostunut liittymään toimikuntaamme\, niin tervetuloa reippaasti nyt mukaan. Ilmoittaudu kuitenkin etukäteen jukka.wallinheimo@kolumbus.fi \n 
URL:https://hooveekoo.fi/event/koulutus-ja-venematkailutoimikunnan-kokous/
LOCATION:HVK:n kerhorakennus\, Rajasaarenpenger 6\, Helsinki (Taka-Töölö)\, Suomi
CATEGORIES:kerhotila_varattu
ATTACH;FMTTYPE=image/jpeg:https://hooveekoo.fi/wp-content/uploads/pizza1-2-scaled.jpg
END:VEVENT
BEGIN:VEVENT
DTSTART;TZID=Europe/Helsinki:20231016T180000
DTEND;TZID=Europe/Helsinki:20231016T200000
DTSTAMP:20260420T024542
CREATED:20230302T180505Z
LAST-MODIFIED:20231009T070130Z
UID:118270-1697479200-1697486400@hooveekoo.fi
SUMMARY:Hallituksen kokous
DESCRIPTION:
URL:https://hooveekoo.fi/event/hallituksen-kokous-8/
CATEGORIES:hallituksen kokoukset
END:VEVENT
BEGIN:VEVENT
DTSTART;TZID=Europe/Helsinki:20231028T130000
DTEND;TZID=Europe/Helsinki:20231028T170000
DTSTAMP:20260420T024542
CREATED:20230913T143721Z
LAST-MODIFIED:20230913T143721Z
UID:123834-1698498000-1698512400@hooveekoo.fi
SUMMARY:Veneiden 2. yhteisnosto
DESCRIPTION:
URL:https://hooveekoo.fi/event/veneiden-2-yhteisnosto/
LOCATION:Humallahden Venekerho\, Rajasaarenpenger 6\, Helsinki\, Suomi
CATEGORIES:satama
END:VEVENT
END:VCALENDAR