BEGIN:VCALENDAR
VERSION:2.0
PRODID:-//Humallahden Venekerho - ECPv6.15.20//NONSGML v1.0//EN
CALSCALE:GREGORIAN
METHOD:PUBLISH
X-WR-CALNAME:Humallahden Venekerho
X-ORIGINAL-URL:https://hooveekoo.fi
X-WR-CALDESC:Tapahtumat Humallahden Venekerho
REFRESH-INTERVAL;VALUE=DURATION:PT1H
X-Robots-Tag:noindex
X-PUBLISHED-TTL:PT1H
BEGIN:VTIMEZONE
TZID:Europe/Helsinki
BEGIN:DAYLIGHT
TZOFFSETFROM:+0200
TZOFFSETTO:+0300
TZNAME:EEST
DTSTART:20210328T010000
END:DAYLIGHT
BEGIN:STANDARD
TZOFFSETFROM:+0300
TZOFFSETTO:+0200
TZNAME:EET
DTSTART:20211031T010000
END:STANDARD
BEGIN:DAYLIGHT
TZOFFSETFROM:+0200
TZOFFSETTO:+0300
TZNAME:EEST
DTSTART:20220327T010000
END:DAYLIGHT
BEGIN:STANDARD
TZOFFSETFROM:+0300
TZOFFSETTO:+0200
TZNAME:EET
DTSTART:20221030T010000
END:STANDARD
BEGIN:DAYLIGHT
TZOFFSETFROM:+0200
TZOFFSETTO:+0300
TZNAME:EEST
DTSTART:20230326T010000
END:DAYLIGHT
BEGIN:STANDARD
TZOFFSETFROM:+0300
TZOFFSETTO:+0200
TZNAME:EET
DTSTART:20231029T010000
END:STANDARD
END:VTIMEZONE
BEGIN:VEVENT
DTSTART;TZID=Europe/Helsinki:20221008T150000
DTEND;TZID=Europe/Helsinki:20221008T170000
DTSTAMP:20260422T045747
CREATED:20220811T183127Z
LAST-MODIFIED:20221008T113600Z
UID:111113-1665241200-1665248400@hooveekoo.fi
SUMMARY:PERUUTETTU Lohisoppa Hästö
DESCRIPTION:
URL:https://hooveekoo.fi/event/lohisoppa-hasto-2/
END:VEVENT
BEGIN:VEVENT
DTSTART;TZID=Europe/Helsinki:20221002T070000
DTEND;TZID=Europe/Helsinki:20221002T110000
DTSTAMP:20260422T045747
CREATED:20220815T185013Z
LAST-MODIFIED:20221001T111831Z
UID:111152-1664694000-1664708400@hooveekoo.fi
SUMMARY:Veneiden I yhteisnosto
DESCRIPTION:
URL:https://hooveekoo.fi/event/veneiden-i-yhteisnosto-5/
END:VEVENT
BEGIN:VEVENT
DTSTART;TZID=Europe/Helsinki:20220929T180000
DTEND;TZID=Europe/Helsinki:20220929T210000
DTSTAMP:20260422T045747
CREATED:20220906T074806Z
LAST-MODIFIED:20220929T090144Z
UID:111560-1664474400-1664485200@hooveekoo.fi
SUMMARY:Patjaston uusiminen veneeseen (LÄHIKOULUTUS)
DESCRIPTION:Kohderyhmä:  Kohderyhmänä ovat kaikki veneilijät\, joita kiinnostaa veneen patjojen uusiminen joko itse tai tilaustyönä.\nTavoite:\n 	Oppia eri patjamateriaalien plussista ja miinuksista\n 	Oppia venepatjoihin liittyviä erikoispiirteitä verhoilusta materiaalien valintaan\nKurssin sisältö: \n 	Kurssilla käydään läpi erilaiset veneen patjoihin sopivat materiaalit sekä patjojen verhoiluun liittyviä kommervenkkejä.\nKouluttaja: Jouko Välikoski Mauronet Oy. Jokke on tehnyt veneisiin tuhansia patjoja ja kehittänyt muun muassa veneisiin erinomaisesti sopivan ilmakiertopatjan.\nLisätietoja: Riikka Puntila-Dodd (LPS)\, rpuntila at gmail.com\nOsallistujamäärä: 5 – 30. (Listalla sijat >30 ovat jonossa mahdollisille peruutuspaikoille.)\nIlmoittautuminen:\nJos muutat mielesi osallistumisesta\, ilmoita mahdollisimman pian emaililla Riikalle\, koska kurssille saatetaan jonottaa.\nIlmoittautuneet: /30\nJonotuslista:\n 
URL:https://hooveekoo.fi/event/patjaston-uusiminen-veneeseen-lahikoulutus-2/
LOCATION:Humallahden Venekerho\, Rajasaarenpenger 6\, Helsinki\, Suomi
CATEGORIES:koulutukset
ATTACH;FMTTYPE=image/jpeg:https://hooveekoo.fi/wp-content/uploads/IMG_1465-scaled-XFXDde.tmp_.jpg
END:VEVENT
BEGIN:VEVENT
DTSTART;TZID=Europe/Helsinki:20220928T183000
DTEND;TZID=Europe/Helsinki:20220928T200000
DTSTAMP:20260422T045747
CREATED:20220906T074805Z
LAST-MODIFIED:20220928T090203Z
UID:111559-1664389800-1664395200@hooveekoo.fi
SUMMARY:Oletko kiinnostunut kansainvälisen huviveeneenkuljettajankirjan hankkimisesta? (LÄHI- JA ETÄKOULUTUS)
DESCRIPTION:Tilaisuudessa kerrotaan veneilijöille SPV:n koulutusväylästä ja koulutuspolusta kansainvälisen huviveneenkuljettajankirjan (ICC) saamiseksi.\nSisältö:\n 	SPV:n koulutusväylä\n 	Veneilijäkurssin ja venepäällikkökurssin sisällöt\n 	Osaamisvaatimukset ICC:n saamiseksi\n 	Tietoa siitä\, miten voin edetä ICC:n saamiseksi\n 	Kysymyksiä ja vastauksia\nKouluttaja: Jori Kosonen\, veneilykouluttaja ja katsastaja (SPV\, HVK)\, vuokraveneen- ja huvuveneenkuljettajakirja (Traficom).\nLisätietoja: Jori Kosonen\, kosojori@gmail.com\nTilaisuus on ilmainen ja se järjestetään lähitilaisuutena HVK:lla sekä etänä Teamssilla. Kouluttaja lähettää Teams-linkin ilmoittautuneille.\nIlmoittautuminen: Ilmoittautuminen on päättynyt.\nIlmoittautuneet: /50\, joista lähikolutuksena  ja etäkoulutuksena .\nJonotuslista:\nOsallistuitko tilaisuuteen\, annahan palautetta kouluttajalle:\n 
URL:https://hooveekoo.fi/event/oletko-kiinnostunut-kansainvalisen-huviveeneenkuljettajankirjan-hankkimisesta-lahi-ja-etakoulutus/
LOCATION:Humallahden Venekerho\, Rajasaarenpenger 6\, Helsinki\, Suomi
CATEGORIES:koulutukset
ATTACH;FMTTYPE=image/png:https://hooveekoo.fi/wp-content/uploads/Screen-Shot-11-22-21-at-11.44-PM-Z0EZmc.tmp_.png
END:VEVENT
BEGIN:VEVENT
DTSTART;TZID=Europe/Helsinki:20220917T180000
DTEND;TZID=Europe/Helsinki:20220917T210000
DTSTAMP:20260422T045747
CREATED:20220811T183127Z
LAST-MODIFIED:20220917T103252Z
UID:111112-1663437600-1663448400@hooveekoo.fi
SUMMARY:Nyyttärit Hästö
DESCRIPTION:
URL:https://hooveekoo.fi/event/nyyttarit-hasto/
END:VEVENT
BEGIN:VEVENT
DTSTART;TZID=Europe/Helsinki:20220912T180000
DTEND;TZID=Europe/Helsinki:20220912T200000
DTSTAMP:20260422T045747
CREATED:20220224T133349Z
LAST-MODIFIED:20220912T084916Z
UID:105831-1663005600-1663012800@hooveekoo.fi
SUMMARY:Hallituksen kokous
DESCRIPTION:
URL:https://hooveekoo.fi/event/hallituksen-kokous-58/
CATEGORIES:hallituksen kokoukset
END:VEVENT
BEGIN:VEVENT
DTSTART;VALUE=DATE:20220827
DTEND;VALUE=DATE:20220828
DTSTAMP:20260422T045747
CREATED:20220811T183126Z
LAST-MODIFIED:20220827T200131Z
UID:111111-1661558400-1661644799@hooveekoo.fi
SUMMARY:Muinaistulien Yö
DESCRIPTION:
URL:https://hooveekoo.fi/event/muinaistulien-yo-2/
END:VEVENT
BEGIN:VEVENT
DTSTART;TZID=Europe/Helsinki:20220816T180000
DTEND;TZID=Europe/Helsinki:20220816T200000
DTSTAMP:20260422T045747
CREATED:20220224T133325Z
LAST-MODIFIED:20220906T170149Z
UID:105830-1660672800-1660680000@hooveekoo.fi
SUMMARY:Hallituksen kokous
DESCRIPTION:
URL:https://hooveekoo.fi/event/hallituksen-kokous-57/
CATEGORIES:hallituksen kokoukset
END:VEVENT
BEGIN:VEVENT
DTSTART;TZID=Europe/Helsinki:20220809T160000
DTEND;TZID=Europe/Helsinki:20220809T160000
DTSTAMP:20260422T045747
CREATED:20220616T090448Z
LAST-MODIFIED:20220616T091350Z
UID:110256-1660060800-1660060800@hooveekoo.fi
SUMMARY:Veneiden pesu
DESCRIPTION:
URL:https://hooveekoo.fi/event/veneiden-pesu/
LOCATION:Rajasaaren nostopaikka
CATEGORIES:satama
END:VEVENT
BEGIN:VEVENT
DTSTART;TZID=Europe/Helsinki:20220630T170000
DTEND;TZID=Europe/Helsinki:20220630T190000
DTSTAMP:20260422T045747
CREATED:20220224T205022Z
LAST-MODIFIED:20220630T030409Z
UID:105859-1656608400-1656615600@hooveekoo.fi
SUMMARY:Viimeinen toimisto- ja katsastusilta
DESCRIPTION:
URL:https://hooveekoo.fi/event/viimeinen-toimisto-ja-katsastusilta-3/
CATEGORIES:toimistoillat
END:VEVENT
BEGIN:VEVENT
DTSTART;VALUE=DATE:20220624
DTEND;VALUE=DATE:20220627
DTSTAMP:20260422T045747
CREATED:20220224T111854Z
LAST-MODIFIED:20220626T173122Z
UID:105817-1656028800-1656287999@hooveekoo.fi
SUMMARY:Hästö juhannus
DESCRIPTION:
URL:https://hooveekoo.fi/event/hasto-juhannus/
END:VEVENT
BEGIN:VEVENT
DTSTART;TZID=Europe/Helsinki:20220621T170000
DTEND;TZID=Europe/Helsinki:20220621T190000
DTSTAMP:20260422T045747
CREATED:20220224T205022Z
LAST-MODIFIED:20220621T032009Z
UID:105858-1655830800-1655838000@hooveekoo.fi
SUMMARY:Toimisto- ja katsastusilta
DESCRIPTION:
URL:https://hooveekoo.fi/event/toimisto-ja-katsastusilta-29/
CATEGORIES:toimistoillat
END:VEVENT
BEGIN:VEVENT
DTSTART;TZID=Europe/Helsinki:20220616T170000
DTEND;TZID=Europe/Helsinki:20220616T190000
DTSTAMP:20260422T045747
CREATED:20220224T205022Z
LAST-MODIFIED:20220616T030513Z
UID:105857-1655398800-1655406000@hooveekoo.fi
SUMMARY:Toimisto- ja katsastusilta
DESCRIPTION:
URL:https://hooveekoo.fi/event/toimisto-ja-katsastusilta-28/
CATEGORIES:toimistoillat
END:VEVENT
BEGIN:VEVENT
DTSTART;TZID=Europe/Helsinki:20220609T170000
DTEND;TZID=Europe/Helsinki:20220609T190000
DTSTAMP:20260422T045747
CREATED:20220224T205022Z
LAST-MODIFIED:20220609T024641Z
UID:105856-1654794000-1654801200@hooveekoo.fi
SUMMARY:Toimisto- ja katsastusilta
DESCRIPTION:
URL:https://hooveekoo.fi/event/toimisto-ja-katsastusilta-27/
CATEGORIES:toimistoillat
END:VEVENT
BEGIN:VEVENT
DTSTART;VALUE=DATE:20220609
DTEND;VALUE=DATE:20220613
DTSTAMP:20260422T045747
CREATED:20220224T111854Z
LAST-MODIFIED:20220612T171850Z
UID:105816-1654732800-1655078399@hooveekoo.fi
SUMMARY:Tallinnan eskaaderi
DESCRIPTION:
URL:https://hooveekoo.fi/event/tallinnan-eskaaderi-3/
END:VEVENT
BEGIN:VEVENT
DTSTART;TZID=Europe/Helsinki:20220608T180000
DTEND;TZID=Europe/Helsinki:20220609T040000
DTSTAMP:20260422T045747
CREATED:20220224T133324Z
LAST-MODIFIED:20220906T170149Z
UID:105829-1654711200-1654747200@hooveekoo.fi
SUMMARY:Hallituksen kokous
DESCRIPTION:
URL:https://hooveekoo.fi/event/hallituksen-kokous-56/
CATEGORIES:hallituksen kokoukset
END:VEVENT
BEGIN:VEVENT
DTSTART;TZID=Europe/Helsinki:20220608T180000
DTEND;TZID=Europe/Helsinki:20220608T200000
DTSTAMP:20260422T045747
CREATED:20220224T111854Z
LAST-MODIFIED:20220608T163444Z
UID:105815-1654711200-1654718400@hooveekoo.fi
SUMMARY:Hallituksen kokous
DESCRIPTION:
URL:https://hooveekoo.fi/event/hallituksen-kokous-48/
END:VEVENT
BEGIN:VEVENT
DTSTART;TZID=Europe/Helsinki:20220602T170000
DTEND;TZID=Europe/Helsinki:20220602T190000
DTSTAMP:20260422T045747
CREATED:20220224T205016Z
LAST-MODIFIED:20220602T030149Z
UID:105855-1654189200-1654196400@hooveekoo.fi
SUMMARY:Toimisto- ja katsastusilta
DESCRIPTION:
URL:https://hooveekoo.fi/event/toimisto-ja-katsastusilta-26/
CATEGORIES:toimistoillat
END:VEVENT
BEGIN:VEVENT
DTSTART;TZID=Europe/Helsinki:20220528T100000
DTEND;TZID=Europe/Helsinki:20220528T130000
DTSTAMP:20260422T045747
CREATED:20220224T111853Z
LAST-MODIFIED:20220527T161620Z
UID:105814-1653732000-1653742800@hooveekoo.fi
SUMMARY:Hästö siivoustalkoot
DESCRIPTION:
URL:https://hooveekoo.fi/event/hasto-siivoustalkoot-2/
END:VEVENT
BEGIN:VEVENT
DTSTART;TZID=Europe/Helsinki:20220524T170000
DTEND;TZID=Europe/Helsinki:20220524T190000
DTSTAMP:20260422T045747
CREATED:20220224T205016Z
LAST-MODIFIED:20220524T021746Z
UID:105854-1653411600-1653418800@hooveekoo.fi
SUMMARY:Toimisto- ja katsastusilta
DESCRIPTION:
URL:https://hooveekoo.fi/event/toimisto-ja-katsastusilta-25/
CATEGORIES:toimistoillat
END:VEVENT
BEGIN:VEVENT
DTSTART;TZID=Europe/Helsinki:20220519T170000
DTEND;TZID=Europe/Helsinki:20220519T190000
DTSTAMP:20260422T045747
CREATED:20220224T205016Z
LAST-MODIFIED:20220519T021619Z
UID:105853-1652979600-1652986800@hooveekoo.fi
SUMMARY:Toimisto- ja katsastusilta
DESCRIPTION:
URL:https://hooveekoo.fi/event/toimisto-ja-katsastusilta-24/
CATEGORIES:toimistoillat
END:VEVENT
BEGIN:VEVENT
DTSTART;TZID=Europe/Helsinki:20220517T180000
DTEND;TZID=Europe/Helsinki:20220517T200000
DTSTAMP:20260422T045747
CREATED:20220224T133324Z
LAST-MODIFIED:20220906T170149Z
UID:105828-1652810400-1652817600@hooveekoo.fi
SUMMARY:Hallituksen kokous
DESCRIPTION:
URL:https://hooveekoo.fi/event/hallituksen-kokous-55/
CATEGORIES:hallituksen kokoukset
END:VEVENT
BEGIN:VEVENT
DTSTART;TZID=Europe/Helsinki:20220515T070000
DTEND;TZID=Europe/Helsinki:20220515T100000
DTSTAMP:20260422T045747
CREATED:20220226T111938Z
LAST-MODIFIED:20220514T155013Z
UID:105893-1652598000-1652608800@hooveekoo.fi
SUMMARY:Veneiden II yhteislasku\, aika on alustava\, voi vielä muuttua. Sammutinhuolto paikalla 10-12
DESCRIPTION:
URL:https://hooveekoo.fi/event/veneiden-ii-yhteislasku-aika-on-alustava-voi-viela-muuttua-sammutinhuolto-paikalla-10-12-2/
END:VEVENT
BEGIN:VEVENT
DTSTART;TZID=Europe/Helsinki:20220514T090000
DTEND;TZID=Europe/Helsinki:20220514T130000
DTSTAMP:20260422T045747
CREATED:20220224T111718Z
LAST-MODIFIED:20220513T154753Z
UID:105812-1652518800-1652533200@hooveekoo.fi
SUMMARY:Tavaratori Sinbadilla Lauttasaari
DESCRIPTION:
URL:https://hooveekoo.fi/event/tavaratori-sinbadilla-lauttasaari/
END:VEVENT
BEGIN:VEVENT
DTSTART;TZID=Europe/Helsinki:20220512T170000
DTEND;TZID=Europe/Helsinki:20220512T190000
DTSTAMP:20260422T045747
CREATED:20220224T205016Z
LAST-MODIFIED:20220512T021752Z
UID:105852-1652374800-1652382000@hooveekoo.fi
SUMMARY:Toimisto- ja katsastusilta
DESCRIPTION:
URL:https://hooveekoo.fi/event/toimisto-ja-katsastusilta-23/
CATEGORIES:toimistoillat
END:VEVENT
BEGIN:VEVENT
DTSTART;TZID=Europe/Helsinki:20220505T170000
DTEND;TZID=Europe/Helsinki:20220505T190000
DTSTAMP:20260422T045747
CREATED:20220224T205015Z
LAST-MODIFIED:20220504T235012Z
UID:105851-1651770000-1651777200@hooveekoo.fi
SUMMARY:Toimisto- ja katsastusilta
DESCRIPTION:
URL:https://hooveekoo.fi/event/toimisto-ja-katsastusilta-22/
CATEGORIES:toimistoillat
END:VEVENT
BEGIN:VEVENT
DTSTART;TZID=Europe/Helsinki:20220503T170000
DTEND;TZID=Europe/Helsinki:20220503T193000
DTSTAMP:20260422T045747
CREATED:20220421T140248Z
LAST-MODIFIED:20220503T143517Z
UID:108951-1651597200-1651606200@hooveekoo.fi
SUMMARY:Veneiden yhteislasku
DESCRIPTION:
URL:https://hooveekoo.fi/event/veneiden-yhteislasku/
END:VEVENT
BEGIN:VEVENT
DTSTART;TZID=Europe/Helsinki:20220503T170000
DTEND;TZID=Europe/Helsinki:20220503T193000
DTSTAMP:20260422T045747
CREATED:20220421T140248Z
LAST-MODIFIED:20220503T143517Z
UID:108952-1651597200-1651606200@hooveekoo.fi
SUMMARY:Veneiden yhteislaku
DESCRIPTION:
URL:https://hooveekoo.fi/event/veneiden-yhteislaku/
END:VEVENT
BEGIN:VEVENT
DTSTART;TZID=Europe/Helsinki:20220501T120000
DTEND;TZID=Europe/Helsinki:20220501T133000
DTSTAMP:20260422T045747
CREATED:20220224T111718Z
LAST-MODIFIED:20220430T143155Z
UID:105811-1651406400-1651411800@hooveekoo.fi
SUMMARY:Lipunnosto
DESCRIPTION:
URL:https://hooveekoo.fi/event/lipunnosto-4/
END:VEVENT
BEGIN:VEVENT
DTSTART;TZID=Europe/Helsinki:20220427T170000
DTEND;TZID=Europe/Helsinki:20220427T200000
DTSTAMP:20260422T045747
CREATED:20211208T085020Z
LAST-MODIFIED:20220427T151902Z
UID:104405-1651078800-1651089600@hooveekoo.fi
SUMMARY:Tehoa veneen kylkien puunaukseen – käytännön harjoitus (LÄHIKOULUTUS)
DESCRIPTION:Valitettavasti huhtikuun alun sää on liian kylmä tapahtuman pitämiseen alkuperäisen suunnitelman mukaan. Yritetään paremmalla onnella 27.4.2022. Aiemmat ilmoittautumiset ovat päteviä. Ilmoittakaa\, jos uudet päivät eivät sovi. Pahoittelen muutoksesta mahdollisesti aiheutuvaa harmia ja vaivaa.\nKokoonnumme puunaamaan veneen\, joka pestiin kurssin teoriaosuuden päätteeksi. Noin 16 teoriaosuuteen osallistunutta kurssilaista voi hankkia käytännön kokemusta esitellyistä materiaaleista\, työvälineistä ja –tekniikoista. Muilla on mahdollisuus osallistua katselijoina.\nPukeuduthan asianmukaisesti. Vaatteet voivat likaantua harjoituksessa. Huomioi myös sää.\nKoronatilanteen huomioiminen\nTilaisuuteen osallistuminen edellyttää koronapassia. Huolehdimme riittävästä väljyydestä\, käsihygieniasta ja käytämme kasvomaskeja koulutuksessa. Ilmoittumalla sitoudut tähän. Kurssi pidetään\, jos olosuhteet yleensäkin sallivat lähiopetuksen  Katso tarkemmin Paven koronaohjeet.\nIlmoittautumisen peruutukset sähköpostilla: anssi.jarvenpaa@live.com\nIlmoittautumien:\nIlmoittautuneet:
URL:https://hooveekoo.fi/event/tehoa-veneen-kylkien-puunaukseen-kaytannon-harjoitus-lahikoulutus/
LOCATION:Lauttasaaren veneilijät\, Lahnalahdentie 3\, Helsinki\, Finland
CATEGORIES:koulutukset
ATTACH;FMTTYPE=image/jpeg:https://hooveekoo.fi/wp-content/uploads/Boat-polishing-XNlBDm.tmp_.jpg
END:VEVENT
END:VCALENDAR