BEGIN:VCALENDAR
VERSION:2.0
PRODID:-//Humallahden Venekerho - ECPv6.15.20//NONSGML v1.0//EN
CALSCALE:GREGORIAN
METHOD:PUBLISH
X-ORIGINAL-URL:https://hooveekoo.fi
X-WR-CALDESC:Tapahtumat Humallahden Venekerho
REFRESH-INTERVAL;VALUE=DURATION:PT1H
X-Robots-Tag:noindex
X-PUBLISHED-TTL:PT1H
BEGIN:VTIMEZONE
TZID:Europe/Helsinki
BEGIN:DAYLIGHT
TZOFFSETFROM:+0200
TZOFFSETTO:+0300
TZNAME:EEST
DTSTART:20200329T010000
END:DAYLIGHT
BEGIN:STANDARD
TZOFFSETFROM:+0300
TZOFFSETTO:+0200
TZNAME:EET
DTSTART:20201025T010000
END:STANDARD
BEGIN:DAYLIGHT
TZOFFSETFROM:+0200
TZOFFSETTO:+0300
TZNAME:EEST
DTSTART:20210328T010000
END:DAYLIGHT
BEGIN:STANDARD
TZOFFSETFROM:+0300
TZOFFSETTO:+0200
TZNAME:EET
DTSTART:20211031T010000
END:STANDARD
BEGIN:DAYLIGHT
TZOFFSETFROM:+0200
TZOFFSETTO:+0300
TZNAME:EEST
DTSTART:20220327T010000
END:DAYLIGHT
BEGIN:STANDARD
TZOFFSETFROM:+0300
TZOFFSETTO:+0200
TZNAME:EET
DTSTART:20221030T010000
END:STANDARD
BEGIN:DAYLIGHT
TZOFFSETFROM:+0200
TZOFFSETTO:+0300
TZNAME:EEST
DTSTART:20230326T010000
END:DAYLIGHT
BEGIN:STANDARD
TZOFFSETFROM:+0300
TZOFFSETTO:+0200
TZNAME:EET
DTSTART:20231029T010000
END:STANDARD
END:VTIMEZONE
BEGIN:VEVENT
DTSTART;TZID=Europe/Helsinki:20220112T180000
DTEND;TZID=Europe/Helsinki:20220112T210000
DTSTAMP:20260422T091604
CREATED:20211208T084722Z
LAST-MODIFIED:20220112T100230Z
UID:104372-1642010400-1642021200@hooveekoo.fi
SUMMARY:PERUTTU: Purjehdusköysien pleissausilta (LÄHIKOULUTUS)
DESCRIPTION:Tämä lähiopetuksena järjestettävä kurssi on peruutettu koronatilanteen takia.\nJos tilanne paranee oleellisesti\, harkitaan kurssin järjestämistä maaliskuussa. Siinä tapauksessa ilmoittautuminen avataan uudelleen\, vanhat ilmoittautumiset eivät ole enää voimassa.\nPleissausillassa opetellaan pleissaamaan silmukka yleisimpiin purjehdusköysiin\, eli kuorettomaan dyneemaan ja tavalliseen kuorelliseen purjehdusköyteen. Lisäksi tehdään köyteen siisti päätös taaklaamalla. Nämä mahdollistavat erilaisten taljojen\, skuuttien\, nostimien\, barskojen\, lazyjacksien ym. naruviritysten tekemisen siististi ja kestävästi. Etenkin kuoreton dyneema on helppo pleissattava ja tuosta syntyy älyttömän kätevästi siistejä taljoja ja muita\, ja tuolla voi korvata vaijerit useimmissa paikoissa. Tavallisesta kaksikerroksisesta köydestä taas syntyy nostimet ja skuuttitaljat ym. Pleissauksen edut solmuun verrattuna ovat suurempi vetolujuus (heikentää köyttä n. 10% vs. solmun n. 30%) ja pienempi takertumisherkkyys (etu esim. genaakkerin skuuteissa)\, ja onhan nuo toki myös huolitellumman näköisiä\nIltaa vetää Ville Valtonen\, jolla on pitkä tausta Teekkaripurjehtijoiden veneenhuoltotoiminnasta.\nOttakaa mukaan terävät sakset\, hakaneula\, tavallinen parsinneula\, teippiä ja tussi. (Parsinneulan ei tarvi olla mikään erikois purjehdusneula vaan tavallinen iso neula toimii hyvin\, kunhan saa millin paksuisen langan silmästä läpi). Kurssin puolesta on kaikille harjoitusköyttä ja tehdään jokaiselle oma pleissaustikku.\nKurssin luonteesta johtuen se pidetään vain\, jos olosuhteet sallivat lähiopetuksen.\nKatso Paven koronaohjeet.\n 
URL:https://hooveekoo.fi/event/purjehduskoysien-pleissausilta-lahikoulutus/
LOCATION:HSK\, Iso-Pässi -sali\, Vattuniemen puistotie 1\, Helsinki\, Finland
CATEGORIES:koulutukset
ATTACH;FMTTYPE=image/png:https://hooveekoo.fi/wp-content/uploads/taynna-DaNM37.tmp_.png
END:VEVENT
BEGIN:VEVENT
DTSTART;TZID=Europe/Helsinki:20220111T180000
DTEND;TZID=Europe/Helsinki:20220111T210000
DTSTAMP:20260422T091604
CREATED:20211208T084719Z
LAST-MODIFIED:20220111T095021Z
UID:104369-1641924000-1641934800@hooveekoo.fi
SUMMARY:Veneen kunnossapidon strategia (ETÄKOULUTUS)
DESCRIPTION:Kohderyhmä:  Veneenomistajat\, veneiden käyttäjät. Kurssi soveltuu yhtä hyvin omatoimiselle veneilijälle kuin sille\, joka teettää veneen huollon palveluna alan liikkeessä.\nTavoite:  Synnyttää kiinnostusta ja ajatuksia veneen kunnossapidon hallinnasta. Kurssilla ei opeteta minkään huoltotyön konkreettista tekemistä.\nSisältö:\n 	Kunnossapidon merkitys ja vaikutus veneen turvallisuuteen\, käyttökuntoon ja arvon säilymiseen.\n 	Ennakoiva ja korjaava huolto.\n 	Huoltotarpeiden määritys\, määräaikaiset ja syntyneeseen tarpeeseen perustuvat huollot.\n 	Huoltojen luokittelu.\n 	Huoltojen tekeminen tai teettäminen?\n 	Huoltokustannusten hallinta.\n 	Huoltotöiden seuranta\, esimerkkejä huoltotyölistoista.\nValmistautuminen etäkoulutukseen: Koulutus toteutetaan Teams-palvelun kautta. Kouluttaja lähettää linkin sähköpostilla osallistujille. Asenna tietokoneellesi Teams-applikaatio tai käytä sitä webbiselaimella lähetetyllä linkillä.\nKouluttaja: Klaus Salkola (HVK). Klasu on free-lance veneilytoimittaja ja kuvaaja (Kippari -lehti)\, vene- ja laivatekniikan asiantuntija ja insinöörikomentaja evp. Klasu on aloittanut veneilyn 60-luvulla\, ja hän on itse vastannut veneidensä kunnossapidosta samoin kuin rakentanut veneensä pääosin itse. Veneilykokemusta on kertynyt 50 vuoden ajalta runsaasti yli 100 000 mpk:n edestä.\nLisätietoja: Klaus Salkola\, klaus (at) salkola.eu\nOsallistujamäärä: 5 – 50\nIlmoittautuminen: Ilmoittautuminen tähän koulutukseen on päättynyt.\nIlmoittautuneet:\nJonotuslista:\n 
URL:https://hooveekoo.fi/event/veneen-kunnossapidon-strategia-etakoulutus/
LOCATION:Etäkoulutus\, -\, -\, Finland
CATEGORIES:koulutukset
ATTACH;FMTTYPE=image/png:https://hooveekoo.fi/wp-content/uploads/Screen-Shot-11-26-21-at-06.58-PM-WaB2aK.tmp_.png
END:VEVENT
BEGIN:VEVENT
DTSTART;TZID=Europe/Helsinki:20220110T180000
DTEND;TZID=Europe/Helsinki:20220110T210000
DTSTAMP:20260422T091604
CREATED:20211208T084716Z
LAST-MODIFIED:20220110T094652Z
UID:104366-1641837600-1641848400@hooveekoo.fi
SUMMARY:PERUTTU! Patjaston uusiminen veneeseen (LÄHIKOULUTUS)
DESCRIPTION:Etelä-Suomen Aluehallintoviraston asettamien rajoitusten johdosta kurssi siirretään pidettäväksi myöhemmin keväällä.\nKohderyhmä:  Kohderyhmänä ovat kaikki veneilijät\, joita kiinnostaa veneen patjojen uusiminen joko itse tai tilaustyönä.\nTavoite:\n 	Oppia eri patjamateriaalien plussista ja miinuksista\n 	Oppia venepatjoihin liittyviä erikoispiirteitä verhoilusta materiaalien valintaan\nKurssin sisältö: \n 	Kurssilla käydään läpi erilaiset veneen patjoihin sopivat materiaalit sekä patjojen verhoiluun liittyviä kommervenkkejä.\nKouluttaja: Jouko Välikoski Mauronet Oy. Jokke on tehnyt veneisiin tuhansia patjoja ja kehittänyt muun muassa veneisiin erinomaisesti sopivan ilmakiertopatjan.\nLisätietoja: Riikka Puntila\, rpuntila at gmail.com\nOsallistujamäärä: 5 – 20. (Listalla sijat >20 ovat jonossa mahdollisille peruutuspaikoille.)\nKurssi on täynnä 13.12 klo 15:00. Jonotuspaikalle kannattaa vielä ilmoittautua. Täytämme kurssia jonotuslistalta\, mikäli peruutuksia tulee tai koronatilanne sattuisi helpottamaan.\nIlmoittautuminen: Tilaisuuteen osallistuminen edellyttää koronapassia. Huolehdimme riittävästä väljyydestä\, käsihygieniasta ja käytämme kasvomaskeja koulutuksessa. Ilmoittumalla sitoudut tähän. Kurssi pidetään\, jos olosuhteet yleensäkin sallivat lähiopetuksen  Katso tarkemmin Paven koronaohjeet. Jos muutat mielesi osallistumisesta\, ilmoita mahdollisimman pian emaililla Riikalle\, koska kurssille saatetaan jonottaa.\nIlmoittautuneet:\nJonotuslista:\n 
URL:https://hooveekoo.fi/event/patjaston-uusiminen-veneeseen-lahikoulutus/
LOCATION:Lauttasaaren veneilijät\, Lahnalahdentie 3\, Helsinki\, Finland
CATEGORIES:koulutukset
ATTACH;FMTTYPE=image/png:https://hooveekoo.fi/wp-content/uploads/taynna-DaNM37.tmp_.png
END:VEVENT
BEGIN:VEVENT
DTSTART;TZID=Europe/Helsinki:20211214T170000
DTEND;TZID=Europe/Helsinki:20211214T190000
DTSTAMP:20260422T091604
CREATED:20210201T203106Z
LAST-MODIFIED:20211214T081805Z
UID:95169-1639501200-1639508400@hooveekoo.fi
SUMMARY:Hallituksen vaihtokokous
DESCRIPTION:
URL:https://hooveekoo.fi/event/hallituksen-vaihtokokous-3/
CATEGORIES:hallituksen kokoukset
END:VEVENT
BEGIN:VEVENT
DTSTART;TZID=Europe/Helsinki:20211116T190000
DTEND;TZID=Europe/Helsinki:20211116T210000
DTSTAMP:20260422T091604
CREATED:20210201T203005Z
LAST-MODIFIED:20211116T071646Z
UID:95150-1637089200-1637096400@hooveekoo.fi
SUMMARY:Yhdistyksen syyskokous
DESCRIPTION:
URL:https://hooveekoo.fi/event/yhdistyksen-syyskokous-6/
CATEGORIES:kerhotila_varattu
END:VEVENT
END:VCALENDAR