BEGIN:VCALENDAR
VERSION:2.0
PRODID:-//Humallahden Venekerho - ECPv6.15.20//NONSGML v1.0//EN
CALSCALE:GREGORIAN
METHOD:PUBLISH
X-WR-CALNAME:Humallahden Venekerho
X-ORIGINAL-URL:https://hooveekoo.fi
X-WR-CALDESC:Tapahtumat Humallahden Venekerho
REFRESH-INTERVAL;VALUE=DURATION:PT1H
X-Robots-Tag:noindex
X-PUBLISHED-TTL:PT1H
BEGIN:VTIMEZONE
TZID:Europe/Helsinki
BEGIN:DAYLIGHT
TZOFFSETFROM:+0200
TZOFFSETTO:+0300
TZNAME:EEST
DTSTART:20230326T010000
END:DAYLIGHT
BEGIN:STANDARD
TZOFFSETFROM:+0300
TZOFFSETTO:+0200
TZNAME:EET
DTSTART:20231029T010000
END:STANDARD
BEGIN:DAYLIGHT
TZOFFSETFROM:+0200
TZOFFSETTO:+0300
TZNAME:EEST
DTSTART:20240331T010000
END:DAYLIGHT
BEGIN:STANDARD
TZOFFSETFROM:+0300
TZOFFSETTO:+0200
TZNAME:EET
DTSTART:20241027T010000
END:STANDARD
BEGIN:DAYLIGHT
TZOFFSETFROM:+0200
TZOFFSETTO:+0300
TZNAME:EEST
DTSTART:20250330T010000
END:DAYLIGHT
BEGIN:STANDARD
TZOFFSETFROM:+0300
TZOFFSETTO:+0200
TZNAME:EET
DTSTART:20251026T010000
END:STANDARD
END:VTIMEZONE
BEGIN:VEVENT
DTSTART;TZID=Europe/Helsinki:20241014T180000
DTEND;TZID=Europe/Helsinki:20241014T200000
DTSTAMP:20260421T194416
CREATED:20240116T210312Z
LAST-MODIFIED:20241014T153142Z
UID:124913-1728928800-1728936000@hooveekoo.fi
SUMMARY:Hallituksen kokous
DESCRIPTION:
URL:https://hooveekoo.fi/event/hallituksen-kokous-18/
END:VEVENT
BEGIN:VEVENT
DTSTART;TZID=Europe/Helsinki:20241006T100000
DTEND;TZID=Europe/Helsinki:20241006T100000
DTSTAMP:20260421T194416
CREATED:20240821T130136Z
LAST-MODIFIED:20241005T151624Z
UID:126865-1728208800-1728208800@hooveekoo.fi
SUMMARY:Veneiden I nostopäivä klo 10-
DESCRIPTION:
URL:https://hooveekoo.fi/event/veneiden-i-nostopaiva-klo-10/
END:VEVENT
BEGIN:VEVENT
DTSTART;TZID=Europe/Helsinki:20240909T180000
DTEND;TZID=Europe/Helsinki:20240909T200000
DTSTAMP:20260421T194416
CREATED:20240116T210312Z
LAST-MODIFIED:20240909T134619Z
UID:124912-1725904800-1725912000@hooveekoo.fi
SUMMARY:Hallituksen kokous
DESCRIPTION:
URL:https://hooveekoo.fi/event/hallituksen-kokous-17/
END:VEVENT
BEGIN:VEVENT
DTSTART;VALUE=DATE:20240831
DTEND;VALUE=DATE:20240901
DTSTAMP:20260421T194416
CREATED:20240814T124627Z
LAST-MODIFIED:20240831T133147Z
UID:126811-1725062400-1725148799@hooveekoo.fi
SUMMARY:Hästön venetsialaiset
DESCRIPTION:
URL:https://hooveekoo.fi/event/haston-venetsialaiset/
END:VEVENT
BEGIN:VEVENT
DTSTART;TZID=Europe/Helsinki:20240815T100000
DTEND;TZID=Europe/Helsinki:20240815T110000
DTSTAMP:20260421T194416
CREATED:20240814T124627Z
LAST-MODIFIED:20240814T124627Z
UID:126810-1723716000-1723719600@hooveekoo.fi
SUMMARY:Muista varata veneen talvisäilytys 15.8-15.9 välisenä aikana
DESCRIPTION:Talvisäilytys \nVeneiden talvisäilytyspaikkojen varaus alkaa maanantaina 15.8.2024\, varaus on tehtävä 15.9.2024 mennessä. Varaus on sitova. \nVaraus tehdään kerhon kotisivuilla. \nHVK SATAMA. Tarkemmat ohjeet ja opastus tulee syyskuun aikana. \nVeneiden nostoilmoitukset HVK SATAMA kalenterinkautta Nostot/laskut\, kalenteri aukeaa syyskuun puolella. Ohjeet löytyy HVK SATAMA etusivulta. \nVeneet\, joille ei ole tehty hakemusta em. määräaikaan mennessä\, saa nostaa vasta sen jälkeen\, kun hakemuksen ajallaan jättäneiden jäsenten veneet on nostettu. Tämä tietenkin edellyttäen\, että alueella on tilaa. \n  \nHakemukset käsitellään saapumisjärjestyksessä. Etuoikeus talvipaikkaan on niillä veneillä\, joilla on laituripaikka HVK:n satamassa ja joiden talvipaikkahakemus on jätetty määräaikaan mennessä. \nMuualla laituripaikkaa pitävien jäsenten hakemukset käsitellään heti HVK:n laituripaikkalaisten nostojen jälkeen marraskuussa.
URL:https://hooveekoo.fi/event/muista-varata-veneen-talvisailytys-15-8-15-9-valisena-aikana/
END:VEVENT
BEGIN:VEVENT
DTSTART;VALUE=DATE:20240815
DTEND;VALUE=DATE:20240915
DTSTAMP:20260421T194416
CREATED:20240819T130129Z
LAST-MODIFIED:20240914T143322Z
UID:126846-1723680000-1726358399@hooveekoo.fi
SUMMARY:Veneiden talvisäilytyksen varaaminen
DESCRIPTION:
URL:https://hooveekoo.fi/event/veneiden-talvisailytyksen-varaaminen/
END:VEVENT
BEGIN:VEVENT
DTSTART;TZID=Europe/Helsinki:20240812T180000
DTEND;TZID=Europe/Helsinki:20240812T200000
DTSTAMP:20260421T194416
CREATED:20240116T210312Z
LAST-MODIFIED:20240812T124632Z
UID:124911-1723485600-1723492800@hooveekoo.fi
SUMMARY:Hallituksen kokous
DESCRIPTION:
URL:https://hooveekoo.fi/event/hallituksen-kokous-16/
END:VEVENT
BEGIN:VEVENT
DTSTART;TZID=Europe/Helsinki:20240627T170000
DTEND;TZID=Europe/Helsinki:20240627T190000
DTSTAMP:20260421T194416
CREATED:20240224T235423Z
LAST-MODIFIED:20240627T113156Z
UID:125365-1719507600-1719514800@hooveekoo.fi
SUMMARY:Katsastus- ja toimistoilta
DESCRIPTION:
URL:https://hooveekoo.fi/event/katsastusilta-9/
END:VEVENT
BEGIN:VEVENT
DTSTART;TZID=Europe/Helsinki:20240618T170000
DTEND;TZID=Europe/Helsinki:20240618T190000
DTSTAMP:20260421T194416
CREATED:20240224T235423Z
LAST-MODIFIED:20240618T113510Z
UID:125364-1718730000-1718737200@hooveekoo.fi
SUMMARY:Katsastus- ja toimistoilta
DESCRIPTION:
URL:https://hooveekoo.fi/event/katsastusilta-8/
END:VEVENT
BEGIN:VEVENT
DTSTART;TZID=Europe/Helsinki:20240613T170000
DTEND;TZID=Europe/Helsinki:20240613T190000
DTSTAMP:20260421T194416
CREATED:20240224T235423Z
LAST-MODIFIED:20240611T042017Z
UID:125363-1718298000-1718305200@hooveekoo.fi
SUMMARY:Katsastus- ja toimistoilta
DESCRIPTION:
URL:https://hooveekoo.fi/event/katsastusilta-7/
END:VEVENT
BEGIN:VEVENT
DTSTART;TZID=Europe/Helsinki:20240610T180000
DTEND;TZID=Europe/Helsinki:20240610T200000
DTSTAMP:20260421T194416
CREATED:20240116T210258Z
LAST-MODIFIED:20240610T040415Z
UID:124910-1718042400-1718049600@hooveekoo.fi
SUMMARY:Hallituksen kokous
DESCRIPTION:
URL:https://hooveekoo.fi/event/hallituksen-kokous-15/
END:VEVENT
BEGIN:VEVENT
DTSTART;TZID=Europe/Helsinki:20240606T170000
DTEND;TZID=Europe/Helsinki:20240606T190000
DTSTAMP:20260421T194416
CREATED:20240224T235159Z
LAST-MODIFIED:20240606T040343Z
UID:125361-1717693200-1717700400@hooveekoo.fi
SUMMARY:Katsastus- ja toimistoilta
DESCRIPTION:
URL:https://hooveekoo.fi/event/katsastusilta-6/
END:VEVENT
BEGIN:VEVENT
DTSTART;VALUE=DATE:20240606
DTEND;VALUE=DATE:20240607
DTSTAMP:20260421T194416
CREATED:20240224T235159Z
LAST-MODIFIED:20240606T040342Z
UID:125362-1717632000-1717718399@hooveekoo.fi
SUMMARY:Tallinnan eskaderi
DESCRIPTION:
URL:https://hooveekoo.fi/event/tallinnan-eskaderi/
END:VEVENT
BEGIN:VEVENT
DTSTART;TZID=Europe/Helsinki:20240530T170000
DTEND;TZID=Europe/Helsinki:20240530T190000
DTSTAMP:20260421T194416
CREATED:20240224T235158Z
LAST-MODIFIED:20240530T035011Z
UID:125360-1717088400-1717095600@hooveekoo.fi
SUMMARY:Katsastusilta (toimisto ei auki)
DESCRIPTION:
URL:https://hooveekoo.fi/event/katsastusilta-5/
END:VEVENT
BEGIN:VEVENT
DTSTART;TZID=Europe/Helsinki:20240525T120000
DTEND;TZID=Europe/Helsinki:20240525T140000
DTSTAMP:20260421T194416
CREATED:20240224T235158Z
LAST-MODIFIED:20240525T034710Z
UID:125359-1716638400-1716645600@hooveekoo.fi
SUMMARY:Hästön talkoot
DESCRIPTION:
URL:https://hooveekoo.fi/event/haston-talkoot/
END:VEVENT
BEGIN:VEVENT
DTSTART;TZID=Europe/Helsinki:20240523T170000
DTEND;TZID=Europe/Helsinki:20240523T190000
DTSTAMP:20260421T194416
CREATED:20240224T235005Z
LAST-MODIFIED:20240523T034653Z
UID:125358-1716483600-1716490800@hooveekoo.fi
SUMMARY:Katsastus- ja toimistoilta
DESCRIPTION:
URL:https://hooveekoo.fi/event/katsastusilta-4/
END:VEVENT
BEGIN:VEVENT
DTSTART;TZID=Europe/Helsinki:20240518T130000
DTEND;TZID=Europe/Helsinki:20240518T160000
DTSTAMP:20260421T194416
CREATED:20240219T233408Z
LAST-MODIFIED:20240518T033320Z
UID:125318-1716037200-1716048000@hooveekoo.fi
SUMMARY:Veneiden yhteislaskupäivä
DESCRIPTION:Paikalla myös Presto Sammutinhuolto klo 12-14
URL:https://hooveekoo.fi/event/veneiden-yhteislaskupaiva-2/
END:VEVENT
BEGIN:VEVENT
DTSTART;VALUE=DATE:20240517
DTEND;VALUE=DATE:20240526
DTSTAMP:20260421T194416
CREATED:20231208T210007Z
LAST-MODIFIED:20240525T040403Z
UID:124559-1715904000-1716681599@hooveekoo.fi
SUMMARY:Venepäällikkökurssin näyttökoe (LÄHIKOULUTUS\, 335€)
DESCRIPTION:Kohderyhmä: Moottoriveneilijät\, joilla on hyväksytysti suoritettu venepäällikkökurssin teoriakoe.\nSuoritustapa: Käytännön kokeessa voidaan käyttää tutkintoon osallistuvan omaa venettä\, jonka tulee olla vähintään luokkaan 3 katsastettu. Koe voidaan toteuttaa vastaavalla jonkun muunkin omistamalla veneellä. Ajokokeeseen osallistuu 2–4 kurssilaista kerrallaan.\nKukin tutkintoon osallistuva toimii vuorollaan aluksen päällikkönä.\nTutkinnon vastaanottaja antaa tutkinnon aikana tehtäviä ja arvostelee niiden suoritusta seuraamalla kokelaan kokonaiskäyttäytymistä veneen päällikkönä ja erikseen osatehtävien toteutusta.\nKoulutus ja suoritusjärjestelyt: Käytännön koe on suunniteltu suoritettavaksi 17.5\, 18.5\, 19.5\, 24.5 tai 25.5 aikana. Tarkempi kellonaika\, paikka ja käytettävä vene tarkentuu lähempänä ajankohtaa. Aikaa on hyvä varata noin 4 tuntia (30 min satamassa valmistelut\, siirtoajot ja käytännön koe kolme tuntia ja käytännön kokeen arviointikeskustelut 30 min).\nKäytännön kokeen kulku:\n 	Näyttö suoritetaan ajamalla näytön vastaanottajan määrittelemien lähtötietojen mukaisesti kokelaan suunnittelemalla reitillä\, joka koostuu sekä merkityistä väylistä että muusta vesialueesta.\n 	Näytön vastaanottava veneilykouluttaja päättää vesillä annetun näyttökokeen laajuudesta ja yksityiskohdista perehdyttyään kokelaan osaamiseen teoriakokeeseen ja ennakkotehtävään perustuen. Ennakkotehtävä on palautettava vähintään viikkoa ennen näyttökoetta.\n 	Arvioitu näyttökokeen suoritusaika on vähintään 45 minuuttia kokeeseen osallistuvaa kohti.\n 	Kokeeseen tulee sisältyä vähintään seuraavat osiot: valmistautuminen ja veneen lähtökuntoon laitto\, lähtö\, matka-ajo koneella\, hätätilanteet\, MOB\, rantautuminen\, toiminta huviveneen päällikkönä.\n 	Kokeen jälkeen kokeen vastaanottaja käy kokeeseen osallistuneen kanssa läpi esille tulleet huomiot.\nKokeen aikana vastuu käytettävästä veneestä on veneen omistajalla\, jolla on oikeus olla läsnä suoritusta valvomassa. Hän voi kieltäytyä sellaisista kokeeseen määritellyistä tehtävistä\, jotka voivat perustellusta syystä olla vaaraksi veneelle tai siinä oleville. Aluksen päällikkönä ollessaan tutkintoon osallistuva voi kieltäytyä sellaisesta tehtävästä\, jonka hän katsoo voivan aiheuttaa vaaran alukselle tai siinä olevien turvallisuudelle.\nKurssimaksu: Käytännön kokeen suoritusmaksu on 335 € (sis. alv 24 %) sisältäen ennakkotehtävät ja veneilijän CV’n tutustumisen sekä näyttökokeen suorittamisen ja arvioinnin pääkaupunkiseudulla. Käytettävästä veneestä ja kustannuksista näyttökokeen antavan oma vene(???). Maksuohjeen saat ilmoittautumisen yhteydessä\, joka tulee olla suoritettu ennen käytännön kokeen aloittamista.\nKouluttaja: Jori Kosonen (HVK)\, SPV:n auktorisoima veneilykouluttaja ja katsastaja (SPV\, HVK)\, vuokraveneen- ja huviveneenkuljettajakirja (Traficom).\nLisätietoja: Jori@turvallistaveneilya.fi\nIlmoittautuminen:  Jos muutat mielesi osallistumisesta\, ilmoita mahdollisimman pian emaililla Jorille. Tulethan koulutukseen terveenä.\nOsallistujamäärä: 2 – 24\nIlmoittautuneet: /24\nJonotuslista:
URL:https://hooveekoo.fi/event/venepaallikkokurssin-nayttokoe-lahikoulutus-335e/
LOCATION:Humallahden Venekerho\, Rajasaarenpenger 6\, Helsinki\, Suomi
CATEGORIES:koulutukset
ATTACH;FMTTYPE=image/jpeg:https://hooveekoo.fi/wp-content/uploads/IMG_7087-scaled-QR9cfI.tmp_.jpg
END:VEVENT
BEGIN:VEVENT
DTSTART;VALUE=DATE:20240517
DTEND;VALUE=DATE:20240520
DTSTAMP:20260421T194416
CREATED:20231208T210005Z
LAST-MODIFIED:20240519T034627Z
UID:124557-1715904000-1716163199@hooveekoo.fi
SUMMARY:Veneilijäkurssin näyttökoe (LÄHIKOULUTUS\, n. 225€)
DESCRIPTION:Kohderyhmä: Hyväksytysti suoritettu veneilijäkurssin teoriakoe.\nSuoritustapa: Käytännön kokeessa voidaan käyttää tutkintoon osallistuvan omaa venettä\, jonka tulee olla vähintään luokkaan 3 katsastettu. Koe voidaan toteuttaa vastaavalla jonkun muunkin omistamalla veneellä. Ajokokeeseen osallistuu 2–4 kurssilaista kerrallaan.\nKoulutus ja suoritusjärjestelyt: Käytännön koe on suunniteltu suoritettavaksi 17.5\, 18.5 tai 19.5.2024 aikana. Tarkempi kellonaika\, paikka ja käytettävä vene tarkentuu lähempänä ajankohtaa. Aikaa on hyvä varata noin 4 tuntia (30 min satamassa valmistelut\, siirtoajot ja käytännön koe kolme tuntia ja käytännön kokeen arviointikeskustelut 30 min).\nKäytännön kokeen kulku:\n 	Kokeen suoritusaika vähintään 30 minuuttia kokeeseen osallistuvaa kohti. Siirtymäajoon käytettävää aikaa ei lasketa kuuluvaksi koeaikaan.\n 	Koe suoritetaan vallitsevissa olosuhteissa\, jotka kurssitavoitteen mukaisesti ovat: päivän valoisa aika\, hyvät näkyvyysolosuhteet\, tuuli ja aallokko venetyyppi huomioiden enintään kohtuulliset.\n 	Kokeeseen tulee sisältyä vähintään seuraavat osiot: Lähtö ja rantautuminen\, poijuun kiinnittyminen\, kylkikiinnitykseen tai toisen veneen kylkeen kiinnittyminen ja ohjailu annetun suunnan ja kiintopisteen mukaan\n 	Kokeen kuluessa kokeen vastaanottajan on tehtävä havainnot\, että seuraavia noudatetaan: vesiteiden säännöt\, tähystys ja hyvä merimiestapa (aallokon muodostaminen\, muiden huomioiminen\, vesialueen erityisolot)\n 	Kokeen jälkeen kokeen vastaanottaja käy kokeeseen osallistuneen kanssa läpi esille tulleet huomiot.\nKokeen aikana vastuu käytettävästä veneestä on veneen omistajalla\, jolla on oikeus olla läsnä suoritusta valvomassa. Hän voi kieltäytyä sellaisista kokeeseen määritellyistä tehtävistä\, jotka voivat perustellusta syystä olla vaaraksi veneelle tai siinä oleville.\nKurssimaksu: Arvioitu käytännön kokeen arvioitu suoritusmaksu on 225 € (sis. alv 24 %)\, riippuen käytettävästä veneestä ja suorituspaikasta. Maksuohjeen saat ilmoittautumisen yhteydessä\, joka tulee olla suoritettu ennen käytännön kokeen aloittamista.\nKouluttaja: Jori Kosonen (HVK)\, SPV:n auktorisoima veneilykouluttaja ja katsastaja (SPV\, HVK)\, vuokraveneen- ja huviveneenkuljettajakirja (Traficom).\nLisätietoja: Jori@turvallistaveneilya.fi\nIlmoittautuminen:  Jos muutat mielesi osallistumisesta\, ilmoita mahdollisimman pian emaililla Jorille. Tulethan koulutukseen terveenä.\nOsallistujamäärä: 2 – 24\nIlmoittautuneet: /24\nJonotuslista:
URL:https://hooveekoo.fi/event/veneilijakurssin-nayttokoe-lahikoulutus-n-225e/
LOCATION:Humallahden Venekerho\, Rajasaarenpenger 6\, Helsinki\, Suomi
CATEGORIES:koulutukset
ATTACH;FMTTYPE=image/jpeg:https://hooveekoo.fi/wp-content/uploads/IMG_E0252-scaled-leK8Aw.tmp_.jpg
END:VEVENT
BEGIN:VEVENT
DTSTART;TZID=Europe/Helsinki:20240516T170000
DTEND;TZID=Europe/Helsinki:20240516T190000
DTSTAMP:20260421T194416
CREATED:20240224T235005Z
LAST-MODIFIED:20240516T033259Z
UID:125357-1715878800-1715886000@hooveekoo.fi
SUMMARY:Katsastus- ja toimistoilta
DESCRIPTION:
URL:https://hooveekoo.fi/event/katsastusilta-3/
END:VEVENT
BEGIN:VEVENT
DTSTART;TZID=Europe/Helsinki:20240513T180000
DTEND;TZID=Europe/Helsinki:20240513T200000
DTSTAMP:20260421T194416
CREATED:20240307T011010Z
LAST-MODIFIED:20240513T033127Z
UID:125470-1715623200-1715630400@hooveekoo.fi
SUMMARY:Hallituksen kokous
DESCRIPTION:
URL:https://hooveekoo.fi/event/hallituksen-kokous-21/
END:VEVENT
BEGIN:VEVENT
DTSTART;TZID=Europe/Helsinki:20240511T120000
DTEND;TZID=Europe/Helsinki:20240511T140000
DTSTAMP:20260421T194416
CREATED:20231208T205804Z
LAST-MODIFIED:20240511T033440Z
UID:124555-1715428800-1715436000@hooveekoo.fi
SUMMARY:Alkusammutuskoulutus (LÄHIKOULUTUS)
DESCRIPTION:Melkein jokaisessa veneessä on sammutin\, mutta harva on oikeasti sitä koskaan kokeillut. Kaikki paikalle tulijat ovat tervetulleita katsomaan tai osallistumaan.\nKoulutuksen sisältö:\nKäytönnönläheinen harjoittelu ja infotilaisuus\, jossa mahdollisuus turvallisesti kokeilla jauhesammuttimella sammuttamista. Lisäksi harjoitellaan sammutuspeitteellä kattila- tai rasvapalon sammuttamista. Paikalla Lauttasaaren VPK:n paloauto ja demonstroimme myös palokunnan toimintaa pienimuotoisella sammutusnäytöksellä.\nLisätietoja: Kirsi Kautto kirsi ( at ) syduetto.fi\nIlmoittautuminen: Ei ennakkoilmoittautumista.\n \nTavaratori:\nPaikalla myös Pursiseura Sindbadin tavaratori klo 9-14.\nKäytettyjen venevarusteiden kirpputorille voit tulla myymään tai ostamaan ilman ennakkoilmaoittautumisia ja myyntipaikat ovat maksuttomia. Järjestäjä ei vastaa myyntipöydistä\, joten oma myyntipöytä\, teline tms. on tarpeen.\n \n 
URL:https://hooveekoo.fi/event/alkusammutuskoulutus-lahikoulutus/
LOCATION:Pursiseura Sindbad\, Vattuniemenranta 5\, Helsinki\, Suomi
CATEGORIES:koulutukset
ATTACH;FMTTYPE=image/png:https://hooveekoo.fi/wp-content/uploads/alkusammutuskoulutus-eTEXW4.tmp_.png
END:VEVENT
BEGIN:VEVENT
DTSTART;TZID=Europe/Helsinki:20240511T090000
DTEND;TZID=Europe/Helsinki:20240511T160000
DTSTAMP:20260421T194416
CREATED:20231208T205804Z
LAST-MODIFIED:20240511T033440Z
UID:124554-1715418000-1715443200@hooveekoo.fi
SUMMARY:Tavaratori (LÄHITILAISUUS)
DESCRIPTION:Tervetuloa mukaan pursiseura Sindbadin tavaratorille! Käytettyjen venevarusteiden kirpputorille voit tulla myymään tai ostamaan ilman ennakkoilmoittautumisia ja myyntipaikat ovat maksuttomia. Toki voi täällä muutakin kuin veneilytarvikkeita myydä ja ostaa. Järjestäjä ei vastaa myyntipöydistä\, joten oma myyntipöytä\, teline tms. on tarpeen.\nPaikalla järjestetään myös alkusammutuskoulutusta  klo 12-14.\nLisätietoja Kari Kokkonen\, karikalevi.kokkonen@gmail.com\, 040-5346629\, www.pursiseurasindbad.fi\nEi ennakkoilmoittautumista
URL:https://hooveekoo.fi/event/tavaratori-lahitilaisuus-2/
LOCATION:Pursiseura Sindbad\, Vattuniemenranta 5\, Helsinki\, Suomi
CATEGORIES:koulutukset
ATTACH;FMTTYPE=image/jpeg:https://hooveekoo.fi/wp-content/uploads/Tavaratori_1000-SJkhtX.tmp_.jpg
END:VEVENT
BEGIN:VEVENT
DTSTART;TZID=Europe/Helsinki:20240507T180000
DTEND;TZID=Europe/Helsinki:20240507T210000
DTSTAMP:20260421T194416
CREATED:20231208T205804Z
LAST-MODIFIED:20240507T034124Z
UID:124553-1715104800-1715115600@hooveekoo.fi
SUMMARY:PERUTTU - Iltapurjehdus Joanna Saturnalla (LÄHITILAISUUS\, 30€)
DESCRIPTION:Sinulla ja miehistölläsi on loistava mahdollisuus tulla tutustumaan iltapurjehduksen myötä yli satavuotiaaseen kahvelikuunari Joanna Saturnaan\, joka ostettiin Suomeen v.2000. Aluksen kippari Mikko Karvonen esittelee aluksi laivaansa kertoen sen historiasta ja kunnostuksesta. Esittely jälkeen teemme parin tunnin purjehduksen lähivesille. Vierailijat pääsevät itse nostamaan purjeita sekä osallistumaan käytännön toimiin purjehduksen aikana.\nJoanna Saturna on hyväksytty Museoviraston ylläpitämään perinnepurjelaivarekisteriin ja on Suomen vanhin charter-toimintaa harjoittava purjealus. Alus jatkaa perinteitä kunnioittavaa meritaivalta kouluttamalla nuoria sekä tarjoamalla elämyksiä Itämerellä charter-liikenteen myötä.\nHinta: 30€ maksetaan käteisellä paikan päällä (sisältää kahvitarjoilun ja leivonnaisen)\nLisätietoja: Lars Andtfolk PSS\,  pave(at)lars.fastmail.fm\nOsallistujamäärä: 20 – 50\nIlmoittautuminen: Jos muutat mielesi osallistumisesta\, ilmoita mahdollisimman pian emaililla Larsille\, koska tapahtumaan saatetaan jonottaa.\nIlmoittautuneet: /50.\nJonotuslista:\n 
URL:https://hooveekoo.fi/event/iltapurjehdus-joanna-saturnalla-lahitilaisuus-30e/
LOCATION:Pursiseura Sindbad\, Vattuniemenranta 5\, Helsinki\, Suomi
CATEGORIES:koulutukset
ATTACH;FMTTYPE=image/gif:https://hooveekoo.fi/wp-content/uploads/PERUTTU_5-RmxuUm.tmp_.gif
END:VEVENT
BEGIN:VEVENT
DTSTART;TZID=Europe/Helsinki:20240507T170000
DTEND;TZID=Europe/Helsinki:20240507T190000
DTSTAMP:20260421T194416
CREATED:20240224T235005Z
LAST-MODIFIED:20240507T033506Z
UID:125356-1715101200-1715108400@hooveekoo.fi
SUMMARY:Katsastusilta
DESCRIPTION:
URL:https://hooveekoo.fi/event/katsastusilta-2/
END:VEVENT
BEGIN:VEVENT
DTSTART;TZID=Europe/Helsinki:20240502T170000
DTEND;TZID=Europe/Helsinki:20240502T190000
DTSTAMP:20260421T194416
CREATED:20240224T235005Z
LAST-MODIFIED:20240502T032003Z
UID:125355-1714669200-1714676400@hooveekoo.fi
SUMMARY:Katsastusilta
DESCRIPTION:
URL:https://hooveekoo.fi/event/katsastusilta/
END:VEVENT
BEGIN:VEVENT
DTSTART;TZID=Europe/Helsinki:20240501T110000
DTEND;TZID=Europe/Helsinki:20240501T120000
DTSTAMP:20260421T194416
CREATED:20240224T234816Z
LAST-MODIFIED:20240501T032223Z
UID:125354-1714561200-1714564800@hooveekoo.fi
SUMMARY:Lipun nosto
DESCRIPTION:
URL:https://hooveekoo.fi/event/lipun-nosto/
END:VEVENT
BEGIN:VEVENT
DTSTART;TZID=Europe/Helsinki:20240427T130000
DTEND;TZID=Europe/Helsinki:20240427T160000
DTSTAMP:20260421T194416
CREATED:20240219T233408Z
LAST-MODIFIED:20240427T031719Z
UID:125317-1714222800-1714233600@hooveekoo.fi
SUMMARY:Veneiden yhteislaskupäivä
DESCRIPTION:Paikalla myös Presto Sammutinhuolto oy klo 12-14
URL:https://hooveekoo.fi/event/veneiden-yhteislaskupaiva/
END:VEVENT
BEGIN:VEVENT
DTSTART;TZID=Europe/Helsinki:20240427T000000
DTEND;TZID=Europe/Helsinki:20240504T000000
DTSTAMP:20260421T194416
CREATED:20240223T013651Z
LAST-MODIFIED:20240503T033123Z
UID:125337-1714176000-1714780800@hooveekoo.fi
SUMMARY:Vanhentuneiden hätäsoihtujen ja -rakettien  keräys
DESCRIPTION:Keräyksessä mukana olevat kerhot järjestävät vanhentuneiden rakettien ja soihtujen keräyksen vappuviikolla. Veneseurat tiedottavat kukin keräyskäytännöstä jäsenilleen erikseen. Poliisit kerää soihdut ja raketit kerhoilta talteen.\nHuomioi myös mahdollisuus hävittää vanhentuneet raketit Meripelastusseuran hätämerkinantoharjoituksessa la. 9.3.2024 (kts PAVE Tapahtuma)\nTähän tapahtumaan ei ilmoitatuduta erikseen\, seuraa veneseurasi tiedotusta käytännöistä. \nHVK: Veneiden ensimmäisen yhteislaskun yhteydessä järjestetään vanhentuneiden hätärakettien ja soihtujen keräys. Raketit ja soihdut voi tuoda telakka-alueen jätepisteen peltikaappiin lauantaina 27.4. klo 13:00 alkaen ja sitä seuraavana päivänä klo 15-16 välisenä aikana. Telakkamestari Henrik Westerholm on paikalla ottamassa niitä vastaan.
URL:https://hooveekoo.fi/event/vanhentuneiden-hatasoihtujen-ja-rakettien-kerays/
CATEGORIES:koulutukset
ATTACH;FMTTYPE=image/webp:https://hooveekoo.fi/wp-content/uploads/ikaros-rocket-parachute-hand-flare-500x500-500x500-1-UebDaO.tmp_.webp
END:VEVENT
BEGIN:VEVENT
DTSTART;TZID=Europe/Helsinki:20240424T190000
DTEND;TZID=Europe/Helsinki:20240424T210000
DTSTAMP:20260421T194416
CREATED:20240224T234815Z
LAST-MODIFIED:20240424T031854Z
UID:125353-1713985200-1713992400@hooveekoo.fi
SUMMARY:Sääntömääräinen kevätkokous
DESCRIPTION:Yhdistyksen kevätkokous 24.4 klo 19
URL:https://hooveekoo.fi/event/saantomaarainen-kevatkokous/
END:VEVENT
END:VCALENDAR