BEGIN:VCALENDAR
VERSION:2.0
PRODID:-//Humallahden Venekerho - ECPv6.15.20//NONSGML v1.0//EN
CALSCALE:GREGORIAN
METHOD:PUBLISH
X-ORIGINAL-URL:https://hooveekoo.fi
X-WR-CALDESC:Tapahtumat Humallahden Venekerho
REFRESH-INTERVAL;VALUE=DURATION:PT1H
X-Robots-Tag:noindex
X-PUBLISHED-TTL:PT1H
BEGIN:VTIMEZONE
TZID:Europe/Helsinki
BEGIN:DAYLIGHT
TZOFFSETFROM:+0200
TZOFFSETTO:+0300
TZNAME:EEST
DTSTART:20220327T010000
END:DAYLIGHT
BEGIN:STANDARD
TZOFFSETFROM:+0300
TZOFFSETTO:+0200
TZNAME:EET
DTSTART:20221030T010000
END:STANDARD
BEGIN:DAYLIGHT
TZOFFSETFROM:+0200
TZOFFSETTO:+0300
TZNAME:EEST
DTSTART:20230326T010000
END:DAYLIGHT
BEGIN:STANDARD
TZOFFSETFROM:+0300
TZOFFSETTO:+0200
TZNAME:EET
DTSTART:20231029T010000
END:STANDARD
BEGIN:DAYLIGHT
TZOFFSETFROM:+0200
TZOFFSETTO:+0300
TZNAME:EEST
DTSTART:20240331T010000
END:DAYLIGHT
BEGIN:STANDARD
TZOFFSETFROM:+0300
TZOFFSETTO:+0200
TZNAME:EET
DTSTART:20241027T010000
END:STANDARD
END:VTIMEZONE
BEGIN:VEVENT
DTSTART;TZID=Europe/Helsinki:20230525T180000
DTEND;TZID=Europe/Helsinki:20230525T200000
DTSTAMP:20260423T080920
CREATED:20230419T142808Z
LAST-MODIFIED:20230509T084849Z
UID:120223-1685037600-1685044800@hooveekoo.fi
SUMMARY:Tallinnan eskaaderin suunnittelupalaveri
DESCRIPTION:Tervetuloa mukaan suunnittelupalaveriin kaikki Tallinnan eskaaderista 8-11.6 kiinnostuneet. Mukaan kannattaa tulla kiinnostuneiden\, mutta myös osallistumisestaan epävarmojenkin. Hyvin valmistautumalla\, oikealla asenteella ja oikeassa säässä ylityksen voi tehdä turvallisesti lähes kaiken tyyppisillä veneillä. \nIllan aikana käydään läpi seuraavia asioita: \n1. Eskaaderiohjelmasta sopiminen \n\nVaihtoehdot ylitykselle sään ja toivomuksien mukaan (suoraan tai Hästön kautta).\nOhjelma perillä\, tyypillisesti on ollut yhteinen illallinen sekä vierailu tai kulttuuriohjelmaa.\nOsallistumismaksu ja mitä siihen sisältyy.\n\n2. Eskaaderiajo \n\nEskaaderiajossa mennään ryhmässä ja hitaamman vauhdin mukaan. Matkaa taitetaan usein 7-8 solmun vauhdilla.\nLiukuvilla veneillä matkaavilla on mahdollisuus ajaa suoraan omassa tahdissaan tai muodostaa omia ryhmiä.\nVHF:n käyttö (ei pakollinen varuste).\n\n3. Matkaan valmistautuminen \n\nReittisuunnitelma.\nSääennuste / missä kelissä mennään\, missä ei?\nVeneen valmistelu matkaan.\nMiehistön valmistautuminen matkaan.\n\nTilaisuuden vetää eskaaderin johtaja Henrik Westerholm ( henckaw (at) gmail.com )\, joka antaa lisätietoja ja ottaa myös ilmoittautumiset eskaaderille vastaan.
URL:https://hooveekoo.fi/event/tallinnan-eskaaderin-suunnittelupalaveri/
LOCATION:Humallahden Venekerho\, Rajasaarenpenger 6\, Helsinki\, Finland
CATEGORIES:eskaaderi,kerhotila_varattu,koulutukset
ATTACH;FMTTYPE=image/jpeg:https://hooveekoo.fi/wp-content/uploads/IMG_9133.jpg
END:VEVENT
END:VCALENDAR